Workbook

Sheet Desglose pago
A1: Periodo | B1: Septiembre | D1: Concepto | E1: Tlacuaches | F1: SADCAL | G1: Suma | H1: Pagado | I1: Fecha límite
A2: Ejercicio | B2: 2024 | D2: ISR PM | E2: 0 | F2: 0 | G2: =E2+F2 -> 0 | H2: TRUE
D3: IVA PM | E3: =IVA!J75 -> 6892 | F3: =IVA!J74 -> 323 | G3: =E3+F3 -> 7215 | H3: TRUE
D4: Ret. ISR Sueldos | E4: 267 | F4: 0 | G4: =E4+F4 -> 267 | H4: TRUE
D5: Ret. ISR Asimilados | E5: 0 | F5: 0 | G5: =E5+F5 -> 0 | H5: TRUE
D6: Ret. IVA | E6: 0 | F6: 494 | G6: =E6+F6 -> 494 | H6: TRUE
D7: Ret. ISR Honorarios | E7: 0 | F7: 450 | G7: =E7+F7 -> 450 | H7: TRUE
D8: Ret. ISR RESICO | E8: 2 | F8: 0 | G8: =E8+F8 -> 2 | H8: TRUE
D9: Ret. ISR Arrendamiento | E9: 0 | F9: 0 | G9: =E9+F9 -> 0 | H9: TRUE
D10: Ret. ISR Dividendos | E10: 0 | F10: 0 | G10: =E10+F10 -> 0 | H10: TRUE
D11: Cuotas IMSS mensual | E11: 1907.25 | F11: 0 | G11: =E11+F11 -> 1907.25 | H11: TRUE
D12: Cuotas RCV/SAR | E12: 0 | F12: 0 | G12: =E12+F12 -> 0 | H12: TRUE
D13: Cuotas INFONAVIT | E13: 0 | F13: 0 | G13: =E13+F13 -> 0 | H13: TRUE
D14: ISN Estado de México | E14: 266 | F14: 0 | G14: =E14+F14 -> 266 | H14: TRUE
E15: =SUM(E2:E14) -> 9334.25 | F15: =SUM(F2:F14) -> 1267 | G15: =SUM(G2:G14) -> 10601.25
D17: Pendiente de pago | E17: =E15-SUMIFS(E2:E14,$H$2:$H$14,TRUE) -> 0 | F17: =F15-SUMIFS(F2:F14,$H$2:$H$14,TRUE) -> 0 | G17: =E17+F17 -> 0
A23: Periodo | B23: Octubre | D23: Concepto | E23: Tlacuaches | F23: SADCAL | G23: Suma | H23: Pagado | I23: Fecha límite
A24: Ejercicio | B24: 2024 | D24: ISR PM | E24: 0 | F24: 0 | G24: =E24+F24 -> 0 | H24: TRUE
D25: IVA PM | E25: =IVA!K75 -> 8329 | F25: =IVA!K74 -> 1187 | G25: =E25+F25 -> 9516 | H25: TRUE
D26: Ret. ISR Sueldos | E26: =Retenciones!H12+30+3 -> 546 | F26: 0 | G26: =E26+F26 -> 546 | H26: TRUE
D27: Ret. ISR Asimilados | E27: 0 | F27: 0 | G27: =E27+F27 -> 0 | H27: TRUE
D28: Ret. IVA | E28: 0 | F28: =Retenciones!L12+28+3 -> 511 | G28: =E28+F28 -> 511 | H28: TRUE
D29: Ret. ISR Honorarios | E29: 0 | F29: =Retenciones!B12 -> 450 | G29: =E29+F29 -> 450 | H29: TRUE
D30: Ret. ISR RESICO | E30: =Retenciones!C12 -> 10 | F30: 0 | G30: =E30+F30 -> 10 | H30: TRUE
D31: Ret. ISR Arrendamiento | E31: 0 | F31: 0 | G31: =E31+F31 -> 0 | H31: TRUE
D32: Ret. ISR Dividendos | E32: 0 | F32: 0 | G32: =E32+F32 -> 0 | H32: TRUE
D33: Cuotas IMSS mensual | E33: =Contribuciones!K12+Contribuciones!O12 -> 4218.59 | F33: 0 | G33: =E33+F33 -> 4218.59 | H33: TRUE
D34: Cuotas RCV/SAR | E34: =Contribuciones!L12+Contribuciones!M12 -> 1862.11 | F34: 0 | G34: =E34+F34 -> 1862.11 | H34: TRUE
D35: Cuotas INFONAVIT | E35: =Contribuciones!N12 -> 1413.26 | F35: 0 | G35: =E35+F35 -> 1413.26 | H35: TRUE
D36: ISN Estado de México | E36: =Contribuciones!R12 -> 531 | F36: 0 | G36: =E36+F36 -> 531 | H36: TRUE
E37: =SUM(E24:E36) -> 16909.96 | F37: =SUM(F24:F36) -> 2148 | G37: =SUM(G24:G36) -> 19057.96
D39: Pendiente de pago | E39: =E37-SUMIFS(E24:E36,$H$24:$H$36,TRUE) -> 0 | F39: =F37-SUMIFS(F24:F36,$H$24:$H$36,TRUE) -> 0 | G39: =E39+F39 -> 0
A43: Periodo | B43: Noviembre | D43: Concepto | E43: Tlacuaches | F43: SADCAL | G43: Suma | H43: Pagado | I43: Fecha límite
A44: Ejercicio | B44: 2024 | D44: ISR PM | E44: 0 | F44: 0 | G44: =E44+F44 -> 0 | H44: TRUE
D45: IVA PM | E45: =IVA!L55 -> 6559 | F45: =IVA!L54 -> 2963 | G45: =E45+F45 -> 9522 | H45: FALSE
D46: Ret. ISR Sueldos | E46: =Retenciones!H13 -> 487 | F46: 0 | G46: =E46+F46 -> 487 | H46: FALSE
D47: Ret. ISR Asimilados | E47: 0 | F47: 0 | G47: =E47+F47 -> 0 | H47: TRUE
D48: Ret. IVA | E48: 0 | F48: =Retenciones!L13 -> 480 | G48: =E48+F48 -> 480 | H48: FALSE
D49: Ret. ISR Honorarios | E49: 0 | F49: 463 | G49: =E49+F49 -> 463 | H49: TRUE
D50: Ret. ISR RESICO | E50: =Retenciones!C13 -> 0 | F50: 0 | G50: =E50+F50 -> 0 | H50: TRUE
...

Sheet PP ISR
A1: SADCAL CONSULTORIA Y SOLUCIONES INTEGRALES, SA DE CV
A2: Cédula de determinación de Pagos Provisionales ISR PM
A3: Ejercicio 2024 | S3: Limite de Pérdida fiscal | T3: 190541
S4: Saldos a favor de ISR | T4: 8116
B5: Ingresos Acumulables | C5: ENERO | D5: FEBRERO | E5: MARZO | F5: ABRIL | G5: MAYO | H5: JUNIO | I5: JULIO | J5: AGOSTO | K5: SEPTIEMBRE | L5: OCTUBRE | M5: NOVIEMBRE | N5: DICIEMBRE | P5: Anual
B6: Ingresos de periodos anteriores | C6: 0 | D6: =C15 -> 51967 | E6: =D15 -> 116033 | F6: =E15 -> 266733 | G6: =F15 -> 360499 | H6: =G15 -> 453830 | I6: =H15 -> 528977 | J6: =I15 -> 653894 | K6: =J15 -> 741219 | ... N6: =M15 -> 1033377
A7: (+) | B7: Ingresos del periodo por actividades | C7: 51967 | D7: 64066 | E7: 150700 | F7: 93766 | G7: 93331 | H7: 75147 | I7: 124917 | J7: 87325 | K7: 100670 | L7: 75287 | M7: 116201 | N7: 75443 | P7: =SUM(C7:N7) -> 1108820
A8: (-) | B8: Facturación venta de activos | P8: =SUM(C8:N8) -> 0
A9: (+) | B9: Ganancia cambiaria | P9: =SUM(C9:N9) -> 0
A10: (+) | B10: Anticipos facturados | P10: =SUM(C10:N10) -> 0
A11: ( - ) | B11: Aplicación de anticipos | P11: =SUM(C11:N11) -> 0
A12: (+) | B12: Utilidad en venta de activo fijo | P12: =SUM(C12:N12) -> 0
A13: (+) | B13: Otros conceptos de ingreso | P13: =SUM(C13:N13) -> 0 | Z13: Cuentas incobrables
B14: Ingresos nominales mensuales | C14: =C7-C8+C9+C10-C11+C12+C13 -> 51967 | D14: =D7-D8+D9+D10-D11+D12+D13 -> 64066 | E14: =E7-E8+E9+E10-E11+E12+E13 -> 150700 | F14: =F7-F8+F9+F10-F11+F12+F13 -> 93766 | G14: =G7-G8+G9+G10-G11+G12+G13 -> 93331 | H14: =H7-H8+H9+H10-H11+H12+H13 -> 75147 | I14: =I7-I8+I9+I10-I11+I12+I13 -> 124917 | J14: =J7-J8+J9+J10-J11+J12+J13 -> 87325 | ... N14: =N7-N8+N9+N10-N11+N12+N13 -> 75443 | Z14: SARAHI ALFONSO CRUZ | AA14: AOCS960117B46 | AB14: S00156 | AC14: 10633.33
B15: Total de ingresos acumulables | C15: =C6+C14 -> 51967 | D15: =D6+D14 -> 116033 | E15: =E6+E14 -> 266733 | F15: =F6+F14 -> 360499 | G15: =G6+G14 -> 453830 | H15: =H6+H14 -> 528977 | I15: =I6+I14 -> 653894 | J15: =J6+J14 -> 741219 | ... N15: =N6+N14 -> 1108820 | P15: =SUM(P7:P13) -> 1108820 | Q15: =IF(N15=P15,"OK","Revisar cifras") -> OK | Z15: ETIQUETAS MODERNAS | AA15: EMO860929R31 | AB15: S00238 | AC15: 13920
Z16: NEWCHEM & COMMERCE | AA16: NAC090820FN2 | AB16: S00248 | AC16: 599
B17: Coeficiente de utilidad | C17: 0.0647 | D17: =C17 -> 0.0647 | E17: =D17 -> 0.0647 | F17: =E17 -> 0.0647 | G17: =F17 -> 0.0647 | H17: =G17 -> 0.0647 | I17: =H17 -> 0.0647 | J17: =I17 -> 0.0647 | K17: 0.0591 | L17: =K17 -> 0.0591 | M17: =L17 -> 0.0591 | N17: =M17 -> 0.0591 | P17: =P15-IVA!N37+T21-T22-T24-T25-T27-T29-T30 -> 287156.2 | Q17: Resultado fiscal | T17: =ROUND((P17-T3)*0.3,0)-T4 -> 20869 | U17: ISR Estimado | Z17: NEWCHEM & COMMERCE | AA17: NAC090820FN2 | AB17: S00200 | AC17: 599
P18: =P15-IVA!N37+T21-T22-T24-T25-T26-T27-T28-T23-T29-T30 -> 269489.27 | Q18: Resultado contable | Z18: NETZE CORPORATE INTELLIGENCE | AA18: NCI210813A76 | AB18: S00265 | AC18: 2900
B19: Utilidad estimada | C19: =ROUND(C15*C17,0) -> 3362 | D19: =ROUND(D15*D17,0) -> 7507 | E19: =ROUND(E15*E17,0) -> 17258 | F19: =ROUND(F15*F17,0) -> 23324 | G19: =ROUND(G15*G17,0) -> 29363 | H19: =ROUND(H15*H17,0) -> 34225 | I19: =ROUND(I15*I17,0) -> 42307 | J19: =ROUND(J15*J17,0) -> 47957 | ... N19: =ROUND(N15*N17,0) -> 65531 | P19: =ROUND(P17/P15,4) -> 0.259 | Z19: NETZE CORPORATE INTELLIGENCE | AA19: NCI210813A76 | AB19: S00266 | AC19: 2900
AC20: =SUM(AC14:AC19) -> 31551.33
B21: Disminuciones | S21: Adq. Activos | T21: =14991.36+9481.89+343.1+9050.86+4352.59+4352.59 -> 42572.39
B22: Acumulado de pérdidas fiscales | C22: =C23 -> 3362 | D22: =D23+C22 -> 7507 | E22: =E23+D22 -> 17258 | F22: =F23+E22 -> 23324 | G22: =G23+F22 -> 29363 | H22: =H23+G22 -> 34225 | I22: =I23+H22 -> 42307 | J22: =J23+I22 -> 47957 | K22: =K23+J22 -> 49756 | ... N22: =N23+M22 -> 65531 | S22: Deduc. Fiscal | T22: 12543
B23: Aplicación de pérdidas fiscales | C23: 3362 | D23: 4145 | E23: 9751 | F23: 6066 | G23: 6039 | H23: 4862 | I23: 8082 | J23: 5650 | K23: 1799 | L23: 4449 | M23: 6868 | N23: 4458 | S23: Deprec. Contable | T23: 11661.21
B24: Acumulado de PTU pagada | C24: =C25 -> 0 | D24: =D25+C24 -> 0 | E24: =E25+D24 -> 0 | F24: =F25+E24 -> 0 | G24: =G25+F24 -> 0 | H24: =H25+G24 -> 0 | I24: =I25+H24 -> 0 | J24: =J25+I24 -> 0 | K24: =K25+J24 -> 0 | ... N24: =N25+M24 -> 0 | S24: Nómina Deducible gravada | T24: =NominaEdoMex!D47 -> 94829.77
B25: PTU pagada en el ejercicio | S25: Nómina Deducible exenta | T25: =ROUND(NominaEdoMex!E47*0.53,2) -> 2199.88
B26: Total de disminuciones | C26: =C22+C24 -> 3362 | D26: =D22+D24 -> 7507 | E26: =E22+E24 -> 17258 | F26: =F22+F24 -> 23324 | G26: =G22+G24 -> 29363 | H26: =H22+H24 -> 34225 | I26: =I22+I24 -> 42307 | J26: =J22+J24 -> 47957 | ... N26: =N22+N24 -> 65531 | S26: Nómina ND | T26: =NominaEdoMex!E47-T25 -> 1950.83
S27: Contribuciones | T27: =Contribuciones!AB15 -> 34878.39
B28: Base gravable para pago provisional | C28: =C19-C26 -> 0 | D28: =D19-D26 -> 0 | E28: =E19-E26 -> 0 | F28: =F19-F26 -> 0 | G28: =G19-G26 -> 0 | H28: =H19-H26 -> 0 | I28: =I19-I26 -> 0 | J28: =J19-J26 -> 0 | ... N28: =N19-N26 -> 0 | S28: Otros ND | T28: =Y34+Contribuciones!Z15+Retenciones!S15+SUM('Dispersion gastos'!AJ3:AJ743) -> 4054.89
S29: Otros DEDUCIBLES | T29: =Y35+Contribuciones!AA15+Retenciones!T15+AC20 -> 37359
A30: (x) | B30: Tasa Artículo 9 LISR | C30: 0.3 | D30: 0.3 | E30: 0.3 | F30: 0.3 | G30: 0.3 | H30: 0.3 | I30: 0.3 | J30: 0.3 | K30: 0.3 | L30: 0.3 | M30: 0.3 | N30: 0.3 | S30: Descuentos sobre ventas | T30: =366.4+15.75 -> 382.15
A32: (=) | B32: IMPUESTO CAUSADO | C32: =ROUND(C28*C30,0) -> 0 | D32: =ROUND(D28*D30,0) -> 0 | E32: =ROUND(E28*E30,0) -> 0 | F32: =ROUND(F28*F30,0) -> 0 | G32: =ROUND(G28*G30,0) -> 0 | H32: =ROUND(H28*H30,0) -> 0 | I32: =ROUND(I28*I30,0) -> 0 | J32: =ROUND(J28*J30,0) -> 0 | ... N32: =ROUND(N28*N30,0) -> 0 | U32: Impuestos Federales Espontaneos
V33: 2022 | W33: 2023 | X33: 2024 | Y33: Sumas
A34: (-) | B34: Pagos Provisionales de periodos anteriores | C34: 0 | D34: =C34+C35 -> 0 | E34: =D34+D35 -> 0 | F34: =E34+E35 -> 0 | G34: =F34+F35 -> 0 | H34: =G34+G35 -> 0 | I34: =H34+H35 -> 0 | J34: =I34+I35 -> 0 | K34: =J34+J35 -> 0 | ... N34: =M34+M35 -> 0 | U34: Actualización (No Deduc) | V34: =133+191 -> 324 | W34: =384 -> 384 | X34: =P39+IVA!N67 -> 98 | Y34: =V34+W34+X34 -> 806
B35: IMPUESTO DEL PERIODO | C35: =C32-C34 -> 0 | D35: =IF((D32-D34)<0,0,D32-D34) -> 0 | E35: =IF((E32-E34)<0,0,E32-E34) -> 0 | F35: =IF((F32-F34)<0,0,F32-F34) -> 0 | G35: =IF((G32-G34)<0,0,G32-G34) -> 0 | H35: =IF((H32-H34)<0,0,H32-H34) -> 0 | I35: =IF((I32-I34)<0,0,I32-I34) -> 0 | J35: =IF((J32-J34)<0,0,J32-J34) -> 0 | K35: =IF((K32-K34)<0,0,K32-K34) -> 0 | ... N35: =IF((N32-N34)<0,0,N32-N34) -> 0 | U35: Recargos (Deduc) | V35: =581+881 -> 1462 | W35: =1606 -> 1606 | X35: =P40+IVA!N68 -> 2681 | Y35: =V35+W35+X35 -> 5749
A37: (-) | B37: Acumulado de Retenciones de ISR | C37: =C38 -> 0 | D37: =C38+C37 -> 0 | E37: =D38+D37 -> 0 | F37: =E38+E37 -> 0 | G37: =F38+F37 -> 0 | H37: =G38+G37 -> 0 | I37: =H38+H37 -> 0 | J37: =I38+I37 -> 0 | K37: =J38+J37 -> 0 | ... N37: =M38+M37 -> 0
A38: (-) | B38: Retenciones de ISR
A39: (+) | B39: Actualización | C39: =C50-C35 -> 0 | D39: =D50-D35 -> 0 | E39: =E50-E35 -> 0 | F39: =F50-F35 -> 0 | G39: =G50-G35 -> 0 | H39: =H50-H35 -> 0 | I39: =I50-I35 -> 0 | J39: =J50-J35 -> 0 | ... N39: =N50-N35 -> 0 | P39: =SUM(C39:N39) -> 0
A40: (+) | B40: Recargos | C40: =ROUND(C50*C52*C53,0) -> 0 | D40: =ROUND(D50*D52*D53,0) -> 0 | E40: =ROUND(E50*E52*E53,0) -> 0 | F40: =ROUND(F50*F52*F53,0) -> 0 | G40: =ROUND(G50*G52*G53,0) -> 0 | H40: =ROUND(H50*H52*H53,0) -> 0 | I40: =ROUND(I50*I52*I53,0) -> 0 | J40: =ROUND(J50*J52*J53,0) -> 0 | ... N40: =ROUND(N50*N52*N53,0) -> 0 | P40: =SUM(C40:N40) -> 0
A42: (=) | B42: ISR NETO DEL PERIODO | C42: =C32-C35-C37+C39+C40 -> 0 | D42: =D32-D35-D37+D39+D40 -> 0 | E42: =E32-E35-E37+E39+E40 -> 0 | F42: =F32-F35-F37+F39+F40 -> 0 | G42: =G32-G35-G37+G39+G40 -> 0 | H42: =H32-H35-H37+H39+H40 -> 0 | I42: =I32-I35-I37+I39+I40 -> 0 | J42: =J32-J35-J37+J39+J40 -> 0 | ... N42: =N32-N35-N37+N39+N40 -> 0
B43: Estatus de la declaración | C43: Presentada sin pago | D43: Presentada sin pago | E43: Presentada sin pago | F43: Presentada sin pago | G43: Presentada sin pago | H43: Presentada sin pago | I43: Presentada sin pago | J43: Presentada sin pago | K43: Presentada sin pago | L43: Presentada sin pago | M43: Presentada sin pago | N43: Por presentar
...

Sheet IVA
A1: SADCAL CONSULTORIA Y SOLUCIONES INTEGRALES, SA DE CV
A2: Cédula de determinación de Pagos Definitivos de IVA
A3: Ejercicio 2024
A5: Determinación de IVA | B5: Enero | C5: Febrero | D5: Marzo | E5: Abril | F5: Mayo | G5: Junio | H5: Julio | I5: Agosto | J5: Septiembre | K5: Octubre | L5: Noviembre | M5: Diciembre | N5: Sumas
A6: Ingresos Cobrados al 16% SADCAL | B6: 51967 | C6: 11566 | D6: 25211 | E6: 23625 | F6: 22431 | G6: 18732 | H6: 17595 | I6: 11636 | J6: 29767 | K6: 25268 | L6: 49332 | M6: 14277 | N6: =SUM(B6:M6) -> 301407
A7: Ingresos Cobrados al 16% TLACUACHES | B7: 0 | C7: 37500 | D7: 125489 | E7: 85141 | F7: 70900 | G7: 55890 | H7: 97317 | I7: 67000 | J7: 65125 | K7: 64000 | L7: 70850 | M7: 61150 | N7: =SUM(B7:M7) -> 800362
A8: Total ingresos cobrados al 16% | B8: =B6+B7 -> 51967 | C8: =C6+C7 -> 49066 | D8: =D6+D7 -> 150700 | E8: =E6+E7 -> 108766 | F8: =F6+F7 -> 93331 | G8: =G6+G7 -> 74622 | H8: =H6+H7 -> 114912 | I8: =I6+I7 -> 78636 | ... N8: =N6+N7 -> 1101769
A9: Ingresos Cobrados al 8%
A10: Ingresos Cobrados al 0%
A11: Ingresos Exentos de IVA
A12: Total ingresos cobrados | B12: =SUM(B8:B11) -> 51967 | C12: =SUM(C8:C11) -> 49066 | D12: =SUM(D8:D11) -> 150700 | E12: =SUM(E8:E11) -> 108766 | F12: =SUM(F8:F11) -> 93331 | G12: =SUM(G8:G11) -> 74622 | H12: =SUM(H8:H11) -> 114912 | I12: =SUM(I8:I11) -> 78636 | ... M12: =SUM(M8:M11) -> 75427 | N12: =SUM(B12:M12) -> 1101769
A13: Proporción Ingresos SADCAL | B13: =IF(ISERROR(ROUND(B6/B8,4)),0,ROUND(B6/B8,4)) -> 1 | C13: =IF(ISERROR(ROUND(C6/C8,4)),0,ROUND(C6/C8,4)) -> 0.2357 | D13: =IF(ISERROR(ROUND(D6/D8,4)),0,ROUND(D6/D8,4)) -> 0.1673 | E13: =IF(ISERROR(ROUND(E6/E8,4)),0,ROUND(E6/E8,4)) -> 0.2172 | F13: =IF(ISERROR(ROUND(F6/F8,4)),0,ROUND(F6/F8,4)) -> 0.2403 | G13: =IF(ISERROR(ROUND(G6/G8,4)),0,ROUND(G6/G8,4)) -> 0.251 | H13: =IF(ISERROR(ROUND(H6/H8,4)),0,ROUND(H6/H8,4)) -> 0.1531 | I13: =IF(ISERROR(ROUND(I6/I8,4)),0,ROUND(I6/I8,4)) -> 0.148 | ... M13: =IF(ISERROR(ROUND(M6/M8,4)),0,ROUND(M6/M8,4)) -> 0.1893
A14: Proporción Ingresos TLACUACHES | B14: =IF(ISERROR(ROUND(B7/B8,4)),0,ROUND(B7/B8,4)) -> 0 | C14: =IF(ISERROR(ROUND(C7/C8,4)),0,ROUND(C7/C8,4)) -> 0.7643 | D14: =IF(ISERROR(ROUND(D7/D8,4)),0,ROUND(D7/D8,4)) -> 0.8327 | E14: =IF(ISERROR(ROUND(E7/E8,4)),0,ROUND(E7/E8,4)) -> 0.7828 | F14: =IF(ISERROR(ROUND(F7/F8,4)),0,ROUND(F7/F8,4)) -> 0.7597 | G14: =IF(ISERROR(ROUND(G7/G8,4)),0,ROUND(G7/G8,4)) -> 0.749 | H14: =IF(ISERROR(ROUND(H7/H8,4)),0,ROUND(H7/H8,4)) -> 0.8469 | I14: =IF(ISERROR(ROUND(I7/I8,4)),0,ROUND(I7/I8,4)) -> 0.852 | ... M14: =IF(ISERROR(ROUND(M7/M8,4)),0,ROUND(M7/M8,4)) -> 0.8107
A16: IVA cobrado al 16% | B16: =ROUND(B8*0.16,0) -> 8315 | C16: =ROUND(C8*0.16,0) -> 7851 | D16: =ROUND(D8*0.16,0) -> 24112 | E16: =ROUND(E8*0.16,0) -> 17403 | F16: =ROUND(F8*0.16,0) -> 14933 | G16: =ROUND(G8*0.16,0) -> 11940 | H16: =ROUND(H8*0.16,0) -> 18386 | I16: =ROUND(I8*0.16,0) -> 12582 | ... M16: =ROUND(M8*0.16,0) -> 12068 | N16: =SUM(B16:M16) -> 176285
A17: IVA cobrado al 8% | B17: =ROUND(B9*0.08,0) -> 0 | C17: =ROUND(C9*0.08,0) -> 0 | D17: =ROUND(D9*0.08,0) -> 0 | E17: =ROUND(E9*0.08,0) -> 0 | F17: =ROUND(F9*0.08,0) -> 0 | G17: =ROUND(G9*0.08,0) -> 0 | H17: =ROUND(H9*0.08,0) -> 0 | I17: =ROUND(I9*0.08,0) -> 0 | ... M17: =ROUND(M9*0.08,0) -> 0 | N17: =SUM(B17:M17) -> 0
A18: Total IVA Trasladado | B18: =SUM(B16:B17) -> 8315 | C18: =SUM(C16:C17) -> 7851 | D18: =SUM(D16:D17) -> 24112 | E18: =SUM(E16:E17) -> 17403 | F18: =SUM(F16:F17) -> 14933 | G18: =SUM(G16:G17) -> 11940 | H18: =SUM(H16:H17) -> 18386 | I18: =SUM(I16:I17) -> 12582 | ... M18: =SUM(M16:M17) -> 12068 | N18: =SUM(B18:M18) -> 176285 | P18: Monto aplicado | Q18: Pendiente por recuperar
A19: Monto IVA Cobrado SADCAL | B19: =ROUND(B18*B13,0) -> 8315 | C19: =ROUND(C18*C13,0) -> 1850 | D19: =ROUND(D18*D13,0) -> 4034 | E19: =ROUND(E18*E13,0) -> 3780 | F19: =ROUND(F18*F13,0) -> 3588 | G19: =ROUND(G18*G13,0) -> 2997 | H19: =ROUND(H18*H13,0) -> 2815 | I19: =ROUND(I18*I13,0) -> 1862 | ... M19: =ROUND(M18*M13,0) -> 2284 | N19: =SUM(B19:M19) -> 48226 | P19: 10165 | Q19: =N19-P19 -> 38061 | R19: =Q19+Q20 -> 51051
A20: Monto ISR estimado SADCAL | B20: =ROUND(B6*0.0546,0) -> 2837 | C20: =ROUND(C6*0.0546,0) -> 632 | D20: =ROUND(D6*0.0546,0) -> 1377 | E20: =ROUND(E6*0.0546,0) -> 1290 | F20: =ROUND(F6*0.0546,0) -> 1225 | G20: =ROUND(G6*0.0546,0) -> 1023 | H20: =ROUND(H6*0.0546,0) -> 961 | I20: =ROUND(I6*0.0546,0) -> 635 | ... M20: =ROUND(M6*0.0546,0) -> 780 | N20: =SUM(B20:M20) -> 16459 | P20: 3469 | Q20: =N20-P20 -> 12990
A21: Monto IVA Cobrado TLACUACHES | B21: =B18-B19 -> 0 | C21: =C18-C19 -> 6001 | D21: =D18-D19 -> 20078 | E21: =E18-E19 -> 13623 | F21: =F18-F19 -> 11345 | G21: =G18-G19 -> 8943 | H21: =H18-H19 -> 15571 | I21: =I18-I19 -> 10720 | ... M21: =M18-M19 -> 9784 | N21: =SUM(B21:M21) -> 128059 | P21: 5780 | Q21: =N21-P21 -> 122279 | R21: =Q21+Q22 -> 165980 | W21: 100
A22: Monto ISR estimado SADCAL | B22: 0 | C22: =ROUND(C7*0.0546,0) -> 2048 | D22: =ROUND(D7*0.0546,0) -> 6852 | E22: =ROUND(E7*0.0546,0) -> 4649 | F22: =ROUND(F7*0.0546,0) -> 3871 | G22: =ROUND(G7*0.0546,0) -> 3052 | H22: =ROUND(H7*0.0546,0) -> 5314 | I22: =ROUND(I7*0.0546,0) -> 3658 | J22: =ROUND(J7*0.0546,0) -> 3556 | ... M22: =ROUND(M7*0.0546,0) -> 3339 | N22: =SUM(B22:M22) -> 43701 | P22: 0 | Q22: =N22-P22 -> 43701
A25: Gastos pagados a tasa 16% SADCAL | B25: 24466 | C25: 11797 | D25: 11001 | E25: 18757 | F25: 60873 | G25: 47447 | H25: 48472 | I25: 12847 | J25: 31158 | K25: 18892 | L25: 30820 | M25: 81359 | N25: =SUM(B25:M25) -> 397889
A26: Gastos pagados a tasa 16% Tlacuaches | B26: 0 | C26: 3400 | D26: 18187 | E26: 32881 | F26: 19289 | G26: 8011 | H26: 55911 | I26: 21151 | J26: 22929 | K26: 14500 | L26: 29848 | M26: 30405 | N26: =SUM(B26:M26) -> 256512
A27: Total de gastos pagados al 16% | B27: =B25+B26 -> 24466 | C27: =C25+C26 -> 15197 | D27: =D25+D26 -> 29188 | E27: =E25+E26 -> 51638 | F27: =F25+F26 -> 80162 | G27: =G25+G26 -> 55458 | H27: =H25+H26 -> 104383 | I27: =I25+I26 -> 33998 | ... M27: =M25+M26 -> 111764 | N27: =SUM(B27:M27) -> 654401
A28: Gastos pagados a tasa 8% SADCAL | B28: 0 | C28: 0 | D28: 0 | E28: 0 | F28: 0 | G28: 0 | H28: 0 | I28: 0 | J28: 0 | K28: 0 | L28: 0 | M28: 0 | N28: =SUM(B28:M28) -> 0
A29: Gastos pagados a tasa 8% Tlacuaches | B29: 0 | C29: 0 | D29: 0 | E29: 0 | F29: 0 | G29: 0 | H29: 0 | I29: 0 | J29: 0 | K29: 132 | L29: 0 | M29: 0 | N29: =SUM(B29:M29) -> 132
A30: Total de gastos pagados al 8% | B30: =B28+B29 -> 0 | C30: =C28+C29 -> 0 | D30: =D28+D29 -> 0 | E30: =E28+E29 -> 0 | F30: =F28+F29 -> 0 | G30: =G28+G29 -> 0 | H30: =H28+H29 -> 0 | I30: =I28+I29 -> 0 | ... M30: =M28+M29 -> 0 | N30: =SUM(B30:M30) -> 132
A31: Gastos pagados a tasa 0% SADCAL | B31: 466 | C31: 323 | D31: 4226 | E31: 259 | F31: 1567 | G31: 3902 | H31: 4488 | I31: 762 | J31: 476 | K31: 157 | L31: 3039 | M31: 1681 | N31: =SUM(B31:M31) -> 21346
A32: Gastos pagados a tasa 0% Tlacuaches | B32: 0 | C32: 0 | D32: 33 | E32: 0 | F32: 0 | G32: 0 | H32: 17 | I32: 0 | J32: 2607 | K32: 149 | L32: 1720 | M32: 0 | N32: =SUM(B32:M32) -> 4526
A33: Total de gastos pagados al 0% | B33: =B31+B32 -> 466 | C33: =C31+C32 -> 323 | D33: =D31+D32 -> 4259 | E33: =E31+E32 -> 259 | F33: =F31+F32 -> 1567 | G33: =G31+G32 -> 3902 | H33: =H31+H32 -> 4505 | I33: =I31+I32 -> 762 | ... M33: =M31+M32 -> 1681 | N33: =SUM(B33:M33) -> 25872
A34: Gastos Exentos SADCAL | B34: 0 | C34: 0 | D34: 0 | E34: 0 | F34: 1 | G34: 10 | H34: 0 | I34: 0 | J34: 428 | K34: 0 | L34: 0 | M34: 0 | N34: =SUM(B34:M34) -> 439
A35: Gastos Exentos Tlacuaches | B35: 0 | C35: 17 | D35: 5 | E35: 54 | F35: 182 | G35: 38 | H35: 65 | I35: 80 | J35: 108 | K35: 176 | L35: 311 | M35: 164 | N35: =SUM(B35:M35) -> 1200
A36: Total de gastos pagados exentos | B36: =B34+B35 -> 0 | C36: =C34+C35 -> 17 | D36: =D34+D35 -> 5 | E36: =E34+E35 -> 54 | F36: =F34+F35 -> 183 | G36: =G34+G35 -> 48 | H36: =H34+H35 -> 65 | I36: =I34+I35 -> 80 | ... M36: =M34+M35 -> 164 | N36: =SUM(B36:M36) -> 1639
A37: Total de gastos pagados para IVA | B37: =B27+B30+B33+B36 -> 24932 | C37: =C27+C30+C33+C36 -> 15537 | D37: =D27+D30+D33+D36 -> 33452 | E37: =E27+E30+E33+E36 -> 51951 | F37: =F27+F30+F33+F36 -> 81912 | G37: =G27+G30+G33+G36 -> 59408 | H37: =H27+H30+H33+H36 -> 108953 | I37: =I27+I30+I33+I36 -> 34840 | ... M37: =M27+M30+M33+M36 -> 113609 | N37: =SUM(B37:M37) -> 682044
A38: Monto gastos para IVA SADCAL | B38: =B25+B28+B31+B34 -> 24932 | C38: =C25+C28+C31+C34 -> 12120 | D38: =D25+D28+D31+D34 -> 15227 | E38: =E25+E28+E31+E34 -> 19016 | F38: =F25+F28+F31+F34 -> 62441 | G38: =G25+G28+G31+G34 -> 51359 | H38: =H25+H28+H31+H34 -> 52960 | I38: =I25+I28+I31+I34 -> 13609 | ... M38: =M25+M28+M31+M34 -> 83040 | N38: =SUM(B38:M38) -> 419674
A39: Monto gastos para IVA Tlacuaches | B39: =B26+B29+B32+B35 -> 0 | C39: =C26+C29+C32+C35 -> 3417 | D39: =D26+D29+D32+D35 -> 18225 | E39: =E26+E29+E32+E35 -> 32935 | F39: =F26+F29+F32+F35 -> 19471 | G39: =G26+G29+G32+G35 -> 8049 | H39: =H26+H29+H32+H35 -> 55993 | I39: =I26+I29+I32+I35 -> 21231 | ... M39: =M26+M29+M32+M35 -> 30569 | N39: =SUM(B39:M39) -> 262370
A41: IVA pagado al 16% | B41: =ROUND(B27*0.16,0) -> 3915 | C41: =ROUND(C27*0.16,0) -> 2432 | D41: =ROUND(D27*0.16,0) -> 4670 | E41: =ROUND(E27*0.16,0) -> 8262 | F41: =ROUND(F27*0.16,0) -> 12826 | G41: =ROUND(G27*0.16,0) -> 8873 | H41: =ROUND(H27*0.16,0) -> 16701 | I41: =ROUND(I27*0.16,0) -> 5440 | ... M41: =ROUND(M27*0.16,0) -> 17882
A42: IVA pagado al 8% | B42: =ROUND(B30*0.08,0) -> 0 | C42: =ROUND(C30*0.08,0) -> 0 | D42: =ROUND(D30*0.08,0) -> 0 | E42: =ROUND(E30*0.08,0) -> 0 | F42: =ROUND(F30*0.08,0) -> 0 | G42: =ROUND(G30*0.08,0) -> 0 | H42: =ROUND(H30*0.08,0) -> 0 | I42: =ROUND(I30*0.08,0) -> 0 | ... M42: =ROUND(M30*0.08,0) -> 0
A43: IVA Adquisición de activos | B43: 0 | C43: 0 | D43: 0 | E43: 0 | F43: 2454 | G43: 1517 | H43: 1448 | I43: 0 | J43: 0 | K43: 0 | L43: 1393 | M43: 0 | N43: =SUM(B43:M43) -> 6812
A44: IVA Adquisición gastos | B44: =B45-B43 -> 3915 | C44: =C45-C43 -> 2432 | D44: =D45-D43 -> 4670 | E44: =E45-E43 -> 8262 | F44: =F45-F43 -> 10372 | G44: =G45-G43 -> 7356 | H44: =H45-H43 -> 15253 | I44: =I45-I43 -> 5440 | ... M44: =M45-M43 -> 17882 | N44: =SUM(B44:M44) -> 97904
A45: Total IVA pagado | B45: =SUM(B41:B42) -> 3915 | C45: =SUM(C41:C42) -> 2432 | D45: =SUM(D41:D42) -> 4670 | E45: =SUM(E41:E42) -> 8262 | F45: =SUM(F41:F42) -> 12826 | G45: =SUM(G41:G42) -> 8873 | H45: =SUM(H41:H42) -> 16701 | I45: =SUM(I41:I42) -> 5440 | ... M45: =SUM(M41:M42) -> 17882
...

Sheet Ingresos24
B3: Etiquetas de columna
B4: SADCAL | H4: Tlacuaches | N4: Total Suma de Importe 16% | O4: Total Suma de Descuento | P4: Total Suma de 0% y Exento | Q4: Total Suma de IVA | R4: Total Suma de Ret. IVA | S4: Total Suma de Total
A5: Etiquetas de fila | B5: Suma de Importe 16% | C5: Suma de Descuento | D5: Suma de 0% y Exento | E5: Suma de IVA | F5: Suma de Ret. IVA | G5: Suma de Total | H5: Suma de Importe 16% | I5: Suma de Descuento | J5: Suma de 0% y Exento | K5: Suma de IVA | L5: Suma de Ret. IVA | M5: Suma de Total
A6: 01-2024 | B6: 51967.33 | C6: 0 | D6: 0 | E6: 8314.77 | F6: 0 | G6: 60282.1 | N6: 51967.33 | O6: 0 | P6: 0 | Q6: 8314.77 | R6: 0 | S6: 60282.1
A7: 02-2024 | B7: 26565.56 | C7: 0 | D7: 0 | E7: 4250.49 | F7: 0 | G7: 30816.05 | H7: 37500 | I7: 0 | J7: 0 | K7: 6000 | L7: 0 | M7: 43500 | N7: 64065.56 | O7: 0 | P7: 0 | Q7: 10250.49 | R7: 0 | S7: 74316.05
A8: 03-2024 | B8: 25211.29 | C8: 0 | D8: 0 | E8: 4033.81 | F8: 0 | G8: 29245.1 | H8: 125489 | I8: 0 | J8: 0 | K8: 20078.24 | L8: 0 | M8: 145567.24 | N8: 150700.29 | O8: 0 | P8: 0 | Q8: 24112.05 | R8: 0 | S8: 174812.34
A9: 04-2024 | B9: 8624.15 | C9: 0 | D9: 0 | E9: 1379.86 | F9: 0 | G9: 10004.01 | H9: 85141.38 | I9: 0 | J9: 0 | K9: 13622.62 | L9: 0 | M9: 98764 | N9: 93765.53 | O9: 0 | P9: 0 | Q9: 15002.48 | R9: 0 | S9: 108768.01
A10: 05-2024 | B10: 22430.55 | C10: 0 | D10: 0 | E10: 3588.89 | F10: 0 | G10: 26019.44 | H10: 70900 | I10: 0 | J10: 0 | K10: 11344 | L10: 0 | M10: 82244 | N10: 93330.55 | O10: 0 | P10: 0 | Q10: 14932.89 | R10: 0 | S10: 108263.44
A11: 06-2024 | B11: 19256.75 | C11: 0 | D11: 0 | E11: 3081.09 | F11: 0 | G11: 22337.84 | H11: 55890 | I11: 0 | J11: 0 | K11: 8942.4 | L11: 0 | M11: 64832.4 | N11: 75146.75 | O11: 0 | P11: 0 | Q11: 12023.49 | R11: 0 | S11: 87170.24
A12: 07-2024 | B12: 27600.36 | C12: 0 | D12: 0 | E12: 4416.05 | F12: 0 | G12: 32016.41 | H12: 97317 | I12: 0 | J12: 0 | K12: 15570.72 | L12: 0 | M12: 112887.72 | N12: 124917.36 | O12: 0 | P12: 0 | Q12: 19986.77 | R12: 0 | S12: 144904.13
A13: 08-2024 | B13: 20324.23 | C13: 0 | D13: 0 | E13: 3251.88 | F13: 0 | G13: 23576.11 | H13: 67000 | I13: 0 | J13: 0 | K13: 10720 | L13: 0 | M13: 77720 | N13: 87324.23 | O13: 0 | P13: 0 | Q13: 13971.88 | R13: 0 | S13: 101296.11
A14: 09-2024 | B14: 27565 | C14: 366.4 | D14: 0 | E14: 4351.78 | F14: 0 | G14: 31550.38 | H14: 73105 | I14: 0 | J14: 0 | K14: 11696.8 | L14: 0 | M14: 84801.8 | N14: 100670 | O14: 366.4 | P14: 0 | Q14: 16048.58 | R14: 0 | S14: 116352.18
A15: 10-2024 | B15: 11287.22 | C15: 0 | D15: 0 | E15: 1805.96 | F15: 0 | G15: 13093.18 | H15: 64000 | I15: 0 | J15: 0 | K15: 10240 | L15: 0 | M15: 74240 | N15: 75287.22 | O15: 0 | P15: 0 | Q15: 12045.96 | R15: 0 | S15: 87333.18
A16: 11-2024 | B16: 45351.02 | C16: 0 | D16: 0 | E16: 7256.17 | F16: 0 | G16: 52607.19 | H16: 70850 | I16: 0 | J16: 0 | K16: 11336 | L16: 0 | M16: 82186 | N16: 116201.02 | O16: 0 | P16: 0 | Q16: 18592.17 | R16: 0 | S16: 134793.19
A17: 12-2024 | B17: 14292.58 | C17: 15.75 | D17: 0 | E17: 2284.29 | F17: 0 | G17: 16561.12 | H17: 61150 | I17: 0 | J17: 0 | K17: 9784 | L17: 0 | M17: 70934 | N17: 75442.58 | O17: 15.75 | P17: 0 | Q17: 12068.29 | R17: 0 | S17: 87495.12
A18: Total general | B18: 300476.04 | C18: 382.15 | D18: 0 | E18: 48015.04 | F18: 0 | G18: 348108.93 | H18: 808342.38 | I18: 0 | J18: 0 | K18: 129334.78 | L18: 0 | M18: 937677.16 | N18: 1108818.4 | O18: 382.15 | P18: 0 | Q18: 177349.82 | R18: 0 | S18: 1285786.1

Sheet Egresos24
B3: Etiquetas de columna
B4: SADCAL | J4: Tlacuaches | R4: Total Base al 16% | S4: Total Base al 8% | T4: Total Base al 0% | U4: Total Tasa Exenta | V4: Total Total de IVA | W4: Total Retención de ISR | X4: Total Retención de IVA | Y4: Total Final
A5: Etiquetas de fila | B5: Base al 16% | C5: Base al 8% | D5: Base al 0% | E5: Tasa Exenta | F5: Total de IVA | G5: Retención de ISR | H5: Retención de IVA | I5: Final | J5: Base al 16% | K5: Base al 8% | L5: Base al 0% | M5: Tasa Exenta | N5: Total de IVA | O5: Retención de ISR | P5: Retención de IVA | Q5: Final
A6: 01-2024 | B6: 24465.57 | C6: 0 | D6: 466 | E6: 0 | F6: 3914.46 | G6: 0 | H6: 0 | I6: 28846.03 | R6: 24465.57 | S6: 0 | T6: 466 | U6: 0 | V6: 3914.46 | W6: 0 | X6: 0 | Y6: 28846.03
A7: 02-2024 | B7: 11797.44 | C7: 0 | D7: 323.37 | E7: 0 | F7: 1887.6 | G7: 0 | H7: 0 | I7: 14008.41 | J7: 3400.26 | K7: 0 | L7: 0 | M7: 16.57 | N7: 544.04 | O7: 0 | P7: 0 | Q7: 3960.87 | R7: 15197.7 | S7: 0 | T7: 323.37 | U7: 16.57 | V7: 2431.64 | W7: 0 | X7: 0 | Y7: 17969.28
A8: 03-2024 | B8: 11000.73 | C8: 0 | D8: 4226.41 | E8: 0 | F8: 1760.28 | G8: 0 | H8: 0 | I8: 16987.42 | J8: 18187.23 | K8: 0 | L8: 32.88 | M8: 4.76 | N8: 2909.97 | O8: 0 | P8: 0 | Q8: 21134.84 | R8: 29187.96 | S8: 0 | T8: 4259.29 | U8: 4.76 | V8: 4670.25 | W8: 0 | X8: 0 | Y8: 38122.26
A9: 04-2024 | B9: 18756.08 | C9: 0 | D9: 259 | E9: 0 | F9: 3000.95 | G9: 1.37 | H9: 0 | I9: 22014.66 | J9: 32881.47 | K9: 0 | L9: 0 | M9: 53.7 | N9: 5261.02 | O9: 7.25 | P9: 3.16 | Q9: 38185.78 | R9: 51637.55 | S9: 0 | T9: 259 | U9: 53.7 | V9: 8261.97 | W9: 8.62 | X9: 3.16 | Y9: 60200.44
A10: 05-2024 | B10: 60872.99 | C10: 0 | D10: 1567.16 | E10: 1.33 | F10: 9739.7 | G10: 0 | H10: 0 | I10: 72181.18 | J10: 19288.75 | K10: 0 | L10: 0 | M10: 181.62 | N10: 3086.18 | O10: 3.9 | P10: 0 | Q10: 22552.65 | R10: 80161.74 | S10: 0 | T10: 1567.16 | U10: 182.95 | V10: 12825.88 | W10: 3.9 | X10: 0 | Y10: 94733.83
A11: 06-2024 | B11: 47447.2 | C11: 0 | D11: 3902.03 | E11: 9.51 | F11: 7591.48 | G11: 0 | H11: 0 | I11: 59030.22 | J11: 8011.16 | K11: 0 | L11: 0 | M11: 37.56 | N11: 1281.79 | O11: 15.88 | P11: 0 | Q11: 9314.63 | R11: 55458.36 | S11: 0 | T11: 3902.03 | U11: 47.07 | V11: 8873.27 | W11: 15.88 | X11: 0 | Y11: 68344.85
A12: 07-2024 | B12: 48471.56 | C12: 0 | D12: 4488.38 | E12: 0 | F12: 7755.46 | G12: 0 | H12: 0 | I12: 62591.15 | J12: 55911.25 | K12: 0 | L12: 16.5 | M12: 65.19 | N12: 8945.81 | O12: 5.8 | P12: 0 | Q12: 64932.95 | R12: 104382.81 | S12: 0 | T12: 4504.88 | U12: 65.19 | V12: 16701.27 | W12: 5.8 | X12: 0 | Y12: 127524.1
A13: 08-2024 | B13: 12847.43 | C13: 0 | D13: 761.51 | E13: 0 | F13: 2055.61 | G13: 0 | H13: 0 | I13: 16954.98 | J13: 21150.8 | K13: 0 | L13: 0 | M13: 80.47 | N13: 3384.11 | O13: 22.69 | P13: 0 | Q13: 24592.69 | R13: 33998.23 | S13: 0 | T13: 761.51 | U13: 80.47 | V13: 5439.72 | W13: 22.69 | X13: 0 | Y13: 41547.67
A14: 09-2024 | B14: 31157.36 | C14: 0 | D14: 476.19 | E14: 428 | F14: 4985.12 | G14: 450 | H14: 480.15 | I14: 36116.52 | J14: 22929.25 | K14: 0 | L14: 2606.55 | M14: 108.07 | N14: 3668.69 | O14: 1.87 | P14: 0 | Q14: 29310.69 | R14: 54086.61 | S14: 0 | T14: 3082.74 | U14: 536.07 | V14: 8653.81 | W14: 451.87 | X14: 480.15 | Y14: 65427.21
A15: 10-2024 | B15: 18891.58 | C15: 0 | D15: 157 | E15: 0 | F15: 3022.61 | G15: 450 | H15: 480.15 | I15: 21141.04 | J15: 14500.22 | K15: 132.41 | L15: 149.25 | M15: 176.34 | N15: 2330.64 | O15: 9.52 | P15: 0 | Q15: 17279.34 | R15: 33391.8 | S15: 132.41 | T15: 306.25 | U15: 176.34 | V15: 5353.25 | W15: 459.52 | X15: 480.15 | Y15: 38420.38
A16: 11-2024 | B16: 30819.91 | C16: 0 | D16: 3039.25 | E16: 0 | F16: 4931.17 | G16: 450 | H16: 480.15 | I16: 37860.18 | J16: 29847.74 | K16: 0 | L16: 1719.8 | M16: 310.76 | N16: 4775.67 | O16: 0 | P16: 0 | Q16: 36653.97 | R16: 60667.65 | S16: 0 | T16: 4759.05 | U16: 310.76 | V16: 9706.84 | W16: 450 | X16: 480.15 | Y16: 74514.15
A17: 12-2024 | B17: 81358.99 | C17: 0 | D17: 1680.9 | E17: 0 | F17: 13017.45 | G17: 750 | H17: 800.25 | I17: 94507.09 | J17: 30404.78 | K17: 0 | L17: 0 | M17: 164.2 | N17: 4864.75 | O17: 0 | P17: 0 | Q17: 33675.11 | R17: 111763.77 | S17: 0 | T17: 1680.9 | U17: 164.2 | V17: 17882.2 | W17: 750 | X17: 800.25 | Y17: 128182.2
A18: Total general | B18: 397886.84 | C18: 0 | D18: 21347.2 | E18: 438.84 | F18: 63661.89 | G18: 2101.37 | H18: 2240.7 | I18: 482238.88 | J18: 256512.91 | K18: 132.41 | L18: 4524.98 | M18: 1199.24 | N18: 41052.67 | O18: 66.91 | P18: 3.16 | Q18: 301593.52 | R18: 654399.75 | S18: 132.41 | T18: 25872.18 | U18: 1638.08 | V18: 104714.56 | W18: 2168.28 | X18: 2243.86 | Y18: 783832.4

Sheet Contribuciones
A1: Periodo | B1: Ciudad de México | K1: Estado de México | U1: Concentrado | Z1: Actualizaciones No deducibles | AA1: Recargos deducibles | AB1: Contribuciones deducibles
B2: Cuotas IMSS | C2: Cuotas RCV | D2: Retiro | E2: INFONAVIT | F2: Estatus | G2: Fecha pago | H2: ISN | I2: Estatus ISN | J2: Fecha pago | K2: Cuotas IMSSb | L2: Cuotas RCVb | M2: Retirob | N2: INFONAVITb | O2: Cuota obrera | P2: Estatusb | Q2: Fecha pago | R2: ISNb | S2: EstatusISNb | T2: Fecha pago | U2: Cuotas IMSS | V2: Cuotas RCV | W2: Retiro | X2: INFONAVIT | Y2: ISN
A3: Enero | F3: No aplica | I3: No aplica | P3: No aplica | S3: No aplica | U3: =B3+K3 -> 0 | V3: =C3+L3 -> 0 | W3: =D3+M3 -> 0 | X3: =E3+N3 -> 0 | Y3: =H3+R3 -> 0 | AB3: =U3+V3+W3+X3+Y3 -> 0
A4: Febrero | F4: No aplica | I4: No aplica | P4: No aplica | S4: No aplica | U4: =B4+K4 -> 0 | V4: =C4+L4 -> 0 | W4: =D4+M4 -> 0 | X4: =E4+N4 -> 0 | Y4: =H4+R4 -> 0 | AB4: =U4+V4+W4+X4+Y4 -> 0
A5: Marzo | B5: 0 | C5: 0 | D5: 0 | E5: 0 | F5: No aplica | H5: 0 | I5: No aplica | K5: 597.4 | L5: 0 | M5: 0 | N5: 0 | P5: Pagada | Q5: 45399 | R5: 44 | S5: Pagada | T5: 45406 | U5: =B5+K5 -> 597.4 | V5: =C5+L5 -> 0 | W5: =D5+M5 -> 0 | X5: =E5+N5 -> 0 | Y5: =H5+R5 -> 44 | Z5: =0.19 -> 0.19 | AA5: =0.81 -> 0.81 | AB5: =U5+V5+W5+X5+Y5 -> 641.4
A6: Abril | B6: 0 | C6: 0 | D6: 0 | E6: 0 | F6: No aplica | H6: 0 | I6: No aplica | K6: 1595.16 | L6: 472.2 | M6: 172.4 | N6: 431 | P6: Pagada | Q6: 45432 | R6: 174 | S6: Pagada | T6: 45422 | U6: =B6+K6 -> 1595.16 | V6: =C6+L6 -> 472.2 | W6: =D6+M6 -> 172.4 | X6: =E6+N6 -> 431 | Y6: =H6+R6 -> 174 | AB6: =U6+V6+W6+X6+Y6 -> 2844.76
A7: Mayo | B7: 0 | C7: 0 | D7: 0 | E7: 0 | F7: No aplica | H7: 0 | I7: No aplica | K7: 1709.41 | L7: 0 | M7: 0 | N7: 0 | P7: Pagada | Q7: 45461 | R7: 209 | S7: Pagada | T7: 45453 | U7: =B7+K7 -> 1709.41 | V7: =C7+L7 -> 0 | W7: =D7+M7 -> 0 | X7: =E7+N7 -> 0 | Y7: =H7+R7 -> 209 | AA7: 25.13 | AB7: =U7+V7+W7+X7+Y7 -> 1918.41
A8: Junio | B8: 0 | C8: 0 | D8: 0 | E8: 0 | F8: No aplica | H8: 0 | I8: No aplica | K8: 1623.8 | L8: 801.31 | M8: 292.56 | N8: 731.39 | P8: Pagada | Q8: 45479 | R8: 218 | S8: Pagada | T8: 45476 | U8: =B8+K8 -> 1623.8 | V8: =C8+L8 -> 801.31 | W8: =D8+M8 -> 292.56 | X8: =E8+N8 -> 731.39 | Y8: =H8+R8 -> 218 | AB8: =U8+V8+W8+X8+Y8 -> 3667.06
A9: Julio | B9: 0 | C9: 0 | D9: 0 | E9: 0 | F9: No aplica | H9: 0 | I9: No aplica | K9: 1167.29 | L9: 0 | M9: 0 | N9: 0 | P9: Pagada | Q9: 45509 | R9: 196 | S9: Pagada | T9: 45505 | U9: =B9+K9 -> 1167.29 | V9: =C9+L9 -> 0 | W9: =D9+M9 -> 0 | X9: =E9+N9 -> 0 | Y9: =H9+R9 -> 196 | AB9: =U9+V9+W9+X9+Y9 -> 1363.29
A10: Agosto | B10: 0 | C10: 0 | D10: 0 | E10: 0 | F10: No aplica | H10: 0 | I10: No aplica | K10: 1014.8 | L10: 485.5 | M10: 194.41 | N10: 486.02 | P10: Pagada | Q10: 45541 | R10: =98+53 -> 151 | S10: Pagada | T10: 45536 | U10: =B10+K10 -> 1014.8 | V10: =C10+L10 -> 485.5 | W10: =D10+M10 -> 194.41 | X10: =E10+N10 -> 486.02 | Y10: =H10+R10 -> 151 | Z10: 0.22 | AA10: 0.99 | AB10: =U10+V10+W10+X10+Y10 -> 2331.73
A11: Septiembre | B11: 0 | C11: 0 | D11: 0 | E11: 0 | F11: No aplica | H11: 0 | I11: No aplica | K11: 1790.79 | L11: 0 | M11: 0 | N11: 0 | O11: 116.46 | P11: Pagada | Q11: 45568 | R11: 266 | S11: Pagada | T11: 45568 | U11: =B11+K11 -> 1790.79 | V11: =C11+L11 -> 0 | W11: =D11+M11 -> 0 | X11: =E11+N11 -> 0 | Y11: =H11+R11 -> 266 | AB11: =U11+V11+W11+X11+Y11 -> 2056.79
A12: Octubre | B12: 0 | C12: 0 | D12: 0 | E12: 0 | F12: No aplica | H12: 0 | I12: No aplica | K12: 3663.76 | L12: 1296.8 | M12: 565.31 | N12: 1413.26 | O12: 554.83 | P12: Pagada | Q12: 45614 | R12: 531 | S12: Pagada | T12: 45605 | U12: =B12+K12 -> 3663.76 | V12: =C12+L12 -> 1296.8 | W12: =D12+M12 -> 565.31 | X12: =E12+N12 -> 1413.26 | Y12: =H12+R12 -> 531 | AB12: =U12+V12+W12+X12+Y12 -> 7470.13
A13: Noviembre | B13: 0 | C13: 0 | D13: 0 | E13: 0 | F13: No aplica | H13: 0 | I13: No aplica | K13: 3545.54 | L13: 0 | M13: 0 | N13: 0 | O13: 229.2 | P13: Pagada | Q13: 45643 | R13: 524 | S13: Pagada | T13: 45643 | U13: =B13+K13 -> 3545.54 | V13: =C13+L13 -> 0 | W13: =D13+M13 -> 0 | X13: =E13+N13 -> 0 | Y13: =H13+R13 -> 524 | Z13: 2.2 | AA13: 9.74 | AB13: =U13+V13+W13+X13+Y13 -> 4069.54
A14: Diciembre | B14: 0 | C14: 0 | D14: 0 | E14: 0 | F14: No aplica | H14: 0 | I14: No aplica | K14: 3663.76 | L14: 1710.61 | M14: 745.69 | N14: 1864.22 | O14: 656.29 | R14: 531 | S14: Pagada | T14: 45667 | U14: =B14+K14 -> 3663.76 | V14: =C14+L14 -> 1710.61 | W14: =D14+M14 -> 745.69 | X14: =E14+N14 -> 1864.22 | Y14: =H14+R14 -> 531 | AB14: =U14+V14+W14+X14+Y14 -> 8515.28
A15: Totales | B15: =SUM(B3:B14) -> 0 | C15: =SUM(C3:C14) -> 0 | D15: =SUM(D3:D14) -> 0 | E15: =SUM(E3:E14) -> 0 | H15: =SUM(H3:H14) -> 0 | K15: =SUM(K3:K14) -> 20371.71 | L15: =SUM(L3:L14) -> 4766.42 | M15: =SUM(M3:M14) -> 1970.37 | N15: =SUM(N3:N14) -> 4925.89 | O15: =SUM(O3:O14) -> 1556.78 | R15: =SUM(R3:R14) -> 2844 | U15: =SUM(U3:U14) -> 20371.71 | V15: =SUM(V3:V14) -> 4766.42 | W15: =SUM(W3:W14) -> 1970.37 | X15: =SUM(X3:X14) -> 4925.89 | Y15: =SUM(Y3:Y14) -> 2844 | Z15: =SUM(Z3:Z14) -> 2.61 | AA15: =SUM(AA3:AA14) -> 36.67 | AB15: =SUM(AB3:AB14) -> 34878.39
A21: Listado de CFDI
A22: Archivo | B22: Version | C22: Tipo | D22: Serie | E22: Folio | F22: Clave | G22: UUID | H22: Fecha | I22: Periodo | J22: Ejercicio | K22: RFC Emisor | L22: Nombre Emisor | M22: RFC Receptor | N22: Nombre Receptor | O22: Met. Pago | P22: Forma Pago | Q22: Uso CFDI | R22: Moneda | S22: T.C. | T22: Conceptos CFDI | U22: Subt. CFDI | V22: Subt MXN | W22: Importe 16% | X22: Descuento | Y22: Base Tasa 0% | Z22: IVA | AA22: Base Exenta | AB22: Ret. ISR | AC22: Ret. IVA | AD22: imp.Local Tras | AE22: imp.Local Ret | AF22: Total
A23: 202404-I_E-IMS421231-A202403-C4247543109-17042024-939815.xml | B23: 4.0 | C23: I | D23: A | E23: 202403-C4247543109-17042024-939815 | F23: A202403-C4247543109-17042024-939815 | G23: 74ACFD76-AE9F-44AF-BA29-17CE38448C76 | H23: 2024-04-25T08:45:36 | I23: =MID(H23,6,2)&"-"&LEFT(H23,4) -> 04-2024 | J23: =LEFT(H23,4) -> 2024 | K23: IMS421231I45 | L23: INSTITUTO MEXICANO DEL SEGURO SOCIAL | M23: SCS160714Q78 | N23: SADCAL CONSULTORIA Y SOLUCIONES INTEGRALES | O23: PUE | P23: 01 | Q23: G03 | R23: MXN | S23: 1 | T23: |- Cuotas IMSS | U23: 597.4 | V23: 597.4 | W23: 0 | X23: 0 | Y23: 0 | Z23: 0 | AA23: 597.4 | AB23: 0 | AC23: 0 | AD23: 0 | AE23: 0 | AF23: 597.4
A24: 202405-I_E-IMS421231-A202404-C4247543109-20052024-112312.xml | B24: 4.0 | C24: I | D24: A | E24: 202404-C4247543109-20052024-112312 | F24: A202404-C4247543109-20052024-112312 | G24: 8FEFE143-3BE7-458B-B975-ECE15F66FDF8 | H24: 2024-05-28T11:07:53 | I24: =MID(H24,6,2)&"-"&LEFT(H24,4) -> 05-2024 | J24: =LEFT(H24,4) -> 2024 | K24: IMS421231I45 | L24: INSTITUTO MEXICANO DEL SEGURO SOCIAL | M24: SCS160714Q78 | N24: SADCAL CONSULTORIA Y SOLUCIONES INTEGRALES | O24: PUE | P24: 03 | Q24: G03 | R24: MXN | S24: 1 | T24: |- Cuotas IMSS |- Cuotas RCV | U24: 2239.76 | V24: 2239.76 | W24: 0 | X24: 0 | Y24: 0 | Z24: 0 | AA24: 2239.76 | AB24: 0 | AC24: 0 | AD24: 0 | AE24: 0 | AF24: 2239.76
A25: 202405-I_E-GEM850101-106984066101001000028725566357023276.xml | B25: 4.0 | C25: I | D25: 106984066 | E25: 101001000028725566357023276 | F25: 106984066101001000028725566357023276 | G25: 5C4CBF41-008C-4C6F-BC1C-5BD492186AD2 | H25: 2024-05-01T19:27:36 | I25: =MID(H25,6,2)&"-"&LEFT(H25,4) -> 05-2024 | J25: =LEFT(H25,4) -> 2024 | K25: GEM850101BJ3 | L25: GOBIERNO DEL ESTADO DE MEXICO | M25: SCS160714Q78 | N25: SADCAL CONSULTORIA Y SOLUCIONES INTEGRALES | O25: PUE | P25: 28 | Q25: G03 | R25: MXN | S25: 1 | T25: |- Impuesto erogaciones |- Actualización erogaciones |- Recargos erogaciones |- Finanzas publicas redondeo | U25: 45.00 | V25: 45 | W25: 0 | X25: 0 | Y25: 0 | Z25: 0 | AA25: 45 | AB25: 0 | AC25: 0 | AD25: 0 | AE25: 0 | AF25: 45
A26: 202405-I_E-GEM850101-108431491101001000028749846957137252.xml | B26: 4.0 | C26: I | D26: 108431491 | E26: 101001000028749846957137252 | F26: 108431491101001000028749846957137252 | G26: BCFACF9C-6227-43A9-849B-1E8AD8F70218 | H26: 2024-05-14T11:10:46 | I26: =MID(H26,6,2)&"-"&LEFT(H26,4) -> 05-2024 | J26: =LEFT(H26,4) -> 2024 | K26: GEM850101BJ3 | L26: GOBIERNO DEL ESTADO DE MEXICO | M26: SCS160714Q78 | N26: SADCAL CONSULTORIA Y SOLUCIONES INTEGRALES | O26: PUE | P26: 28 | Q26: G03 | R26: MXN | S26: 1 | T26: |- Impuesto erogaciones |- Finanzas publicas redondeo | U26: 175.00 | V26: 175 | W26: 0 | X26: 0 | Y26: 0 | Z26: 0 | AA26: 175 | AB26: 0 | AC26: 0 | AD26: 0 | AE26: 0 | AF26: 175
A27: 202406-I_E-GEM850101-109067870101001000028856493657445210.xml | B27: 4.0 | C27: I | D27: 109067870 | E27: 101001000028856493657445210 | F27: 109067870101001000028856493657445210 | G27: EF490600-B945-422D-8AC2-1DB3B957BBD3 | H27: 2024-06-12T13:12:21 | I27: =MID(H27,6,2)&"-"&LEFT(H27,4) -> 06-2024 | J27: =LEFT(H27,4) -> 2024 | K27: GEM850101BJ3 | L27: GOBIERNO DEL ESTADO DE MEXICO | M27: SCS160714Q78 | N27: SADCAL CONSULTORIA Y SOLUCIONES INTEGRALES | O27: PUE | P27: 28 | Q27: G03 | R27: MXN | S27: 1 | T27: |- Impuesto erogaciones | U27: 209.10 | V27: 209.1 | W27: 0 | X27: 0 | Y27: 0 | Z27: 0 | AA27: 209 | AB27: 0 | AC27: 0 | AD27: 0 | AE27: 0 | AF27: 209
A28: 202406-I_E-IMS421231-A202405-C4247543109-18062024-301338.xml | B28: 4.0 | C28: I | D28: A | E28: 202405-C4247543109-18062024-301338 | F28: A202405-C4247543109-18062024-301338 | G28: D29BFCBA-7B36-4CA6-A891-6BA7F146B5F0 | H28: 2024-06-27T01:28:35 | I28: =MID(H28,6,2)&"-"&LEFT(H28,4) -> 06-2024 | J28: =LEFT(H28,4) -> 2024 | K28: IMS421231I45 | L28: INSTITUTO MEXICANO DEL SEGURO SOCIAL | M28: SCS160714Q78 | N28: SADCAL CONSULTORIA Y SOLUCIONES INTEGRALES | O28: PUE | P28: 01 | Q28: G03 | R28: MXN | S28: 1 | T28: |- Cuotas IMSS |- Recargos de Cuotas IMSS | U28: 1734.54 | V28: 1734.54 | W28: 0 | X28: 0 | Y28: 0 | Z28: 0 | AA28: 1734.54 | AB28: 0 | AC28: 0 | AD28: 0 | AE28: 0 | AF28: 1734.54
A29: 202407-I_E-GEM850101-109419017101001000028985852757751289.xml | B29: 4.0 | C29: I | D29: 109419017 | E29: 101001000028985852757751289 | F29: 109419017101001000028985852757751289 | G29: 6CD50243-55D9-4209-8C1F-C1F952213777 | H29: 2024-07-09T17:00:18 | I29: =MID(H29,6,2)&"-"&LEFT(H29,4) -> 07-2024 | J29: =LEFT(H29,4) -> 2024 | K29: GEM850101BJ3 | L29: GOBIERNO DEL ESTADO DE MEXICO | M29: SCS160714Q78 | N29: SADCAL CONSULTORIA Y SOLUCIONES INTEGRALES | O29: PUE | P29: 28 | Q29: G03 | R29: MXN | S29: 1 | T29: |- Impuesto erogaciones |- Finanzas publicas redondeo | U29: 218.00 | V29: 218 | W29: 0 | X29: 0 | Y29: 0 | Z29: 0 | AA29: 218 | AB29: 0 | AC29: 0 | AD29: 0 | AE29: 0 | AF29: 218
A30: 202407-I_E-IMS421231-A202406-C4247543109-05072024-853719.xml | B30: 4.0 | C30: I | D30: A | E30: 202406-C4247543109-05072024-853719 | F30: A202406-C4247543109-05072024-853719 | G30: 550F14B4-6CA1-4CDA-8050-EA0549CD562B | H30: 2024-07-10T12:05:18 | I30: =MID(H30,6,2)&"-"&LEFT(H30,4) -> 07-2024 | J30: =LEFT(H30,4) -> 2024 | K30: IMS421231I45 | L30: INSTITUTO MEXICANO DEL SEGURO SOCIAL | M30: SCS160714Q78 | N30: SADCAL CONSULTORIA Y SOLUCIONES INTEGRALES | O30: PUE | P30: 03 | Q30: G03 | R30: MXN | S30: 1 | T30: |- Cuotas IMSS |- Cuotas RCV | U30: 2717.67 | V30: 2717.67 | W30: 0 | X30: 0 | Y30: 0 | Z30: 0 | AA30: 2717.67 | AB30: 0 | AC30: 0 | AD30: 0 | AE30: 0 | AF30: 2717.67
A31: 202408-I_E-GEM850101-110205363101001000029174679158082232.xml | B31: 4.0 | C31: I | D31: 110205363 | E31: 101001000029174679158082232 | F31: 110205363101001000029174679158082232 | G31: 184CB913-3C1D-4E98-B9B7-161F80D91209 | H31: 2024-08-05T18:00:33 | I31: =MID(H31,6,2)&"-"&LEFT(H31,4) -> 08-2024 | J31: =LEFT(H31,4) -> 2024 | K31: GEM850101BJ3 | L31: GOBIERNO DEL ESTADO DE MEXICO | M31: SCS160714Q78 | N31: SADCAL CONSULTORIA Y SOLUCIONES INTEGRALES | O31: PUE | P31: 28 | Q31: G03 | R31: MXN | S31: 1 | T31: |- Impuesto erogaciones |- Finanzas publicas redondeo | U31: 196.00 | V31: 196 | W31: 0 | X31: 0 | Y31: 0 | Z31: 0 | AA31: 196 | AB31: 0 | AC31: 0 | AD31: 0 | AE31: 0 | AF31: 196
A32: 202408-I_E-IMS421231-A202407-C4247543109-05082024-913230.xml | B32: 4.0 | C32: I | D32: A | E32: 202407-C4247543109-05082024-913230 | F32: A202407-C4247543109-05082024-913230 | G32: 5F264669-6415-4647-BAD4-BC0715F72DA4 | H32: 2024-08-08T14:11:04 | I32: =MID(H32,6,2)&"-"&LEFT(H32,4) -> 08-2024 | J32: =LEFT(H32,4) -> 2024 | K32: IMS421231I45 | L32: INSTITUTO MEXICANO DEL SEGURO SOCIAL | M32: SCS160714Q78 | N32: SADCAL CONSULTORIA Y SOLUCIONES INTEGRALES | O32: PUE | P32: 01 | Q32: G03 | R32: MXN | S32: 1 | T32: |- Cuotas IMSS | U32: 1167.29 | V32: 1167.29 | W32: 0 | X32: 0 | Y32: 0 | Z32: 0 | AA32: 1167.29 | AB32: 0 | AC32: 0 | AD32: 0 | AE32: 0 | AF32: 1167.29
A33: 202409-I_E-GEM850101-111205447101001000029410864158371227.xml | B33: 4.0 | C33: I | D33: 111205447 | E33: 101001000029410864158371227 | F33: 111205447101001000029410864158371227 | G33: 9327D405-84BD-44AA-BAF4-B5F839CEC774 | H33: 2024-09-03T18:29:38 | I33: 09-2024 | J33: 2024 | K33: GEM850101BJ3 | L33: GOBIERNO DEL ESTADO DE MEXICO | M33: SCS160714Q78 | N33: SADCAL CONSULTORIA Y SOLUCIONES INTEGRALES | O33: PUE | P33: 28 | Q33: G03 | R33: MXN | S33: 1 | T33: |- Impuesto erogaciones |- Finanzas publicas redondeo | U33: 98.00 | V33: 98 | W33: 0 | X33: 0 | Y33: 0 | Z33: 0 | AA33: 98 | AB33: 0 | AC33: 0 | AD33: 0 | AE33: 0 | AF33: 98
A34: 202409-I_E-GEM850101-112140506101001000029517719858579230.xml | B34: 4.0 | C34: I | D34: 112140506 | E34: 101001000029517719858579230 | F34: 112140506101001000029517719858579230 | G34: E7D9DB25-43E1-4408-976C-4786F01B63F4 | H34: 2024-09-26T17:30:18 | I34: 09-2024 | J34: 2024 | K34: GEM850101BJ3 | L34: GOBIERNO DEL ESTADO DE MEXICO | M34: SCS160714Q78 | N34: SADCAL CONSULTORIA Y SOLUCIONES INTEGRALES | O34: PUE | P34: 03 | Q34: G03 | R34: MXN | S34: 1 | T34: |- Impuesto erogaciones |- Actualización erogaciones |- Recargos erogaciones | U34: 152.17 | V34: 152.17 | W34: 0 | X34: 0 | Y34: 0 | Z34: 0 | AA34: 54 | AB34: 0 | AC34: 0 | AD34: 0 | AE34: 0 | AF34: 54
A35: 202409-I_E-IMS421231-A202403-C4247543109-17042024-939815.xml | B35: 4.0 | C35: I | D35: A | E35: 202403-C4247543109-17042024-939815 | F35: A202403-C4247543109-17042024-939815 | G35: 3E88EDD2-6A82-4A6E-8D42-9987AB090219 | H35: 2024-09-06T00:02:02 | I35: 09-2024 | J35: 2024 | K35: IMS421231I45 | L35: INSTITUTO MEXICANO DEL SEGURO SOCIAL | M35: SCS160714Q78 | N35: SADCAL CONSULTORIA Y SOLUCIONES INTEGRALES | O35: PUE | P35: 03 | Q35: G03 | R35: MXN | S35: 1 | T35: |- Cuotas IMSS | U35: 597.4 | V35: 597.4 | W35: 0 | X35: 0 | Y35: 0 | Z35: 0 | AA35: 597.4 | AB35: 0 | AC35: 0 | AD35: 0 | AE35: 0 | AF35: 597.4
A36: 202409-I_E-IMS421231-A202405-C4247543109-18062024-301338.xml | B36: 4.0 | C36: I | D36: A | E36: 202405-C4247543109-18062024-301338 | F36: A202405-C4247543109-18062024-301338 | G36: EC4F4278-DD26-4D01-A88B-53F03D4587EC | H36: 2024-09-06T00:02:13 | I36: 09-2024 | J36: 2024 | K36: IMS421231I45 | L36: INSTITUTO MEXICANO DEL SEGURO SOCIAL | M36: SCS160714Q78 | N36: SADCAL CONSULTORIA Y SOLUCIONES INTEGRALES | O36: PUE | P36: 03 | Q36: G03 | R36: MXN | S36: 1 | T36: |- Cuotas IMSS |- Recargos de Cuotas IMSS | U36: 1734.54 | V36: 1734.54 | W36: 0 | X36: 0 | Y36: 0 | Z36: 0 | AA36: 1734.54 | AB36: 0 | AC36: 0 | AD36: 0 | AE36: 0 | AF36: 1734.54
A37: 202409-I_E-IMS421231-A202407-C4247543109-05082024-913230.xml | B37: 4.0 | C37: I | D37: A | E37: 202407-C4247543109-05082024-913230 | F37: A202407-C4247543109-05082024-913230 | G37: C92A4C47-4D57-4654-98FF-1047814EB082 | H37: 2024-09-06T00:02:16 | I37: 09-2024 | J37: 2024 | K37: IMS421231I45 | L37: INSTITUTO MEXICANO DEL SEGURO SOCIAL | M37: SCS160714Q78 | N37: SADCAL CONSULTORIA Y SOLUCIONES INTEGRALES | O37: PUE | P37: 03 | Q37: G03 | R37: MXN | S37: 1 | T37: |- Cuotas IMSS | U37: 1167.29 | V37: 1167.29 | W37: 0 | X37: 0 | Y37: 0 | Z37: 0 | AA37: 1167.29 | AB37: 0 | AC37: 0 | AD37: 0 | AE37: 0 | AF37: 1167.29
A38: 202409-I_E-IMS421231-A202408-C4247543109-06092024-289380.xml | B38: 4.0 | C38: I | D38: A | E38: 202408-C4247543109-06092024-289380 | F38: A202408-C4247543109-06092024-289380 | G38: 7F229E2C-7DBB-432C-91D1-BB080C3EC1C1 | H38: 2024-09-24T20:02:18 | I38: 09-2024 | J38: 2024 | K38: IMS421231I45 | L38: INSTITUTO MEXICANO DEL SEGURO SOCIAL | M38: SCS160714Q78 | N38: SADCAL CONSULTORIA Y SOLUCIONES INTEGRALES | O38: PUE | P38: 03 | Q38: G03 | R38: MXN | S38: 1 | T38: |- Cuotas IMSS |- Cuotas RCV | U38: 1820.11 | V38: 1820.11 | W38: 0 | X38: 0 | Y38: 0 | Z38: 0 | AA38: 1820.11 | AB38: 0 | AC38: 0 | AD38: 0 | AE38: 0 | AF38: 1820.11
A39: 202410-I_E-GEM850101-112329059101001000029548935958684280.xml | B39: 4.0 | C39: I | D39: 112329059 | E39: 101001000029548935958684280 | F39: 112329059101001000029548935958684280 | G39: FC1F587C-C2EE-4A22-83A5-A625EAA17E5E | H39: 2024-10-04T17:18:51 | I39: =MID(H39,6,2)&"-"&LEFT(H39,4) -> 10-2024 | J39: =LEFT(H39,4) -> 2024 | K39: GEM850101BJ3 | L39: GOBIERNO DEL ESTADO DE MEXICO | M39: SCS160714Q78 | N39: SADCAL CONSULTORIA Y SOLUCIONES INTEGRALES | O39: PUE | P39: 03 | Q39: G03 | R39: MXN | S39: 1 | T39: |- Impuesto erogaciones | U39: 266.37 | V39: 266.37 | W39: 0 | X39: 0 | Y39: 0 | Z39: 0 | AA39: 266 | AB39: 0 | AC39: 0 | AD39: 0 | AE39: 0 | AF39: 266
A40: 202410-I_E-IMS421231-A202409-C4247543109-03102024-395270.xml | B40: 4.0 | C40: I | D40: A | E40: 202409-C4247543109-03102024-395270 | F40: A202409-C4247543109-03102024-395270 | G40: DAB3ECA2-1771-48E7-91E3-27723268962E | H40: 2024-10-10T11:42:57 | I40: =MID(H40,6,2)&"-"&LEFT(H40,4) -> 10-2024 | J40: =LEFT(H40,4) -> 2024 | K40: IMS421231I45 | L40: INSTITUTO MEXICANO DEL SEGURO SOCIAL | M40: SCS160714Q78 | N40: SADCAL CONSULTORIA Y SOLUCIONES INTEGRALES | O40: PUE | P40: 01 | Q40: G03 | R40: MXN | S40: 1 | T40: |- Cuotas IMSS | U40: 1907.25 | V40: 1907.25 | W40: 0 | X40: 0 | Y40: 0 | Z40: 0 | AA40: 1907.25 | AB40: 0 | AC40: 0 | AD40: 0 | AE40: 0 | AF40: 1907.25
A41: 202411-I_E-IMS421231-A202410-C4247543109-15112024-341186.xml | B41: 4.0 | C41: I | D41: A | E41: 202410-C4247543109-15112024-341186 | F41: A202410-C4247543109-15112024-341186 | G41: DE926DDC-FB2C-4CE7-86E5-55620CB29729 | H41: 2024-11-26T01:09:50 | I41: =MID(H41,6,2)&"-"&LEFT(H41,4) -> 11-2024 | J41: =LEFT(H41,4) -> 2024 | K41: IMS421231I45 | L41: INSTITUTO MEXICANO DEL SEGURO SOCIAL | M41: SCS160714Q78 | N41: SADCAL CONSULTORIA Y SOLUCIONES INTEGRALES | O41: PUE | P41: 03 | Q41: G03 | R41: MXN | S41: 1 | T41: |- Cuotas IMSS |- Cuotas RCV | U41: 6080.7 | V41: 6080.7 | W41: 0 | X41: 0 | Y41: 0 | Z41: 0 | AA41: 6080.7 | AB41: 0 | AC41: 0 | AD41: 0 | AE41: 0 | AF41: 6080.7
A42: 202411-I_E-GEM850101-113213397101001000029734709959007228.xml | B42: 4.0 | C42: I | D42: 113213397 | E42: 101001000029734709959007228 | F42: 113213397101001000029734709959007228 | G42: F7DD1521-5BE1-4294-84A1-AD5894A94272 | H42: 2024-11-14T19:49:46 | I42: =MID(H42,6,2)&"-"&LEFT(H42,4) -> 11-2024 | J42: =LEFT(H42,4) -> 2024 | K42: GEM850101BJ3 | L42: GOBIERNO DEL ESTADO DE MEXICO | M42: SCS160714Q78 | N42: SADCAL CONSULTORIA Y SOLUCIONES INTEGRALES | O42: PUE | P42: 03 | Q42: G03 | R42: MXN | S42: 1 | T42: |- Impuesto erogaciones | U42: 531.36 | V42: 531.36 | W42: 0 | X42: 0 | Y42: 0 | Z42: 0 | AA42: 531 | AB42: 0 | AC42: 0 | AD42: 0 | AE42: 0 | AF42: 531
A43: 202412-I_E-GEM850101-114218692101001000029874089759512212.xml | B43: 4.0 | C43: I | D43: 114218692 | E43: 101001000029874089759512212 | F43: 114218692101001000029874089759512212 | G43: EFCBD262-2F7B-4372-8B79-92A4E6B023B5 | H43: 2024-12-18T18:35:29 | I43: =MID(H43,6,2)&"-"&LEFT(H43,4) -> 12-2024 | J43: =LEFT(H43,4) -> 2024 | K43: GEM850101BJ3 | L43: GOBIERNO DEL ESTADO DE MEXICO | M43: SCS160714Q78 | N43: SADCAL CONSULTORIA Y SOLUCIONES INTEGRALES | O43: PUE | P43: 03 | Q43: G03 | R43: MXN | S43: 1 | T43: |- Impuesto erogaciones |- Actualización erogaciones |- Recargos erogaciones | U43: 536.19 | V43: 536.19 | W43: 0 | X43: 0 | Y43: 0 | Z43: 0 | AA43: 536 | AB43: 0 | AC43: 0 | AD43: 0 | AE43: 0 | AF43: 536
A44: 202412-I_E-IMS421231-A202411-C4247543109-17122024-388154.xml | B44: 4.0 | C44: I | D44: A | E44: 202411-C4247543109-17122024-388154 | F44: A202411-C4247543109-17122024-388154 | G44: 6B6325C6-F346-4DF1-B340-6F3A328BE5E2 | H44: 2024-12-27T02:47:10 | I44: =MID(H44,6,2)&"-"&LEFT(H44,4) -> 12-2024 | J44: =LEFT(H44,4) -> 2024 | K44: IMS421231I45 | L44: INSTITUTO MEXICANO DEL SEGURO SOCIAL | M44: SCS160714Q78 | N44: SADCAL CONSULTORIA Y SOLUCIONES INTEGRALES | O44: PUE | P44: 03 | Q44: G03 | R44: MXN | S44: 1 | T44: |- Cuotas IMSS | U44: 3774.74 | V44: 3774.74 | W44: 0 | X44: 0 | Y44: 0 | Z44: 0 | AA44: 3774.74 | AB44: 0 | AC44: 0 | AD44: 0 | AE44: 0 | AF44: 3774.74

Sheet Retenciones
A1: Periodo | B1: Retenciones de ISR (Portal anterior) | H1: Ret. ISR (Nuevo portal) | L1: Retenciones de IVA (Nuevo portal) | Q1: Estado de la declaración | R1: Fecha | S1: Actualizaciones No deducibles | T1: Recargos deducibles | U1: Gran total | V1: Fecha de actualización
B2: Honorarios | C2: RESICO | D2: Arrendamiento | E2: Dividendos | F2: Estado declaración | G2: Fecha | H2: Sueldos | I2: Asimilados | J2: Estado declaración | K2: Fecha | L2: Honorarios | M2: Arrendamiento | N2: Autotransporte | O2: Comisionistas | P2: Total Ret IVA
A3: Enero | F3: No aplica | G3: - | J3: No aplica | K3: - | P3: =L3+M3+N3+O3 -> 0 | Q3: No aplica | R3: - | U3: =B3+C3+D3+E3+H3+I3+P3 -> 0 | V3: 45501
A4: Febrero | F4: No aplica | G4: - | H4: 0 | I4: 0 | J4: Presentada en ceros | K4: 45372 | P4: =L4+M4+N4+O4 -> 0 | Q4: No aplica | R4: - | U4: =B4+C4+D4+E4+H4+I4+P4 -> 0 | V4: 45372
A5: Marzo | F5: No aplica | G5: - | H5: 0 | I5: 0 | J5: Presentada en ceros | K5: 45501 | P5: =L5+M5+N5+O5 -> 0 | Q5: No aplica | R5: - | U5: =B5+C5+D5+E5+H5+I5+P5 -> 0 | V5: 45501
A6: Abril | B6: 0 | C6: 9 | F6: Pagada | G6: 45499 | H6: 0 | I6: 0 | J6: Presentada en ceros | K6: 45513 | L6: 3 | P6: =L6+M6+N6+O6 -> 3 | Q6: Pagada | R6: 45513 | S6: =0 -> 0 | T6: =0 -> 0 | U6: =B6+C6+D6+E6+H6+I6+P6 -> 12 | V6: 45513
A7: Mayo | B7: 0 | C7: 4 | F7: Pagada | G7: 45499 | H7: 0 | I7: 0 | J7: Presentada en ceros | K7: 45515 | P7: =L7+M7+N7+O7 -> 0 | Q7: Presentada sin operación | R7: 45515 | S7: =0 -> 0 | T7: =0 -> 0 | U7: =B7+C7+D7+E7+H7+I7+P7 -> 4 | V7: 45515
A8: Junio | B8: 0 | C8: 16 | F8: Pagada | G8: 45499 | H8: 0 | I8: 0 | J8: Presentada en ceros | K8: 45517 | P8: =L8+M8+N8+O8 -> 0 | Q8: Presentada sin operación | R8: 45517 | S8: =0 -> 0 | T8: =0 -> 0 | U8: =B8+C8+D8+E8+H8+I8+P8 -> 16 | V8: 45517
A9: Julio | B9: 0 | C9: 6 | F9: Pagada | G9: 45511 | H9: 3 | I9: 0 | J9: Pagada | K9: 45524 | P9: =L9+M9+N9+O9 -> 0 | Q9: Presentada sin operación | R9: 45519 | S9: 0 | T9: 0 | U9: =B9+C9+D9+E9+H9+I9+P9 -> 9 | V9: 45524
A10: Agosto | B10: 0 | C10: 23 | F10: Pagada | G10: 45541 | H10: 0 | I10: 0 | J10: Pagada | K10: 45541 | P10: =L10+M10+N10+O10 -> 0 | Q10: Presentada sin operación | R10: 45541 | S10: 0 | T10: 0 | U10: =B10+C10+D10+E10+H10+I10+P10 -> 23 | V10: 45541
A11: Septiembre | B11: 450 | C11: 2 | F11: Pagada | G11: 45571 | H11: 259 | I11: 0 | J11: Pagada | K11: 45621 | L11: 480 | P11: =L11+M11+N11+O11 -> 480 | Q11: Pagada | R11: 45621 | S11: =0 -> 0 | T11: =8+14 -> 22 | U11: =B11+C11+D11+E11+H11+I11+P11 -> 1191 | V11: 45621
A12: Octubre | B12: 450 | C12: 10 | F12: Pagada | G12: 45605 | H12: 513 | I12: 0 | L12: 480 | P12: =L12+M12+N12+O12 -> 480 | U12: =B12+C12+D12+E12+H12+I12+P12 -> 1453
A13: Noviembre | B13: 450 | C13: 0 | F13: Pagada | G13: 45667 | H13: 487 | I13: 0 | L13: 480 | P13: =L13+M13+N13+O13 -> 480 | U13: =B13+C13+D13+E13+H13+I13+P13 -> 1417
A14: Diciembre | B14: 750 | C14: 0 | F14: Pagada | G14: 45676 | H14: 513 | I14: 0 | J14: Pagada | K14: 45676 | L14: 800 | P14: =L14+M14+N14+O14 -> 800 | Q14: Pagada | R14: 45676 | S14: 0 | T14: 0 | U14: =B14+C14+D14+E14+H14+I14+P14 -> 2063
A15: Totales | B15: =SUM(B3:B14) -> 2100 | C15: =SUM(C3:C14) -> 70 | D15: =SUM(D3:D14) -> 0 | E15: =SUM(E3:E14) -> 0 | H15: =SUM(H3:H14) -> 1775 | I15: =SUM(I3:I14) -> 0 | L15: =SUM(L3:L14) -> 2243 | M15: =SUM(M3:M14) -> 0 | N15: =SUM(N3:N14) -> 0 | O15: =SUM(O3:O14) -> 0 | P15: =SUM(P3:P14) -> 2243 | S15: =SUM(S3:S14) -> 0 | T15: =SUM(T3:T14) -> 22 | U15: =SUM(U3:U14) -> 6188
D19: ACTUALIZACIÓN DE IMPORTES
D21: Importe | E21: 480
D23: INPC Pago | E23: 138.343
D24: INPC Debió pagar | E24: 137.424
D26: Factor actualización | E26: =TRUNC(E23/E24,4) -> 1.0066
D28: Monto actualizado | E28: =ROUND(E21*E26,0) -> 483
D29: Parte actualizada | E29: =E28-E21 -> 3
D31: Meses de retrazo | E31: 4
D33: Tasa de recargos | E33: =1.47%*E31 -> 0.0588
D35: Importe recargos | E35: =ROUND(E28*E33,0) -> 28
D37: Total a pagar | E37: =E21+E29+E35 -> 511

Sheet Emitidos
A1: GENERALES DEL COMPROBANTE | U1: OPERACIÓN COMERCIAL
A2: Archivo | B2: Version | C2: Tipo | D2: Serie | E2: Folio | F2: Clave | G2: UUID | H2: Fecha | I2: Periodo | J2: Ejercicio | K2: RFC Emisor | L2: Nombre Emisor | M2: RFC Receptor | N2: Nombre Receptor | O2: Met. Pago | P2: Forma Pago | Q2: Uso CFDI | R2: Moneda | S2: T.C. | T2: Conceptos CFDI | U2: Subt. CFDI | V2: Subt MXN | W2: Importe 16% | X2: Descuento | Y2: 0% y Exento | Z2: IVA | AA2: IEPS | AB2: Ret. ISR | AC2: Ret. IVA | AD2: imp.Local Tras | AE2: imp.Local Ret | AF2: Total
A3: 202401-I_E-SCS160714-S299.xml | B3: 4.0 | C3: I | D3: S | E3: 299 | F3: S299 | G3: 170DDB9D-54E2-4882-8784-5201522A5A25 | H3: 2024-01-01T21:58:39 | I3: =MID(H3,6,2)&"-"&LEFT(H3,4) -> 01-2024 | J3: =LEFT(H3,4) -> 2024 | K3: SCS160714Q78 | L3: SADCAL CONSULTORIA Y SOLUCIONES INTEGRALES | M3: AME860107KD9 | N3: SICONT MEX | O3: PUE | P3: 03 | Q3: G03 | R3: MXN | S3: 1 | T3: |- COMISIONES | U3: 4639.84 | V3: 4639.84 | W3: 4639.84 | X3: 0 | Y3: 0 | Z3: 742.37 | AA3: 0 | AB3: 0 | AC3: 0 | AD3: 0 | AE3: 0 | AF3: 5382.21
A4: 202401-I_E-SCS160714-S300.xml | B4: 4.0 | C4: I | D4: S | E4: 300 | F4: S300 | G4: C81B4313-B740-422A-AC1D-611634A1EFBF | H4: 2024-01-05T11:01:38 | I4: =MID(H4,6,2)&"-"&LEFT(H4,4) -> 01-2024 | J4: =LEFT(H4,4) -> 2024 | K4: SCS160714Q78 | L4: SADCAL CONSULTORIA Y SOLUCIONES INTEGRALES | M4: NUT970916NH6 | N4: NUTRIDELMAR | O4: PUE | P4: 03 | Q4: G03 | R4: MXN | S4: 1 | T4: |- Servicios de contabilidad y declaraciones fiscales, nómina y expedientes de recursos humanos para el corporativo Nutridelmar correspondientes al mes de Diciembre de 2023. Incluye los RFC QUOA5308042F9, QUPA890206JW7 y NUT970916NH6. | U4: 5700.56 | V4: 5700.56 | W4: 5700.56 | X4: 0 | Y4: 0 | Z4: 912.09 | AA4: 0 | AB4: 0 | AC4: 0 | AD4: 0 | AE4: 0 | AF4: 6612.65
A5: 202401-I_E-SCS160714-S301.xml | B5: 4.0 | C5: I | D5: S | E5: 301 | F5: S301 | G5: 55962024-A759-4147-93A1-6D7AC5D86E94 | H5: 2024-01-10T19:13:21 | I5: =MID(H5,6,2)&"-"&LEFT(H5,4) -> 01-2024 | J5: =LEFT(H5,4) -> 2024 | K5: SCS160714Q78 | L5: SADCAL CONSULTORIA Y SOLUCIONES INTEGRALES | M5: ABL141009RT6 | N5: ABBA BIBLES LUXURY | O5: PPD | P5: 99 | Q5: G03 | R5: MXN | S5: 1 | T5: |- Paquete de 400 timbres Aspel, clave DXXX50XXX14XXX. | U5: 659.00 | V5: 659 | W5: 659 | X5: 0 | Y5: 0 | Z5: 105.44 | AA5: 0 | AB5: 0 | AC5: 0 | AD5: 0 | AE5: 0 | AF5: 764.44
A6: 202401-I_E-SCS160714-S302.xml | B6: 4.0 | C6: I | D6: S | E6: 302 | F6: S302 | G6: 92C13989-766F-4ED9-B676-5BA661420196 | H6: 2024-01-12T14:59:39 | I6: =MID(H6,6,2)&"-"&LEFT(H6,4) -> 01-2024 | J6: =LEFT(H6,4) -> 2024 | K6: SCS160714Q78 | L6: SADCAL CONSULTORIA Y SOLUCIONES INTEGRALES | M6: STH9602233F9 | N6: SINDICATO DE TRABAJADORES DE HSBC | O6: PPD | P6: 99 | Q6: G03 | R6: MXN | S6: 1 | T6: |- Paquete de 400 timbres Aspel. Clave DXXX502588XXX. | U6: 626.05 | V6: 626.05 | W6: 626.05 | X6: 0 | Y6: 0 | Z6: 100.17 | AA6: 0 | AB6: 0 | AC6: 0 | AD6: 0 | AE6: 0 | AF6: 726.22
A7: 202401-I_E-SCS160714-S303.xml | B7: 4.0 | C7: I | D7: S | E7: 303 | F7: S303 | G7: 6F3DD842-8447-4FAB-B6C6-440FC918416A | H7: 2024-01-12T16:28:18 | I7: =MID(H7,6,2)&"-"&LEFT(H7,4) -> 01-2024 | J7: =LEFT(H7,4) -> 2024 | K7: SCS160714Q78 | L7: SADCAL CONSULTORIA Y SOLUCIONES INTEGRALES | M7: STH9602233F9 | N7: SINDICATO DE TRABAJADORES DE HSBC | O7: PUE | P7: 01 | Q7: G03 | R7: MXN | S7: 1 | T7: |- Anticipo de productos y servicios | U7: 32.95 | V7: 32.95 | W7: 32.95 | X7: 0 | Y7: 0 | Z7: 5.27 | AA7: 0 | AB7: 0 | AC7: 0 | AD7: 0 | AE7: 0 | AF7: 38.22
A8: 202401-I_E-SCS160714-S304.xml | B8: 4.0 | C8: I | D8: S | E8: 304 | F8: S304 | G8: D1FA797B-FF7B-4022-9FC6-591A114B6040 | H8: 2024-01-22T12:45:53 | I8: =MID(H8,6,2)&"-"&LEFT(H8,4) -> 01-2024 | J8: =LEFT(H8,4) -> 2024 | K8: SCS160714Q78 | L8: SADCAL CONSULTORIA Y SOLUCIONES INTEGRALES | M8: AME860107KD9 | N8: SICONT MEX | O8: PUE | P8: 03 | Q8: G03 | R8: MXN | S8: 1 | T8: |- COMISIONES | U8: 3599.44 | V8: 3599.44 | W8: 3599.44 | X8: 0 | Y8: 0 | Z8: 575.91 | AA8: 0 | AB8: 0 | AC8: 0 | AD8: 0 | AE8: 0 | AF8: 4175.35
A9: 202401-I_E-SCS160714-S305.xml | B9: 4.0 | C9: I | D9: S | E9: 305 | F9: S305 | G9: E325F361-5C3E-4D11-9B19-E5912423BF0B | H9: 2024-01-24T00:25:43 | I9: =MID(H9,6,2)&"-"&LEFT(H9,4) -> 01-2024 | J9: =LEFT(H9,4) -> 2024 | K9: SCS160714Q78 | L9: SADCAL CONSULTORIA Y SOLUCIONES INTEGRALES | M9: BGX1306145Z3 | N9: BAHNSEN G | O9: PPD | P9: 99 | Q9: G03 | R9: MXN | S9: 1 | T9: |- Servicios de consultoría correspondiente al mes de Enero de 2024. | U9: 10000.00 | V9: 10000 | W9: 10000 | X9: 0 | Y9: 0 | Z9: 1600 | AA9: 0 | AB9: 0 | AC9: 0 | AD9: 0 | AE9: 0 | AF9: 11600
