Workbook

Sheet Saldo CUCA
A1: SADCAL CONSULTORIA Y SOLUCIONES INTEGRALES, S.A. DE C.V.
A2: CEDULA DE DETERMINACION DE LA CUENTA FISCAL DE CAPITAL DE APORTACION
A4: Ejercicio | B4: Saldo inicial | C4: Actualización | D4: Aportaciones de Capital | E4: Primas por suscripción | F4: Reducciones de Capital | G4: Saldo actualizado | H4: Acciones | I4: CUCA por acción
A5: 2016 | B5: 50000 | C5: =ActualizacionCUCA!K6 -> 1385 | D5: 0 | E5: 0 | F5: 0 | G5: =B5+C5+D5+E5-F5 -> 51385 | H5: 1000 | I5: =ROUND(G5/H5,2) -> 51.39
A6: 2017 | B6: =G5 -> 51385 | C6: =ActualizacionCUCA!K7 -> 3479 | D6: 0 | E6: 0 | F6: 0 | G6: =B6+C6+D6+E6-F6 -> 54864 | H6: 1000 | I6: =ROUND(G6/H6,2) -> 54.86
A7: 2018 | B7: =G6 -> 54864 | C7: =ActualizacionCUCA!K8 -> 2650 | D7: 0 | E7: 0 | F7: 0 | G7: =B7+C7+D7+E7-F7 -> 57514 | H7: 1000 | I7: =ROUND(G7/H7,2) -> 57.51
A8: 2019 | B8: =G7 -> 57514 | C8: =ActualizacionCUCA!K9 -> 1622 | D8: 0 | E8: 0 | F8: 0 | G8: =B8+C8+D8+E8-F8 -> 59136 | H8: 1000 | I8: =ROUND(G8/H8,2) -> 59.14
A9: 2020 | B9: =G8 -> 59136 | C9: =ActualizacionCUCA!K10 -> 1863 | D9: 0 | E9: 0 | F9: 0 | G9: =B9+C9+D9+E9-F9 -> 60999 | H9: 1000 | I9: =ROUND(G9/H9,2) -> 61
A10: 2021 | B10: =G9 -> 60999 | C10: =ActualizacionCUCA!K11 -> 4483 | D10: 0 | E10: 0 | F10: 0 | G10: =B10+C10+D10+E10-F10 -> 65482 | H10: 1000 | I10: =ROUND(G10/H10,2) -> 65.48
A11: 2022 | B11: =G10 -> 65482 | C11: =ActualizacionCUCA!K12 -> 5114 | D11: 0 | E11: 0 | F11: 0 | G11: =B11+C11+D11+E11-F11 -> 70596 | H11: 1000 | I11: =ROUND(G11/H11,2) -> 70.6
A12: 2023 | B12: =G11 -> 70596 | C12: =ActualizacionCUCA!K13 -> 3290 | D12: 0 | E12: 0 | F12: 0 | G12: =B12+C12+D12+E12-F12 -> 73886 | H12: 1000 | I12: =ROUND(G12/H12,2) -> 73.89

Sheet ActualizacionCUCA
A1: SADCAL CONSULTORIA Y SOLUCIONES INTEGRALES, S.A. DE C.V.
A2: CEDULA DE ACTUALIZACIÓN INFLACIONARIO DE CAPITAL DE APORTACIÓN
A4: Fecha | B4: Concepto | C4: Mes anterior | D4: Año ant. | E4: INPC Mes anterior | F4: Mes actual | G4: Año actual | H4: INPC Mes actual | I4: Factor Inflacionario | J4: Factor de actualización | K4: Importe actualización | L4: Monto Actualizado | M4: Aumentos de capital | N4: Reducciones de capital | O4: Monto Actualizado
A5: 42565 | B5: Aportación Capital | L5: 50000 | M5: 0 | N5: 0 | O5: =L5+M5-N5 -> 50000
A6: 42735 | B6: Actualización 2016 | C6: 7 | D6: 2016 | E6: 89.556914 | F6: 12 | G6: 2016 | H6: 92.039035 | I6: =TRUNC(H6/E6,4) -> 1.0277 | J6: =I6-1 -> 0.0277 | K6: =ROUND(O5*J6,0) -> 1385 | L6: =O5+K6 -> 51385 | M6: 0 | N6: 0 | O6: =L6+M6-N6 -> 51385
A7: 43100 | B7: Actualización 2017 | C7: =F6 -> 12 | D7: =G6 -> 2016 | E7: =H6 -> 92.039035 | F7: 12 | G7: 2017 | H7: 98.272883 | I7: =TRUNC(H7/E7,4) -> 1.0677 | J7: =I7-1 -> 0.0677 | K7: =ROUND(O6*J7,0) -> 3479 | L7: =O6+K7 -> 54864 | M7: 0 | N7: 0 | O7: =L7+M7-N7 -> 54864
A8: 43465 | B8: Actualización 2018 | C8: =F7 -> 12 | D8: =G7 -> 2017 | E8: =H7 -> 98.272883 | F8: 12 | G8: 2018 | H8: 103.02 | I8: =TRUNC(H8/E8,4) -> 1.0483 | J8: =I8-1 -> 0.0483 | K8: =ROUND(O7*J8,0) -> 2650 | L8: =O7+K8 -> 57514 | M8: 0 | N8: 0 | O8: =L8+M8-N8 -> 57514
A9: 43830 | B9: Actualización 2019 | C9: =F8 -> 12 | D9: =G8 -> 2018 | E9: =H8 -> 103.02 | F9: 12 | G9: 2019 | H9: 105.934 | I9: =TRUNC(H9/E9,4) -> 1.0282 | J9: =I9-1 -> 0.0282 | K9: =ROUND(O8*J9,0) -> 1622 | L9: =O8+K9 -> 59136 | M9: 0 | N9: 0 | O9: =L9+M9-N9 -> 59136
A10: 44196 | B10: Actualización 2020 | C10: =F9 -> 12 | D10: =G9 -> 2019 | E10: =H9 -> 105.934 | F10: 12 | G10: 2020 | H10: 109.271 | I10: =TRUNC(H10/E10,4) -> 1.0315 | J10: =I10-1 -> 0.0315 | K10: =ROUND(O9*J10,0) -> 1863 | L10: =O9+K10 -> 60999 | M10: 0 | N10: 0 | O10: =L10+M10-N10 -> 60999
A11: 44561 | B11: Actualización 2021 | C11: =F10 -> 12 | D11: =G10 -> 2020 | E11: =H10 -> 109.271 | F11: 12 | G11: 2021 | H11: 117.308 | I11: =TRUNC(H11/E11,4) -> 1.0735 | J11: =I11-1 -> 0.0735 | K11: =ROUND(O10*J11,0) -> 4483 | L11: =O10+K11 -> 65482 | M11: 0 | N11: 0 | O11: =L11+M11-N11 -> 65482
A12: 44926 | B12: Actualización 2022 | C12: =F11 -> 12 | D12: =G11 -> 2021 | E12: =H11 -> 117.308 | F12: 12 | G12: 2022 | H12: 126.478 | I12: =TRUNC(H12/E12,4) -> 1.0781 | J12: =I12-1 -> 0.0781 | K12: =ROUND(O11*J12,0) -> 5114 | L12: =O11+K12 -> 70596 | M12: 0 | N12: 0 | O12: =L12+M12-N12 -> 70596
A13: 45291 | B13: Actualización 2023 | C13: =F12 -> 12 | D13: =G12 -> 2022 | E13: =H12 -> 126.478 | F13: 12 | G13: 2023 | H13: 132.373 | I13: =TRUNC(H13/E13,4) -> 1.0466 | J13: =I13-1 -> 0.0466 | K13: =ROUND(O12*J13,0) -> 3290 | L13: =O12+K13 -> 73886 | M13: 0 | N13: 0 | O13: =L13+M13-N13 -> 73886

Sheet Saldo CUFIN
A1: SADCAL CONSULTORIA Y SOLUCIONES INTEGRALES, S.A. DE C.V.
A2: CUFIN
A5: Ejercicio 2019
A6: Fecha | B6: Concepto | C6: Mes anterior | D6: Año ant. | E6: INPC Mes anterior | F6: Mes actual | G6: Año actual | H6: INPC Mes actual | I6: Factor Inflacionario | J6: Factor de actualización | K6: Importe actualización | L6: Monto Actualizado | N6: Determinación de la UFIN 2019
A7: - | B7: Resultado 2019 | L7: =O9 -> 0 | N7: Resultado fiscal | O7: 105 | T7: CUFIN por ejercicio
A8: 43830 | B8: Actualización 2019 | C8: 7 | D8: 2019 | E8: 103.687 | F8: 12 | G8: 2019 | H8: 105.934 | I8: =TRUNC(H8/E8,4) -> 1.0216 | J8: =I8-1 -> 0.0216 | K8: =ROUND(L7*J8,0) -> 0 | L8: =L7+K8 -> 0 | N8: (-) Pérdidas | O8: =Perdidas!M10 -> 105 | T8: Ejercicio | U8: Importe actualizado
A9: 44196 | B9: Actualización 2020 | C9: =F8 -> 12 | D9: =G8 -> 2019 | E9: =H8 -> 105.934 | F9: 12 | G9: 2020 | H9: 109.271 | I9: =TRUNC(H9/E9,4) -> 1.0315 | J9: =I9-1 -> 0.0315 | K9: =ROUND(L8*J9,0) -> 0 | L9: =L8+K9 -> 0 | O9: 0 | T9: 2019 | U9: =L8 -> 0
A10: 44561 | B10: Actualización 2021 | C10: =F9 -> 12 | D10: =G9 -> 2020 | E10: =H9 -> 109.271 | F10: 12 | G10: 2021 | H10: 117.308 | I10: =TRUNC(H10/E10,4) -> 1.0735 | J10: =I10-1 -> 0.0735 | K10: =ROUND(L9*J10,0) -> 0 | L10: =L9+K10 -> 0 | T10: 2020 | U10: =L9 -> 0
A11: 44926 | B11: Actualización 2022 | C11: =F10 -> 12 | D11: =G10 -> 2021 | E11: =H10 -> 117.308 | F11: 12 | G11: 2022 | H11: 126.478 | I11: =TRUNC(H11/E11,4) -> 1.0781 | J11: =I11-1 -> 0.0781 | K11: =ROUND(L10*J11,0) -> 0 | L11: =L10+K11 -> 0 | T11: 2021 | U11: =L10+L20 -> 0
A12: 45291 | B12: Actualización 2023 | C12: =F11 -> 12 | D12: =G11 -> 2022 | E12: =H11 -> 126.478 | F12: 12 | G12: 2023 | H12: 132.373 | I12: =TRUNC(H12/E12,4) -> 1.0466 | J12: =I12-1 -> 0.0466 | K12: =ROUND(L11*J12,0) -> 0 | L12: =L11+K12 -> 0 | T12: 2022 | U12: =L11+L21+L30 -> 416
T13: 2023 | U13: =L12+L22+L31 -> 435
T14: 2024
A17: Ejercicio 2021
A18: Fecha | B18: Concepto | C18: Mes anterior | D18: Año ant. | E18: INPC Mes anterior | F18: Mes actual | G18: Año actual | H18: INPC Mes actual | I18: Factor Inflacionario | J18: Factor de actualización | K18: Importe actualización | L18: Monto Actualizado | N18: Determinación de la UFIN 2021
A19: - | B19: Resultado 2021 | L19: =O21 -> 0 | N19: Resultado fiscal | O19: 36636
A20: 44561 | B20: Actualización 2021 | C20: 7 | D20: 2021 | E20: 113.682 | F20: 12 | G20: 2021 | H20: 117.308 | I20: =TRUNC(H20/E20,4) -> 1.0318 | J20: =I20-1 -> 0.0318 | K20: =ROUND(L19*J20,0) -> 0 | L20: =L19+K20 -> 0 | N20: (-) Pérdidas | O20: =Perdidas!M12+Perdidas!M24+Perdidas!M33 -> 36636
A21: 44926 | B21: Actualización 2022 | C21: =F20 -> 12 | D21: =G20 -> 2021 | E21: =H20 -> 117.308 | F21: 12 | G21: 2022 | H21: 126.478 | I21: =TRUNC(H21/E21,4) -> 1.0781 | J21: =I21-1 -> 0.0781 | K21: =ROUND(L20*J21,0) -> 0 | L21: =L20+K21 -> 0 | O21: =O19-O20 -> 0
A22: 45291 | B22: Actualización 2023 | C22: =F21 -> 12 | D22: =G21 -> 2022 | E22: =H21 -> 126.478 | F22: 12 | G22: 2023 | H22: 132.373 | I22: =TRUNC(H22/E22,4) -> 1.0466 | J22: =I22-1 -> 0.0466 | K22: =ROUND(L21*J22,0) -> 0 | L22: =L21+K22 -> 0
A27: Ejercicio 2022
A28: Fecha | B28: Concepto | C28: Mes anterior | D28: Año ant. | E28: INPC Mes anterior | F28: Mes actual | G28: Año actual | H28: INPC Mes actual | I28: Factor Inflacionario | J28: Factor de actualización | K28: Importe actualización | L28: Monto Actualizado | N28: Determinación de la UFIN 2022 | S28: Resultado fiscal | T28: 37441
A29: - | B29: Resultado 2022 | L29: =O33 -> 404 | N29: Resultado fiscal | O29: 37441 | S29: (-) ISR pagado | T29: 2806
A30: 44926 | B30: Actualización 2022 | C30: 7 | D30: 2022 | E30: 122.948 | F30: 12 | G30: 2022 | H30: 126.478 | I30: =TRUNC(H30/E30,4) -> 1.0287 | J30: =I30-1 -> 0.0287 | K30: =ROUND(L29*J30,0) -> 12 | L30: =L29+K30 -> 416 | N30: (-) Pérdidas | O30: =ROUND(Perdidas!M34,0) -> 34231
A31: 45291 | B31: Actualización 2023 | C31: =F30 -> 12 | D31: =G30 -> 2022 | E31: =H30 -> 126.478 | F31: 12 | G31: 2023 | H31: 132.373 | I31: =TRUNC(H31/E31,4) -> 1.0466 | J31: =I31-1 -> 0.0466 | K31: =ROUND(L30*J31,0) -> 19 | L31: =L30+K31 -> 435 | O31: =O29-O30 -> 3210
N32: (-) ISR Pagado | O32: 2806
N33: UFIN del ejercicio | O33: =O31-O32 -> 404
N36: UFIN 2023 | O36: -8116 | P36: Para deducir en periodos posteriores

Sheet Saldo Perdidas
A2: SALDOS DE PÉRDIDAS FISCALES ACTUALIZADAS
B4: Saldo actualizado por año
A5: Resultados | B5: 2016 | C5: 2017 | D5: 2018 | E5: 2019 | F5: 2020 | G5: 2021 | H5: 2022 | I5: 2023
A6: Pérdida 2016 | B6: =Perdidas!N7 -> 16247 | C6: =Perdidas!N8 -> 17346.92 | D6: =Perdidas!N9 -> 18184.78 | E6: =Perdidas!N10 -> 18592.59 | F6: =Perdidas!N11 -> 19178.26 | G6: =Perdidas!N12 -> 0 | H6: =Perdidas!N13 -> 0 | I6: =Perdidas!N14 -> 0
A7: Pérdida 2017 | C7: =Perdidas!N20 -> 1133.99 | D7: =Perdidas!N21 -> 1188.76 | E7: =Perdidas!N22 -> 1222.28 | F7: =Perdidas!N23 -> 1260.78 | G7: =Perdidas!N24 -> 0 | H7: =Perdidas!N25 -> 0 | I7: =Perdidas!N26 -> 0
A8: Pérdida 2020 | F8: =Perdidas!N32 -> 43266.23 | G8: =Perdidas!N33 -> 31751.61 | H8: =Perdidas!N34 -> 0 | I8: =Perdidas!N35 -> 0
A9: Pérdida 2021 | F9: 0 | G9: 0 | H9: 0
A10: Pérdida 2022 | F10: 0 | G10: 0 | H10: 0
A11: Pérdida 2023 | F11: 0 | G11: 0 | H11: 0
A13: Saldo anual | B13: =SUM(B6:B12) -> 16247 | C13: =SUM(C6:C12) -> 18480.91 | D13: =SUM(D6:D12) -> 19373.54 | E13: =SUM(E6:E12) -> 19814.87 | F13: =SUM(F6:F12) -> 63705.27 | G13: =SUM(G6:G12) -> 31751.61 | H13: =SUM(H6:H12) -> 0 | I13: =SUM(I6:I12) -> 0

Sheet Perdidas
A1: SADCAL CONSULTORIA Y SOLUCIONES INTEGRALES, S.A. DE C.V.
A4: Ejercicio 2016
A5: Fecha | B5: Concepto | C5: Mes anterior | D5: Año ant. | E5: INPC Mes anterior | F5: Mes actual | G5: Año actual | H5: INPC Mes actual | I5: Factor Inflacionario | J5: Factor de actualización | K5: Importe actualización | L5: Monto Actualizado | M5: Aplicación | N5: Saldo final
A6: - | B6: Resultado 2016 | L6: 16048 | N6: =L6-M6 -> 16048
A7: 42735 | B7: Actualización 2016 | C7: 10 | D7: 2016 | E7: 90.906154 | F7: 12 | G7: 2016 | H7: 92.039035 | I7: =TRUNC(H7/E7,4) -> 1.0124 | J7: =I7-1 -> 0.0124 | K7: =ROUND(N6*J7,2) -> 199 | L7: =N6+K7 -> 16247 | N7: =L7-M7 -> 16247
A8: 43100 | B8: Actualización 2017 | C8: =F7 -> 12 | D8: =G7 -> 2016 | E8: =H7 -> 92.039035 | F8: 12 | G8: 2017 | H8: 98.272883 | I8: =TRUNC(H8/E8,4) -> 1.0677 | J8: =I8-1 -> 0.0677 | K8: =ROUND(N7*J8,2) -> 1099.92 | L8: =N7+K8 -> 17346.92 | N8: =L8-M8 -> 17346.92
A9: 43465 | B9: Actualización 2018 | C9: =F8 -> 12 | D9: =G8 -> 2017 | E9: =H8 -> 98.272883 | F9: 12 | G9: 2018 | H9: 103.02 | I9: =TRUNC(H9/E9,4) -> 1.0483 | J9: =I9-1 -> 0.0483 | K9: =ROUND(N8*J9,2) -> 837.86 | L9: =N8+K9 -> 18184.78 | N9: =L9-M9 -> 18184.78
A10: 43830 | B10: Actualización 2019 | C10: =F9 -> 12 | D10: =G9 -> 2018 | E10: =H9 -> 103.02 | F10: 12 | G10: 2019 | H10: 105.934 | I10: =TRUNC(H10/E10,4) -> 1.0282 | J10: =I10-1 -> 0.0282 | K10: =ROUND(N9*J10,2) -> 512.81 | L10: =N9+K10 -> 18697.59 | M10: 105 | N10: =L10-M10 -> 18592.59
A11: 44196 | B11: Actualización 2020 | C11: =F10 -> 12 | D11: =G10 -> 2019 | E11: =H10 -> 105.934 | F11: 12 | G11: 2020 | H11: 109.271 | I11: =TRUNC(H11/E11,4) -> 1.0315 | J11: =I11-1 -> 0.0315 | K11: =ROUND(N10*J11,2) -> 585.67 | L11: =N10+K11 -> 19178.26 | N11: =L11-M11 -> 19178.26
A12: 44561 | B12: Actualización 2021 | C12: =F11 -> 12 | D12: =G11 -> 2020 | E12: =H11 -> 109.271 | F12: 12 | G12: 2021 | H12: 117.308 | I12: =TRUNC(H12/E12,4) -> 1.0735 | J12: =I12-1 -> 0.0735 | K12: =ROUND(N11*J12,2) -> 1409.6 | L12: =N11+K12 -> 20587.86 | M12: 20587.86 | N12: =L12-M12 -> 0
A13: 44926 | B13: Actualización 2022 | C13: =F12 -> 12 | D13: =G12 -> 2021 | E13: =H12 -> 117.308 | F13: 12 | G13: 2022 | H13: 126.478 | I13: =TRUNC(H13/E13,4) -> 1.0781 | J13: =I13-1 -> 0.0781 | K13: =ROUND(N12*J13,2) -> 0 | L13: =N12+K13 -> 0 | N13: =L13-M13 -> 0
A14: 45291 | B14: Actualización 2023 | C14: =F13 -> 12 | D14: =G13 -> 2022 | E14: =H13 -> 126.478 | F14: 12 | G14: 2023 | H14: 132.373 | I14: =TRUNC(H14/E14,4) -> 1.0466 | J14: =I14-1 -> 0.0466 | K14: =ROUND(N13*J14,2) -> 0 | L14: =N13+K14 -> 0 | N14: =L14-M14 -> 0
A17: Ejercicio 2017
A18: Fecha | B18: Concepto | C18: Mes anterior | D18: Año ant. | E18: INPC Mes anterior | F18: Mes actual | G18: Año actual | H18: INPC Mes actual | I18: Factor Inflacionario | J18: Factor de actualización | K18: Importe actualización | L18: Monto Actualizado | M18: Aplicación | N18: Saldo final
A19: - | B19: Resultado 2017 | L19: 1100 | N19: =L19-M19 -> 1100
A20: 43100 | B20: Actualización 2017 | C20: 7 | D20: 2017 | E20: 95.322736 | F20: 12 | G20: 2017 | H20: 98.272883 | I20: =TRUNC(H20/E20,4) -> 1.0309 | J20: =I20-1 -> 0.0309 | K20: =ROUND(N19*J20,2) -> 33.99 | L20: =N19+K20 -> 1133.99 | N20: =L20-M20 -> 1133.99
A21: 43465 | B21: Actualización 2018 | C21: =F20 -> 12 | D21: =G20 -> 2017 | E21: =H20 -> 98.272883 | F21: 12 | G21: 2018 | H21: 103.02 | I21: =TRUNC(H21/E21,4) -> 1.0483 | J21: =I21-1 -> 0.0483 | K21: =ROUND(N20*J21,2) -> 54.77 | L21: =N20+K21 -> 1188.76 | N21: =L21-M21 -> 1188.76
A22: 43830 | B22: Actualización 2019 | C22: =F21 -> 12 | D22: =G21 -> 2018 | E22: =H21 -> 103.02 | F22: 12 | G22: 2019 | H22: 105.934 | I22: =TRUNC(H22/E22,4) -> 1.0282 | J22: =I22-1 -> 0.0282 | K22: =ROUND(N21*J22,2) -> 33.52 | L22: =N21+K22 -> 1222.28 | N22: =L22-M22 -> 1222.28
A23: 44196 | B23: Actualización 2020 | C23: =F22 -> 12 | D23: =G22 -> 2019 | E23: =H22 -> 105.934 | F23: 12 | G23: 2020 | H23: 109.271 | I23: =TRUNC(H23/E23,4) -> 1.0315 | J23: =I23-1 -> 0.0315 | K23: =ROUND(N22*J23,2) -> 38.5 | L23: =N22+K23 -> 1260.78 | N23: =L23-M23 -> 1260.78
A24: 44561 | B24: Actualización 2021 | C24: =F23 -> 12 | D24: =G23 -> 2020 | E24: =H23 -> 109.271 | F24: 12 | G24: 2021 | H24: 117.308 | I24: =TRUNC(H24/E24,4) -> 1.0735 | J24: =I24-1 -> 0.0735 | K24: =ROUND(N23*J24,2) -> 92.67 | L24: =N23+K24 -> 1353.45 | M24: 1353.45 | N24: =L24-M24 -> 0
A25: 44926 | B25: Actualización 2022 | C25: =F24 -> 12 | D25: =G24 -> 2021 | E25: =H24 -> 117.308 | F25: 12 | G25: 2022 | H25: 126.478 | I25: =TRUNC(H25/E25,4) -> 1.0781 | J25: =I25-1 -> 0.0781 | K25: =ROUND(N24*J25,2) -> 0 | L25: =N24+K25 -> 0 | N25: =L25-M25 -> 0
A26: 45291 | B26: Actualización 2023 | C26: =F25 -> 12 | D26: =G25 -> 2022 | E26: =H25 -> 126.478 | F26: 12 | G26: 2023 | H26: 132.373 | I26: =TRUNC(H26/E26,4) -> 1.0466 | J26: =I26-1 -> 0.0466 | K26: =ROUND(N25*J26,2) -> 0 | L26: =N25+K26 -> 0 | N26: =L26-M26 -> 0
A29: Ejercicio 2020
A30: Fecha | B30: Concepto | C30: Mes anterior | D30: Año ant. | E30: INPC Mes anterior | F30: Mes actual | G30: Año actual | H30: INPC Mes actual | I30: Factor Inflacionario | J30: Factor de actualización | K30: Importe actualización | L30: Monto Actualizado | M30: Aplicación | N30: Saldo final
A31: - | B31: Resultdo 2020 | L31: 42543 | N31: =L31-M31 -> 42543
A32: 44196 | B32: Actualización 2020 | C32: 7 | D32: 2020 | E32: 107.444 | F32: 12 | G32: 2020 | H32: 109.271 | I32: =TRUNC(H32/E32,4) -> 1.017 | J32: =I32-1 -> 0.017 | K32: =ROUND(N31*J32,2) -> 723.23 | L32: =N31+K32 -> 43266.23 | N32: =L32-M32 -> 43266.23
A33: 44561 | B33: Actualización 2021 | C33: =F32 -> 12 | D33: =G32 -> 2020 | E33: =H32 -> 109.271 | F33: 12 | G33: 2021 | H33: 117.308 | I33: =TRUNC(H33/E33,4) -> 1.0735 | J33: =I33-1 -> 0.0735 | K33: =ROUND(N32*J33,2) -> 3180.07 | L33: =N32+K33 -> 46446.3 | M33: 14694.69 | N33: =L33-M33 -> 31751.61
A34: 44926 | B34: Actualización 2022 | C34: =F33 -> 12 | D34: =G33 -> 2021 | E34: =H33 -> 117.308 | F34: 12 | G34: 2022 | H34: 126.478 | I34: =TRUNC(H34/E34,4) -> 1.0781 | J34: =I34-1 -> 0.0781 | K34: =ROUND(N33*J34,2) -> 2479.8 | L34: =N33+K34 -> 34231.41 | M34: 34231.41 | N34: =L34-M34 -> 0
A35: 45291 | B35: Actualización 2023 | C35: =F34 -> 12 | D35: =G34 -> 2022 | E35: =H34 -> 126.478 | F35: 12 | G35: 2023 | H35: 132.373 | I35: =TRUNC(H35/E35,4) -> 1.0466 | J35: =I35-1 -> 0.0466 | K35: =ROUND(N34*J35,2) -> 0 | L35: =N34+K35 -> 0 | N35: =L35-M35 -> 0
A38: Ejercicio 2023
A39: Fecha | B39: Concepto | C39: Mes anterior | D39: Año ant. | E39: INPC Mes anterior | F39: Mes actual | G39: Año actual | H39: INPC Mes actual | I39: Factor Inflacionario | J39: Factor de actualización | K39: Importe actualización | L39: Monto Actualizado | M39: Aplicación | N39: Saldo final
A40: - | B40: Resultdo 2023 | L40: 191127 | N40: =L40-M40 -> 191127
A41: 45291 | B41: Actualización 2023 | C41: 7 | D41: 2023 | E41: 128.832 | F41: 12 | G41: 2023 | H41: 132.373 | I41: =TRUNC(H41/E41,4) -> 1.0274 | J41: =I41-1 -> 0.0274 | K41: =ROUND(N40*J41,2) -> 5236.88 | L41: =N40+K41 -> 196363.88 | N41: =L41-M41 -> 196363.88
A42: 45657 | B42: Actualización 2024 | C42: =F41 -> 12 | D42: =G41 -> 2023 | E42: 136.003 | F42: 12 | G42: 2024 | H42: 137.949 | I42: =TRUNC(H42/E42,4) -> 1.0143 | J42: =I42-1 -> 0.0143 | K42: =ROUND(N41*J42,2) -> 2808 | L42: =N41+K42 -> 199171.88 | N42: =L42-M42 -> 199171.88

Sheet IVA a favor
A1: Saldos a favor de IVA | L1: Aplicaciones
A2: Mes | B2: Ejercicio | C2: Fecha Decl. | D2: Tipo | E2: No. Operación | F2: Concepto | G2: Resultado IVA | H2: Aplicado | I2: Remanente | L2: Ejercicio | M2: Periodo | N2: Importe
A3: Enero | B3: 2016 | C3: 42621 | D3: Normal | E3: 186749986 | F3: Saldo a favor | G3: 1355 | H3: 1355 | I3: =G3-H3 -> 0 | L3: 2019 | M3: 10 | N3: 1540
A4: Diciembre | B4: 2016 | C4: 42754 | D4: Normal | E4: 202009640 | F4: Saldo a favor | G4: 920 | H4: =185+252+483 -> 920 | I4: =G4-H4 -> 0 | L4: 2019 | M4: 11 | N4: 252
A5: Diciembre | B5: 2017 | C5: 43677 | D5: Normal | E5: 321941789 | F5: Saldo a favor | G5: 176 | H5: 176 | I5: =G5-H5 -> 0 | L5: 2019 | M5: 12 | N5: 1135
A6: Septiembre | B6: 2019 | C6: 43850 | D6: Normal | E6: 346290582 | F6: Saldo a favor | G6: 2910 | H6: =476+442+743+214+389+25+621 -> 2910 | I6: =G6-H6 -> 0 | L6: 2020 | M6: 1 | N6: 442
A7: Marzo | B7: 2020 | C7: 45407 | D7: Complementaria | E7: 580849487 | F7: Saldo a favor | G7: 728 | H7: =338+390 -> 728 | I7: =G7-H7 -> 0 | L7: 2020 | M7: 2 | N7: 743
A8: Abril | B8: 2020 | C8: 45407 | D8: Complementaria | E8: 580850262 | F8: Saldo a favor | G8: 684 | H8: =8+676 -> 684 | I8: =G8-H8 -> 0 | L8: 2020 | M8: 6 | N8: 214
A9: Mayo | B9: 2020 | C9: 45407 | D9: Complementaria | E9: 580850834 | F9: Saldo a favor | G9: 2310 | H9: =653+1657 -> 2310 | I9: =G9-H9 -> 0 | L9: 2020 | M9: 8 | N9: 389
A10: Julio | B10: 2020 | C10: 45407 | D10: Complementaria | E10: 580852361 | F10: Saldo a favor | G10: 148 | H10: =148 -> 148 | I10: =G10-H10 -> 0 | L10: 2021 | M10: 1 | N10: 25
A11: Septiembre | B11: 2020 | C11: 45407 | D11: Complementaria | E11: 580854085 | F11: Saldo a favor | G11: 231 | H11: =231 -> 231 | I11: =G11-H11 -> 0 | L11: 2021 | M11: 2 | N11: 959
A12: Octubre | B12: 2020 | C12: 45407 | D12: Complementaria | E12: 580854687 | F12: Saldo a favor | G12: 673 | H12: =673 -> 673 | I12: =G12-H12 -> 0 | L12: 2021 | M12: 3 | N12: 398
A13: Noviembre | B13: 2020 | C13: 45407 | D13: Complementaria | E13: 580855390 | F13: Saldo a favor | G13: 1974 | H13: =1974 -> 1974 | I13: =G13-H13 -> 0 | L13: 2021 | M13: 4 | N13: 1329
A14: Diciembre | B14: 2020 | C14: 45407 | D14: Complementaria | E14: 580855864 | F14: Saldo a favor | G14: 1071 | H14: =1071 -> 1071 | I14: =G14-H14 -> 0 | L14: 2021 | M14: 8 | N14: 5838
A15: Mayo | B15: 2021 | C15: 45407 | D15: Complementaria | E15: 580874543 | F15: Saldo a favor | G15: 307 | H15: =84+223 -> 307 | I15: =G15-H15 -> 0 | L15: 2021 | M15: 10 | N15: 41793
A16: Junio | B16: 2021 | C16: 45407 | D16: Complementaria | E16: 580875508 | F16: Saldo a favor | G16: 41906 | H16: =41570+336 -> 41906 | I16: =G16-H16 -> 0 | L16: 2021 | M16: 11 | N16: 513
A17: Julio | B17: 2021 | C17: 45407 | D17: Complementaria | E17: 580875829 | F17: Saldo a favor | G17: 1405 | H17: =177+1228 -> 1405 | I17: =G17-H17 -> 0 | L17: 2021 | M17: 12 | N17: 1381
A18: Septiembre | B18: 2021 | C18: 45408 | D18: Complementaria | E18: 580877028 | F18: Saldo a favor | G18: 2059 | H18: =153+126+442+768+175+395 -> 2059 | I18: =G18-H18 -> 0 | L18: 2022 | M18: 1 | N18: 126
A19: Junio | B19: 2022 | C19: 45408 | D19: Normal | E19: 580880292 | F19: Saldo a favor | G19: 3064 | H19: =2106+958 -> 3064 | I19: =G19-H19 -> 0 | L19: 2022 | M19: 2 | N19: 442
A20: Diciembre | B20: 2022 | C20: 45408 | D20: Normal | E20: 580881564 | F20: Saldo a favor | G20: 276 | H20: =236+40 -> 276 | I20: =G20-H20 -> 0 | L20: 2022 | M20: 3 | N20: 156
A21: Junio | B21: 2023 | C21: 45408 | D21: Normal | E21: 580882348 | F21: Saldo a favor | G21: 137 | H21: =137 -> 137 | I21: =G21-H21 -> 0 | L21: 2022 | M21: 4 | N21: 768
A22: Octubre | B22: 2023 | C22: 45408 | D22: Normal | E22: 580882679 | F22: Saldo a favor | G22: 865 | H22: =724+141 -> 865 | I22: =G22-H22 -> 0 | L22: 2022 | M22: 5 | N22: 175
I23: =G23-H23 -> 0 | L23: 2022 | M23: 7 | N23: 2501
I24: =G24-H24 -> 0 | L24: 2022 | M24: 8 | N24: 958
I25: =G25-H25 -> 0 | L25: 2023 | M25: 1 | N25: 236
I26: =G26-H26 -> 0 | L26: 2023 | M26: 2 | N26: 40
I27: =G27-H27 -> 0 | L27: 2023 | M27: 7 | N27: 137
I28: =G28-H28 -> 0 | L28: 2023 | M28: 12 | N28: 724
I29: =G29-H29 -> 0 | L29: 2024 | M29: 1 | N29: 141
I30: =G30-H30 -> 0
I31: =G31-H31 -> 0
I32: =G32-H32 -> 0
I33: =G33-H33 -> 0
G35: =SUM(G3:G34) -> 63199 | H35: =SUM(H3:H34) -> 63199 | I35: =G35-H35 -> 0 | N35: =SUM(N3:N34)-156 -> 63199

Sheet Depreciaciones
A2: Clave Activo | B2: Activo | C2: Tipo de activo | D2: No. Serie | E2: MOI | F2: Fecha adq. | G2: % Dep. Fiscal | H2: Deduc. Anual | I2: Deduc. Mensual | K2: INPC Adq. | M2: Meses vida útil
B3: LAPTOP ACER A315-23G-R2UH | C3: Equipo de cómputo | D3: SN | E3: 9481.9 | F3: 44443 | G3: 0.3 | H3: =ROUND(E3*G3,2) -> 2844.57 | I3: =ROUND(H3/12,2) -> 237.05 | K3: 114.601 | M3: =1/(1*G3/12) -> 40
A4: UUID | B4: 48992DA1-0052-4D22-8B5A-BA70213AE36A
A5: Folio | B5: CFDI 60558055 | F5: Ejercicio | G5: Saldo anterior | H5: Meses de uso | I5: Deducción Anual | J5: Saldo Pendiente | M5: Último mes de la primera mitad del periodo de uso en el ejercicio | N5: INPC mes primera mitad | O5: Factor de actualización | P5: Importe Deducción fiscal
A6: Emisor | B6: ECE9610253TA | F6: 2021 | G6: =E3 -> 9481.9 | H6: 3 | I6: =ROUND(H6*$I$3,2) -> 711.15 | J6: =G6-I6 -> 8770.75 | M6: 12 | N6: 117.308 | O6: =TRUNC(N6/$K$3,4) -> 1.0236 | P6: =ROUND(I6*O6,0) -> 728
A7: Ubicación | B7: Matriz | F7: 2022 | G7: =J6 -> 8770.75 | H7: 12 | I7: =ROUND(H7*$I$3,2) -> 2844.6 | J7: =G7-I7 -> 5926.15 | M7: 6 | N7: 122.044 | O7: =TRUNC(N7/$K$3,4) -> 1.0649 | P7: =ROUND(I7*O7,0) -> 3029 | R7: Deduccion por ejercicio
F8: 2023 | G8: =J7 -> 5926.15 | H8: 12 | I8: =ROUND(H8*$I$3,2) -> 2844.6 | J8: =G8-I8 -> 3081.55 | M8: 6 | N8: 128.214 | O8: =TRUNC(N8/$K$3,4) -> 1.1187 | P8: =ROUND(I8*O8,0) -> 3182 | R8: Ejercicio | S8: MOI | T8: Contable | U8: Fiscal
F9: 2024 | G9: =J8 -> 3081.55 | H9: 12 | I9: =ROUND(H9*$I$3,2) -> 2844.6 | J9: =G9-I9 -> 236.95 | M9: 6 | N9: 134.594 | O9: =TRUNC(N9/$K$3,4) -> 1.1744 | P9: =ROUND(I9*O9,0) -> 3341 | R9: 2021 | S9: =E3 -> 9481.9 | T9: =I6 -> 711.15 | U9: =P6 -> 728
F10: 2025 | G10: =J9 -> 236.95 | H10: 1 | I10: =ROUND(H10*$I$3,2)-0.1 -> 236.95 | J10: =G10-I10 -> 0 | M10: 1 | O10: =TRUNC(N10/$K$3,4) -> 0 | P10: =ROUND(I10*O10,0) -> 0 | R10: 2022 | S10: =E3+E14 -> 20687.93 | T10: =I7+I17 -> 4525.5 | U10: =P7+P17 -> 4732
R11: 2023 | S11: =E3+E14 -> 20687.93 | T11: =I8+I18 -> 6206.4 | U11: =P8+P18 -> 6688
R12: 2024 | S12: =E3+E14+E24+E34+E44+E54+E65 -> 63260.32 | T12: =I9+I19+I27+I37+I47+I57+I68 -> 11661.21 | U12: =P9+P19+P27+P37+P47+P57+P68 -> 12543
A13: Clave Activo | B13: Activo | C13: Tipo de activo | D13: No. Serie | E13: MOI | F13: Fecha adq. | G13: % Dep. Fiscal | H13: Deduc. Anual | I13: Deduc. Mensual | K13: INPC Adq. | M13: Meses vida útil | R13: 2025
B14: IPHONE SE 3 IPHONE SE 3A GEN ROJO | C14: Equipo de cómputo | D14: 4861874 | E14: 11206.03 | F14: 44743 | G14: 0.3 | H14: =ROUND(E14*G14,2) -> 3361.81 | I14: =ROUND(H14/12,2) -> 280.15 | K14: 122.948 | M14: =1/(1*G14/12) -> 40 | R14: 2026
A15: UUID | B15: 9231A577-3ADA-44C8-961B-AD6CC0D27AA4 | R15: 2027
A16: Folio | B16: FCBF 1583604 | G16: Saldo anterior | H16: Meses de uso | I16: Deducción Anual | J16: Saldo Pendiente | M16: Último mes de la primera mitad del periodo de uso en el ejercicio | N16: INPC mes primera mitad | O16: Factor de actualización | P16: Importe Deducción fiscal | Q16: erroneo | R16: 2028
A17: Emisor | B17: PMU940317114 | F17: 2022 | G17: =E14 -> 11206.03 | H17: 6 | I17: =ROUND(H17*$I$14,2) -> 1680.9 | J17: =G17-I17 -> 9525.13 | M17: 9 | N17: 124.571 | O17: =TRUNC(N17/$K$14,4) -> 1.0132 | P17: =ROUND(I17*O17,0) -> 1703 | Q17: 1827
A18: Ubicación | B18: Matriz | F18: 2023 | G18: =J17 -> 9525.13 | H18: 12 | I18: =ROUND(H18*$I$14,2) -> 3361.8 | J18: =G18-I18 -> 6163.33 | M18: 6 | N18: 128.214 | O18: =TRUNC(N18/$K$14,4) -> 1.0428 | P18: =ROUND(I18*O18,0) -> 3506 | Q18: 3761
F19: 2024 | G19: =J18 -> 6163.33 | H19: 12 | I19: =ROUND(H19*$I$14,2) -> 3361.8 | J19: =G19-I19 -> 2801.53 | M19: 6 | N19: 134.594 | O19: =TRUNC(N19/$K$14,4) -> 1.0947 | P19: =ROUND(I19*O19,0) -> 3680
F20: 2025 | G20: =J19 -> 2801.53 | H20: 10 | I20: =ROUND(H20*$I$14,2)+0.03 -> 2801.53 | J20: =G20-I20 -> 0 | M20: 5 | O20: =TRUNC(N20/$K$14,4) -> 0 | P20: =ROUND(I20*O20,0) -> 0
A23: Clave Activo | B23: Activo | C23: Tipo de activo | D23: No. Serie | E23: MOI | F23: Fecha adq. | G23: % Dep. Fiscal | H23: Deduc. Anual | I23: Deduc. Mensual | K23: INPC Adq. | M23: Meses vida útil
B24: IPHONE 14 Y ACCESORIOS | C24: Equipo de cómputo | D24: WWPM6399T9 | E24: =14991.36+343.1 -> 15334.46 | F24: 45431 | G24: 0.3 | H24: =ROUND(E24*G24,2) -> 4600.34 | I24: =ROUND(H24/12,2) -> 383.36 | K24: 134.087 | M24: =1/(1*G24/12) -> 40
A25: UUID | B25: 9D826F77-78EE-4CE1-A2E9-5815AD95546A
A26: Folio | B26: ICAGB 566544 | G26: Saldo anterior | H26: Meses de uso | I26: Deducción Anual | J26: Saldo Pendiente | M26: Último mes de la primera mitad del periodo de uso en el ejercicio | N26: INPC mes primera mitad | O26: Factor de actualización | P26: Importe Deducción fiscal
A27: Emisor | B27: NWM9709244W4 | F27: 2024 | G27: =E24 -> 15334.46 | H27: 7 | I27: =ROUND(H27*$I$24,2) -> 2683.52 | J27: =G27-I27 -> 12650.94 | M27: 8 | N27: 136.013 | O27: =TRUNC(N27/$K$24,4) -> 1.0143 | P27: =ROUND(I27*O27,0) -> 2722
A28: Ubicación | B28: Matriz | F28: 2025 | G28: =J27 -> 12650.94 | H28: 12 | I28: =ROUND(H28*$I$24,2) -> 4600.32 | J28: =G28-I28 -> 8050.62 | M28: 6 | O28: =TRUNC(N28/$K$24,4) -> 0 | P28: =ROUND(I28*O28,0) -> 0
F29: 2026 | G29: =J28 -> 8050.62 | H29: 12 | I29: =ROUND(H29*$I$24,2) -> 4600.32 | J29: =G29-I29 -> 3450.3 | M29: 6 | O29: =TRUNC(N29/$K$24,4) -> 0 | P29: =ROUND(I29*O29,0) -> 0
F30: 2027 | G30: =J29 -> 3450.3 | H30: 9 | I30: =ROUND(H30*$I$24,2)+0.06 -> 3450.3 | J30: =G30-I30 -> 0 | M30: 4 | O30: =TRUNC(N30/$K$24,4) -> 0 | P30: =ROUND(I30*O30,0) -> 0
A33: Clave Activo | B33: Activo | C33: Tipo de activo | D33: No. Serie | E33: MOI | F33: Fecha adq. | G33: % Dep. Fiscal | H33: Deduc. Anual | I33: Deduc. Mensual | K33: INPC Adq. | M33: Meses vida útil
B34: LAPTOP ASUS E1504FANJ881W R5 | C34: Equipo de cómputo | D34: S3N0CV07220411B | E34: 9481.89 | F34: 45473 | G34: 0.3 | H34: =ROUND(E34*G34,2) -> 2844.57 | I34: =ROUND(H34/12,2) -> 237.05 | K34: 134.594 | M34: =1/(1*G34/12) -> 40
A35: UUID | B35: BCB94B04-C56E-4F2E-826E-46E02D055D33
A36: Folio | B36: FBAA 3737246 | G36: Saldo anterior | H36: Meses de uso | I36: Deducción Anual | J36: Saldo Pendiente | M36: Último mes de la primera mitad del periodo de uso en el ejercicio | N36: INPC mes primera mitad | O36: Factor de actualización | P36: Importe Deducción fiscal
A37: Emisor | B37: SOM101125UEA | F37: 2024 | G37: =E34 -> 9481.89 | H37: 6 | I37: =ROUND(H37*$I$34,2) -> 1422.3 | J37: =G37-I37 -> 8059.59 | M37: 9 | N37: 136.08 | O37: =TRUNC(N37/$K$34,4) -> 1.011 | P37: =ROUND(I37*O37,0) -> 1438
A38: Ubicación | B38: Matriz | F38: 2025 | G38: =J37 -> 8059.59 | H38: 12 | I38: =ROUND(H38*$I$34,2) -> 2844.6 | J38: =G38-I38 -> 5214.99 | M38: 6 | O38: =TRUNC(N38/$K$34,4) -> 0 | P38: =ROUND(I38*O38,0) -> 0
F39: 2026 | G39: =J38 -> 5214.99 | H39: 12 | I39: =ROUND(H39*$I$34,2) -> 2844.6 | J39: =G39-I39 -> 2370.39 | M39: 6 | O39: =TRUNC(N39/$K$34,4) -> 0 | P39: =ROUND(I39*O39,0) -> 0
F40: 2027 | G40: =J39 -> 2370.39 | H40: 10 | I40: =ROUND(H40*$I$34,2)-0.11 -> 2370.39 | J40: =G40-I40 -> 0 | M40: 5 | O40: =TRUNC(N40/$K$34,4) -> 0 | P40: =ROUND(I40*O40,0) -> 0
A43: Clave Activo | B43: Activo | C43: Tipo de activo | D43: No. Serie | E43: MOI | F43: Fecha adq. | G43: % Dep. Fiscal | H43: Deduc. Anual | I43: Deduc. Mensual | K43: INPC Adq. | M43: Meses vida útil
B44: MACBOOK AIR 13 | C44: Equipo de cómputo | D44: HXJMC5XU1WFV | E44: 9050.86 | F44: 45486 | G44: 0.3 | H44: =ROUND(E44*G44,2) -> 2715.26 | I44: =ROUND(H44/12,2) -> 226.27 | K44: 134.594 | M44: =1/(1*G44/12) -> 40
A45: UUID | B45: B0D8E21B-4DC7-4172-96D6-5A109A2C727D
A46: Folio | B46: CFDI 320 | G46: Saldo anterior | H46: Meses de uso | I46: Deducción Anual | J46: Saldo Pendiente | M46: Último mes de la primera mitad del periodo de uso en el ejercicio | N46: INPC mes primera mitad | O46: Factor de actualización | P46: Importe Deducción fiscal
A47: Emisor | B47: MAFJ970628PZ7 | F47: 2024 | G47: =E44 -> 9050.86 | H47: 5 | I47: =ROUND(H47*$I$44,2) -> 1131.35 | J47: =G47-I47 -> 7919.51 | M47: 9 | N47: 136.08 | O47: =TRUNC(N47/$K$44,4) -> 1.011 | P47: =ROUND(I47*O47,0) -> 1144
...
