Workbook
Name NoPadres: Parametros!$F$1:$F$3
Name Respuesta: Parametros!$D$2:$D$3

Sheet Calcula Pensión
B1: PENSIONES DE VEJEZ Y CESANTIA EN
B2: EDAD AVANZADA LEY '73
B4: No. Semanas Cotizadas | C4: 2353
B5: Salario Diario Promedio (últimas 250 Semanas) | C5: 2714
B6: Esposa | C6: No | D6: Capturar Datos
B7: Hijos Menores o Estudiando (capturar Número) | C7: 0
B8: Padres (sólo a falta de viuda y huerfanos) | C8: 0
B9: Edad Jubilación | C9: 65
B11: Salario Mínimo DF | C11: 108.57 | D11: 2024
B12: Salario Diario Promedio en veces salario mínimo (VSM) | C12: =C5/C11 -> 24.997697
C14: Anual | D14: Mes
B15: Cuantía Básica
B16: Salario Diario Promedio | C16: =C5 -> 2714
B17: (X) Cuantía Básica | C17: =VLOOKUP(C12,Tablas!$A$3:$D$24,3) -> 0.13 | D17: Buscar Sal Diario en Tablas
B18: (=) Cuantía Diaria | C18: =C16*C17 -> 352.82
B19: (X) 365 | C19: 365
B20: (=) Cuantía Básica Anual | C20: =C18*C19 -> 128779.3 | D20: =C20/12 -> 10731.608
B22: Incremento Anual a la Cuantía Básica
B23: Salario Diario Promedio | C23: =C5 -> 2714
B24: (X) Incremento Cuantía Básica | C24: =VLOOKUP(C12,Tablas!$A$3:$D$24,4) -> 0.0245 | D24: Buscar Sal Diario en Tablas
B25: (=) Incremento Diario | C25: =C23*C24 -> 66.493
B26: (X) 365 | C26: 365
B27: (=) Incremento Anual previo | C27: =C25*C26 -> 24269.945
B28: (x) Total Años Reconocidos Posteriores a 500 Sems | C28: ='Años Ant'!C16 -> 36
B29: (=) Incremento Anual a la Cuantía Básica | C29: =C27*C28 -> 873718.02 | D29: =C29/12 -> 72809.835
B31: Cuantía Anual de la Pensión
B32: Cuantía Básica Anual | C32: =C20 -> 128779.3
B33: (+) Incremento Anual a la Cuantía Básica | C33: =C29 -> 873718.02
B34: (=) Cuantía Anual de la Pensión | C34: =SUM(C32:C33) -> 1002497.3 | D34: =C34/12 -> 83541.443
B36: Ayuda Asignación Esposa
B37: Cuantía Anual de la Pensión | C37: =C$34 -> 1002497.3
B38: (X) 15% si existe la Viuda | C38: 0.15
B39: (=) Ayuda Anual Asignación Esposa | C39: =IF(C6="No",0,C37*C38) -> 0 | D39: =C39/12 -> 0
B41: Ayuda Hijos Menores o Estudiando
B42: Cuantía Anual de la Pensión | C42: =C$34 -> 1002497.3
B43: (X) 10% | C43: 0.1
B44: (X) No Hijos menores o estudiando | C44: =C7 -> 0
B45: (=) Ayuda Anual Hijos Menores o Estudiando | C45: =C42*C43*C44 -> 0 | D45: =C45/12 -> 0
B47: Ayuda Padres
B48: Cuantía Anual de la Pensión | C48: =C$34 -> 1002497.3
B49: (X) 20% | C49: 0.2
B50: (X) No Padres | C50: =C8 -> 0
B51: (=) Ayuda Anual Padres | C51: =IF(OR(C6="Si",C7>0),0,C48*C49*C50) -> 0 | D51: =C51/12 -> 0
B53: Ayuda x Soledad
B54: Cuantía Anual de la Pensión | C54: =C$34 -> 1002497.3
B55: (X) 15% | C55: 0.15
B56: (=) Ayuda Anual x Soledad | C56: =IF(AND(C6="No",C7=0,C8=0),C54*C55,0) -> 150374.6 | D56: =C56/12 -> 12531.217
B58: Cuantía Anual de la Pensión + Ayudas
B59: Total Ayudas | C59: =C39+C45+C51+C56 -> 150374.6 | D59: =C59/12 -> 12531.217
B60: (+) Cuantía Anual de la Pensión | C60: =C$34 -> 1002497.3
B61: (=) Cuantía Anual de la Pensión + Ayudas | C61: =SUM(C59:C60) -> 1152871.9 | D61: =C61/12 -> 96072.66
B63: Pensión Anual x Vejez
B64: Cuantía Anual de la Pensión + Ayudas | C64: =SUM(C61:C62) -> 1152871.9 | D64: =C64/12 -> 96072.66
B65: (*) Incremento 11% Artículo Décimo | C65: 1.11 | D65: A partir del 01-05 - 2004, el Articulo Décimo cuarto transitorio inciso ( b ), de la Ley del imss, otorgo el 11% de incremento al total de la cuantía básica y al incremento anual
B66: (=) Pensión Anual x Vejez | C66: =C64*C65 -> 1279687.8 | D66: =C66/12 -> 106640.65
B68: Pensión Anual x Cesantía en Edad Avanzada
B69: Porcentaje de pensión x Edad Trabajador | C69: =VLOOKUP(C9,Tablas!$F$3:$G$8,2,FALSE) -> 1 | D69: Buscar Edad en Tablas
B70: (X) Pensión Anual x Vejez | C70: =C66 -> 1279687.8
B71: (=) Pensión Anual x Cesantía en Edad Avanzada | C71: =C69*C70 -> 1279687.8 | D71: =C71/12 -> 106640.65

Sheet Tablas
A1: VSM
A2: De: | B2: A: | C2: Cuantía Básica | D2: Incremento Anual | F2: Años | G2: %
A3: 0 | B3: 1 | C3: 0.8 | D3: 0.00563 | F3: 60 | G3: 0.75
A4: 1.01 | B4: 1.25 | C4: 0.7711 | D4: 0.00814 | F4: 61 | G4: 0.8
A5: 1.26 | B5: 1.5 | C5: 0.5518 | D5: 0.01178 | F5: 62 | G5: 0.85
A6: 1.51 | B6: 1.75 | C6: 0.4923 | D6: 0.0143 | F6: 63 | G6: 0.9
A7: 1.76 | B7: 2 | C7: 0.4267 | D7: 0.01615 | F7: 64 | G7: 0.95
A8: 2.01 | B8: 2.25 | C8: 0.3765 | D8: 0.01756 | F8: 65 | G8: 1
A9: 2.26 | B9: 2.5 | C9: 0.3368 | D9: 0.01868 | F9: * Importante el derecho se adquiere 6 meses y un día después de cumplir años
A10: 2.51 | B10: 2.75 | C10: 0.3048 | D10: 0.01958 | F10: Semanas | G10: % Incr Anual
A11: 2.76 | B11: 3 | C11: 0.2783 | D11: 0.02033 | F11: 0 | G11: 0
A12: 3.01 | B12: 3.25 | C12: 0.256 | D12: 0.02096 | F12: 13 | G12: 0.5
A13: 3.26 | B13: 3.5 | C13: 0.237 | D13: 0.02149 | F13: 26.1 | G13: 1
A14: 3.51 | B14: 3.75 | C14: 0.2207 | D14: 0.02195
A15: 3.76 | B15: 4 | C15: 0.2065 | D15: 0.02235
A16: 4.01 | B16: 4.25 | C16: 0.1939 | D16: 0.02271 | F16: Esposa | G16: 0.15
A17: 4.26 | B17: 4.5 | C17: 0.1829 | D17: 0.02302 | F17: Hijos 16 a 25 años si estudian | G17: 10% x c/u
A18: 4.51 | B18: 4.75 | C18: 0.173 | D18: 0.0233 | F18: Acendientes sólo a falta de esposa e hijos | G18: 10% x c/u
A19: 4.76 | B19: 5 | C19: 0.1641 | D19: 0.02355 | F19: Ayuda asistencial x Soledad | G19: 0.15
A20: 5.01 | B20: 5.25 | C20: 0.1561 | D20: 0.02377
A21: 5.26 | B21: 5.5 | C21: 0.1488 | D21: 0.02398
A22: 5.51 | B22: 5.75 | C22: 0.1422 | D22: 0.02416
A23: 5.76 | B23: 6 | C23: 0.1362 | D23: 0.02433
A24: 6.01 | C24: 0.13 | D24: 0.0245

Sheet Modalidad 40
B1: UMAS | C1: 108.57 | D1: 2017
B2: (X) 25 Veces | C2: 25
B3: (=) Tope Salario Mínimo Diario | C3: =C1*C2 -> 2714.25
B4: (X) 30 Días | C4: 30
B5: (=) Salario Mes | C5: =C3*C4 -> 81427.5
B6: (X) % Cuota Obrero Patronal | C6: 0.10075
B7: (=) Aportación Mensual Modalidad 40 | C7: =C5*C6 -> 8203.8206
B8: (X) % Que se va al Afore | C8: 0.1985
B9: (=) Cantidad que se va al Afore | C9: =C7*C8 -> 1628.4584
B11: Aportación Mensual Modalidad 40 | C11: =C7 -> 8203.8206
B12: (X) 12 | C12: 12
B13: (=) Aportación Anual Modalidad 40 | C13: =C11*C12 -> 98445.848
B14: (X) No Años Modalidad 40 | C14: 5
B15: (=) Aportación Período Modalidad 40 | C15: =C13*C14 -> 492229.24

Sheet Años Ant
B1: Semanas Cotizadas | C1: ='Calcula Pensión'!C4 -> 2353
B2: (-) 500 Semanas | C2: 500
B3: (=) Semanas Reconocidos Posteriores a 500 Sems | C3: =C1-C2 -> 1853
B4: (/) 52 | C4: 52
B5: (=) Años Completos Reconocidos Posteriores a 500 Sems | C5: =TRUNC(C3/C4) -> 35
B6: (*) 52 | C6: 52
B7: (=) Semanas Completas Reconocidos Posteriores a 500 Sems | C7: =C5*C6 -> 1820
B9: Semanas Reconocidos Posteriores a 500 Sems | C9: =C3 -> 1853
B10: (-) Semanas Completas Reconocidos Posteriores a 500 Sems | C10: =C7 -> 1820
B11: (=) Semanas Residuo | C11: =C9-C10 -> 33 | D11: Buscar en Tablas
B12: Años Residuo | C12: =VLOOKUP(C11,Tablas!$F$11:$G$13,2) -> 1
B14: Años Completos Reconocidos Posteriores a 500 Sems | C14: =C5 -> 35
B15: (+) Años Residuo | C15: =C12 -> 1
B16: (=) Total Años Reconocidos Posteriores a 500 Sems | C16: =SUM(C14:C15) -> 36

Sheet Parametros
F1: 0
D2: Si | F2: 1
D3: No | F3: 2
