Workbook
Name Admon: #REF!
Name Admon: Balanza!$L:$L
Name APENDICE_IVGASTOS: #REF!
Name APENDICE_IVGASTOS: Cat!$AP$42:$AP$84
Name APENDICE_IVINGRESOS: #REF!
Name APENDICE_IVINGRESOS: Cat!$AP$1:$AP$41
Name APENDICE_IX: #REF!
Name APENDICE_IX: Cat!$AT$1:$AT$37
Name APENDICE_TI: #REF!
Name APENDICE_TI: Cat!$AV$1:$AV$9
Name APENDICE_V: #REF!
Name APENDICE_V: Cat!$AQ$1:$AQ$7
Name APENDICE_VI: #REF!
Name APENDICE_VI: Cat!$AR$1:$AR$248
Name APENDICE_VII: #REF!
Name APENDICE_VII: Cat!$AS$1:$AS$48
Name APENDICE_X: #REF!
Name APENDICE_X: Cat!$AU$1:$AU$18
Name B_A_PERSONA_PER_NOM: #REF!
Name B_B_DESPACHO_DES_COL: Contador!$C$16
Name B_B_DESPACHO_DES_NOM: Contador!$C$17
Name B_B_DESPACHO_DES_NUM: Contador!$C$19
Name B_B_DESPACHO_DES_RFC: Contador!$C$18
Name B_B_PERSONA_PER_COD: Contador!$C$11
Name B_B_PERSONA_PER_COL: Contador!$C$10
Name B_B_PERSONA_PER_CURP: Contador!$C$5
Name B_B_PERSONA_PER_DEL: Contador!$C$9
Name B_B_PERSONA_PER_DOM: Contador!$C$12
Name B_B_PERSONA_PER_EDO: Contador!$C$8
Name B_B_PERSONA_PER_EXT: Contador!$C$6
Name B_B_PERSONA_PER_MAIL: Contador!$C$15
Name B_B_PERSONA_PER_NOM: Contador!$C$4
Name B_B_PERSONA_PER_POB: Contador!$C$13
Name B_B_PERSONA_PER_RFC: Contador!$C$3
Name B_B_PERSONA_PER_TEL: Contador!$C$14
Name B_C_PERSONA_PER_NOM: #REF!
Name B_D_CUANTITATIVOS_CUA_ALAF: Generales!$C$5
Name B_D_CUANTITATIVOS_CUA_AUTOCOM: Generales!$C$3
Name B_D_CUANTITATIVOS_CUA_FECFIN: Generales!$C$22
Name B_D_CUANTITATIVOS_CUA_FECINI: Generales!$C$21
Name B_D_CUANTITATIVOS_CUA_FINANT: Generales!$C$24
Name B_D_CUANTITATIVOS_CUA_FRACCION: Generales!$C$8
Name B_D_CUANTITATIVOS_CUA_INIANT: Generales!$C$23
Name B_D_CUANTITATIVOS_CUA_TCUNIFICADO: Generales!$C$13
Name B_D_CUANTITATIVOS_CUA_TIPOOPINION: Generales!$C$34
Name Bal: Balanza!$A:$G
Name Balance: #REF!
Name Balance: Balanza!$G:$G
Name C_1: 'ANEXO - 10'!$C$2
Name C_1: 'ANEXO - 8'!$D$2
Name C_1: 'ANEXO 1'!$D$2
Name C_1: 'ANEXO 11'!$F$2
Name C_1: 'ANEXO 12'!$O$2
Name C_1: 'ANEXO 14'!$M$2
Name C_1: 'ANEXO 15'!$J$2
Name C_1: 'ANEXO 16'!$S$2
Name C_1: 'ANEXO 17'!$C$2
Name C_1: 'ANEXO 2'!$D$2
Name C_1: 'ANEXO 20'!$C$2
Name C_1: 'ANEXO 22'!$E$2

Sheet Inicio
B2: HOJA DE TRABAJO PARA LA CAPTURA DEL DICTAMEN FISCAL 2012
B3: ESTADOS FINANCIEROS GENERAL
B4: DSOFT, S.A. de C.V.
B5: www.dsoft.mx
E9: Soporte | K9: Hoja de Trabajo Adaptada Por:
E11: Consultas
E12: Manual en línea | K12: LCC JULIO DANIEL REYES RIVERO
K13: danielreyes@me.com
K14: @Sipred
K15: Tel. 01 (771) 715 1056
E16: Información y Ventas
E19: Teléfonos
E20: 01 (55) 5677 3812 al 14
E21: 01 (55) 5684 3683
E22: 01 (55) 5679 5836
E23: 01 (55) 6264 5665
E25: Email
E26: ventas@dsoft.mx
E27: contacto@dsoft.mx
I29: Siguenos

Sheet Contador
A1: DATOS DE IDENTIFICACIÓN DEL CONTADOR PÚBLICO
A2: INDICE | B2: CONCEPTO | C2: DATO
A3: 01B000000 | B3: RFC: | C3: GUPC7904061W5
A4: 01B001000 | B4: NOMBRE (APELLIDO PATERNO, APELLIDO MATERNO, NOMBRE(S)) | C4: GUTIERREZ PEREZ CARLOS
A5: 01B002000 | B5: CURP: | C5: GUPC790406HDFTRR03
A6: 01B003000 | B6: NUMERO DE REGISTRO: | C6: 16886
A7: 01B003010 | B7: DOMICILIO FISCAL:
A8: 01B004000 | B8: ENTIDAD FEDERATIVA: | C8: 09 - DISTRITO FEDERAL
A9: 01B005000 | B9: DELEGACION O MUNICIPIO: | C9: Venistiano Carranza
A10: 01B006000 | B10: COLONIA O LOCALIDAD: | C10: COL. 20 DE NOVIEMBRE
A11: 01B007000 | B11: CODIGO POSTAL: | C11: 15300
A12: 01B008000 | B12: CALLE, NUMERO EXTERIOR E INTERIOR: | C12: VULCANIZACION 45
A13: 01B009000 | B13: CIUDAD O POBLACION: | C13: Ciudad de Mexico
A14: 01B010000 | B14: TELEFONO DEL CPR O DESPACHO: | C14: 5526142460
A15: 01B011000 | B15: CORREO ELECTRONICO: | C15: carlosgtz79@yahoo.com.mx
A16: 01B012000 | B16: COLEGIO AL QUE PERTENECE: | C16: COLEGIO DE CONTADORES PUBLICOS DE CUAUTLA
A17: 01B013000 | B17: NOMBRE DEL DESPACHO: | C17: GUTIERREZ ENRIQUEZ CONSULTORES S.C.
A18: 01B014000 | B18: RFC DEL DESPACHO: | C18: GEC0610136LA
A19: 01B015000 | B19: NUMERO DE REGISTRO DEL DESPACHO: | C19: 16886

Sheet Generales
A1: DATOS GENERALES | Y1: =IF(C3="1 - ADMINISTRACION GENERAL DE GRANDES CONTRIBUYENTES",1,IF(C3="2 - ADMINISTRACION LOCAL DE AUDITORIA FISCAL",2,2)) -> 2 | Z1: =IF(C26<>"",VALUE(MID(C26,1,1)),0) -> 3
A2: INDICE | B2: CONCEPTO | C2: DATO
A3: 01D000000 | B3: AUTORIDAD COMPETENTE | C3: 2 - ADMINISTRACION LOCAL DE AUDITORIA FISCAL
A4: 01D000010
A5: 01D001000 | B5: ADMINISTRACION LOCAL | C5: 15 - NAUCALPAN
A6: 01D001010
A7: 01D001011
A8: 01D002000 | B8: OBLIGADO U OPTATIVO
A9: 01D002010
A10: 01D003000 | B10: FORMA PARTE DE UNA ASOCIACION EN PARTICIPACION | C10: NO
A11: 01D004000 | B11: PRIMER DICTAMEN | C11: NO
A12: 01D005000 | B12: INDUSTRIA MAQUILADORA | C12: NO
A13: 01D006000 | B13: TIPO DE CONTRIBUYENTE ESPECIAL | C13: 0 - NINGUNO
A14: 01D007000 | B14: EMPRESA PARAESTATAL | C14: NO
A15: 01D008000 | B15: EMPRESA FILIAL | C15: NO
A16: 01D009000 | B16: EMPRESA SUBSIDIARIA | C16: NO
A17: 01D010000 | B17: ORGANISMO DESCENTRALIZADO | C17: NO
A18: 01D011000 | B18: SOCIEDAD COOPERATIVA | C18: NO
A19: 01D012000 | B19: INICIO DE OPERACIONES | C19: NO
A20: 01D012010
A21: 01D013000 | B21: FECHA DE INICIO DEL EJERCICIO FISCAL | C21: 01/01/2023
A22: 01D014000 | B22: FECHA DE TERMINACION DEL EJERCICIO FISCAL | C22: 31/12/2023
A23: 01D015000 | B23: FECHA DE INICIO DEL EJERCICIO FISCAL ANTERIOR | C23: 01/01/2022
A24: 01D016000 | B24: FECHA DE TERMINACION DEL EJERCICIO FISCAL ANTERIOR | C24: 31/12/2022
A25: 01D016010
A26: 01D017000 | B26: SELECCIONE EL SISTEMA DE COSTEO QUE UTILIZA PARA EFECTOS FISCALES: | C26: 3 - COSTEO ABSORBENTE [COSTOS HISTORICOS]
A27: 01D017010 | B27: EN CASO DE HABER SELECCIONADO ALGUN SISTEMA DE COSTEO, ESTARA A LO SIGUIENTE:
A28: 01D017011
A29: 01D018000 | B29: COSTO DE VENTAS: UTILIZA EL SISTEMA DE COSTEO DIRECTO (COSTOS HISTORICOS) PARA EFECTOS FISCALES (EN CASO AFIRMATIVO DEBE LLENAR DEL INDICE 01060000000000 AL 01060026000000 DEL ANEXO 6) | C29: =IF(siscosteoselec<>0,IF(siscosteoselec=1,"SI",IF(siscosteoselec=6,"NO","NO")),"") -> NO
A30: 01D019000 | B30: COSTO DE VENTAS: UTILIZA EL SISTEMA DE COSTEO ABSORBENTE PARA EFECTOS FISCALES Y EL METODO DE VALUACION DE COSTO DE ADQUISICION PARA EFECTOS CONTABLES (COSTOS HISTORICOS) (EN CASO AFIRMATIVO DEBE LLENAR DEL INDICE 01060027000000 AL 01060056000000 DEL ANEXO 6) | C30: =IF(siscosteoselec<>0,IF(siscosteoselec=3,"SI",IF(siscosteoselec=6,"NO","NO")),"") -> SI
A31: 01D020000 | B31: COSTO DE VENTAS: UTILIZA EL SISTEMA DE COSTEO ABSORBENTE PARA EFECTOS FISCALES (COSTOS PREDETERMINADOS ESTIMADOS) (EN CASO AFIRMATIVO DEBE LLENAR DEL INDICE 01060027000000 AL 01060056000000 DEL ANEXO 6) | C31: =IF(siscosteoselec<>0,IF(siscosteoselec=4,"SI",IF(siscosteoselec=6,"NO","NO")),"") -> NO
A32: 01D021000 | B32: COSTO DE VENTAS: UTILIZA EL SISTEMA DE COSTEO ABSORBENTE PARA EFECTOS FISCALES Y EL METODO DE VALUACION DE COSTO ESTANDAR PARA EFECTOS CONTABLES (EN CASO AFIRMATIVO DEBE LLENAR DEL INDICE 01060027000000 AL 01060056000000 DEL ANEXO 6) | C32: =IF(siscosteoselec<>0,IF(siscosteoselec=5,"SI",IF(siscosteoselec=6,"NO","NO")),"") -> NO
A33: 01D022000 | B33: COSTO DE VENTAS: UTILIZA UN SISTEMA DISTINTO A LOS ANTERIORES (EN CASO AFIRMATIVO DEBE LLENAR DEL INDICE 01060057000000 AL 01060066000000 DEL ANEXO 6) | C33: =IF(siscosteoselec<>0,IF(siscosteoselec=6,"SI",IF(siscosteoselec=7,"NO","NO")),"") -> NO
A34: 01D023000 | B34: TIPO DE OPINION
A35: 01D023010
A36: 01D024000 | B36: ESTADO DE FLUJOS DE EFECTIVO. UTILIZO EL METODO INDIRECTO (EN CASO AFIRMATIVO DEBE LLENAR DEL INDICE 01040000000000 AL 01040048000000 DEL ANEXO 4) | C36: SI
A37: 01D025000 | B37: ESTADO DE FLUJOS DE EFECTIVO. UTILIZO EL METODO DIRECTO (EN CASO AFIRMATIVO DEBE LLENAR DEL INDICE 01040049000000 AL 01040085000000 DEL ANEXO 4) | C37: =IF(C36<>"",IF(C36="SI","NO","SI"),"") -> NO
A38: 01D026000 | B38: ES RECAUDADOR DEL IMPUESTO A LOS DEPOSITOS EN EFECTIVO (EN CASO AFIRMATIVO DEBE LLENAR EL ANEXO 17) | C38: NO
A39: 01D026010
A40: 01D026011 | B40: RFC DE LA PERSONA FISICA O MORAL QUE ASESORO(ARON) FISCALMENTE AL CONTRIBUYENTE:
...

Sheet Balanza
A1: Area de Asignación de Indices | D1: Area de Colocación de Balanza | H1: =IF(I1<>0,"Descuadre por:","") | I1: =SUM(I3:I27464) -> 0 | J1: F | K1: V | L1: A | M1: G
A2: Indice | B2: A | C2: Concepto | D2: No.Cuenta | E2: N | F2: Descripción | G2: Saldo Final | H2: Partes Relacionadas | J2: Fab | K2: Vta | L2: Admon | M2: Gral
C3: =IF(ISERROR(VLOOKUP(A3,ResBal,2,FALSE)),"",VLOOKUP(A3,ResBal,2,FALSE)) -> 0 | F3: ACTIVO | I3: =IF(ISTEXT(A3)=TRUE,G3,0) -> 0 | J3: =IF($B3="F",$G3,"") | K3: =IF($B3="V",$G3,"") | L3: =IF($B3="A",$G3,"") | M3: =IF($B3="G",$G3,"")
C4: =IF(ISERROR(VLOOKUP(A4,ResBal,2,FALSE)),"",VLOOKUP(A4,ResBal,2,FALSE)) -> 0 | I4: =IF(ISTEXT(A4)=TRUE,G4,0) -> 0 | J4: =IF($B4="F",$G4,"") | K4: =IF($B4="V",$G4,"") | L4: =IF($B4="A",$G4,"") | M4: =IF($B4="G",$G4,"")
A5: 01010000000000 | C5: =IF(ISERROR(VLOOKUP(A5,ResBal,2,FALSE)),"",VLOOKUP(A5,ResBal,2,FALSE)) -> EFECTIVO EN CAJA Y BANCOS | I5: =IF(ISTEXT(A5)=TRUE,G5,0) -> 0 | J5: =IF($B5="F",$G5,"") | K5: =IF($B5="V",$G5,"") | L5: =IF($B5="A",$G5,"") | M5: =IF($B5="G",$G5,"")
A6: 01010005000000 | C6: =IF(ISERROR(VLOOKUP(A6,ResBal,2,FALSE)),"",VLOOKUP(A6,ResBal,2,FALSE)) -> CLIENTES | I6: =IF(ISTEXT(A6)=TRUE,G6,0) -> 0 | J6: =IF($B6="F",$G6,"") | K6: =IF($B6="V",$G6,"") | L6: =IF($B6="A",$G6,"") | M6: =IF($B6="G",$G6,"")
A7: 01010013000000 | C7: =IF(ISERROR(VLOOKUP(A7,ResBal,2,FALSE)),"",VLOOKUP(A7,ResBal,2,FALSE)) -> DEUDORES DIVERSOS | I7: =IF(ISTEXT(A7)=TRUE,G7,0) -> 0 | J7: =IF($B7="F",$G7,"") | K7: =IF($B7="V",$G7,"") | L7: =IF($B7="A",$G7,"") | M7: =IF($B7="G",$G7,"")
A8: 01010013000000 | C8: =IF(ISERROR(VLOOKUP(A8,ResBal,2,FALSE)),"",VLOOKUP(A8,ResBal,2,FALSE)) -> DEUDORES DIVERSOS | I8: =IF(ISTEXT(A8)=TRUE,G8,0) -> 0 | J8: =IF($B8="F",$G8,"") | K8: =IF($B8="V",$G8,"") | L8: =IF($B8="A",$G8,"") | M8: =IF($B8="G",$G8,"")
A9: 01010008000000 | C9: =IF(ISERROR(VLOOKUP(A9,ResBal,2,FALSE)),"",VLOOKUP(A9,ResBal,2,FALSE)) -> IMPUESTO AL VALOR AGREGADO POR RECUPERAR | I9: =IF(ISTEXT(A9)=TRUE,G9,0) -> 0 | J9: =IF($B9="F",$G9,"") | K9: =IF($B9="V",$G9,"") | L9: =IF($B9="A",$G9,"") | M9: =IF($B9="G",$G9,"")
A10: 01010008000000 | C10: =IF(ISERROR(VLOOKUP(A10,ResBal,2,FALSE)),"",VLOOKUP(A10,ResBal,2,FALSE)) -> IMPUESTO AL VALOR AGREGADO POR RECUPERAR | I10: =IF(ISTEXT(A10)=TRUE,G10,0) -> 0 | J10: =IF($B10="F",$G10,"") | K10: =IF($B10="V",$G10,"") | L10: =IF($B10="A",$G10,"") | M10: =IF($B10="G",$G10,"")
A11: 01010026000000 | C11: =IF(ISERROR(VLOOKUP(A11,ResBal,2,FALSE)),"",VLOOKUP(A11,ResBal,2,FALSE)) -> PAGOS PROVISIONALES DE IMPUESTOS | I11: =IF(ISTEXT(A11)=TRUE,G11,0) -> 0 | J11: =IF($B11="F",$G11,"") | K11: =IF($B11="V",$G11,"") | L11: =IF($B11="A",$G11,"") | M11: =IF($B11="G",$G11,"")
A12: 01010026000000 | C12: =IF(ISERROR(VLOOKUP(A12,ResBal,2,FALSE)),"",VLOOKUP(A12,ResBal,2,FALSE)) -> PAGOS PROVISIONALES DE IMPUESTOS | I12: =IF(ISTEXT(A12)=TRUE,G12,0) -> 0 | J12: =IF($B12="F",$G12,"") | K12: =IF($B12="V",$G12,"") | L12: =IF($B12="A",$G12,"") | M12: =IF($B12="G",$G12,"")
A13: 01010019000000 | C13: =IF(ISERROR(VLOOKUP(A13,ResBal,2,FALSE)),"",VLOOKUP(A13,ResBal,2,FALSE)) -> MATERIAS PRIMAS Y MATERIALES | I13: =IF(ISTEXT(A13)=TRUE,G13,0) -> 0 | J13: =IF($B13="F",$G13,"") | K13: =IF($B13="V",$G13,"") | L13: =IF($B13="A",$G13,"") | M13: =IF($B13="G",$G13,"")
A14: 01060043000000 | C14: =IF(ISERROR(VLOOKUP(A14,ResBal,2,FALSE)),"",VLOOKUP(A14,ResBal,2,FALSE)) -> INVENTARIO FINAL DE PRODUCTOS TERMINADOS | I14: =IF(ISTEXT(A14)=TRUE,G14,0) -> 0 | J14: =IF($B14="F",$G14,"") | K14: =IF($B14="V",$G14,"") | L14: =IF($B14="A",$G14,"") | M14: =IF($B14="G",$G14,"")
A15: 01060043000000 | C15: =IF(ISERROR(VLOOKUP(A15,ResBal,2,FALSE)),"",VLOOKUP(A15,ResBal,2,FALSE)) -> INVENTARIO FINAL DE PRODUCTOS TERMINADOS | I15: =IF(ISTEXT(A15)=TRUE,G15,0) -> 0 | J15: =IF($B15="F",$G15,"") | K15: =IF($B15="V",$G15,"") | L15: =IF($B15="A",$G15,"") | M15: =IF($B15="G",$G15,"")
A16: 01060043000000 | C16: =IF(ISERROR(VLOOKUP(A16,ResBal,2,FALSE)),"",VLOOKUP(A16,ResBal,2,FALSE)) -> INVENTARIO FINAL DE PRODUCTOS TERMINADOS | I16: =IF(ISTEXT(A16)=TRUE,G16,0) -> 0 | J16: =IF($B16="F",$G16,"") | K16: =IF($B16="V",$G16,"") | L16: =IF($B16="A",$G16,"") | M16: =IF($B16="G",$G16,"")
... A54: 01010063000000 | C54: =IF(ISERROR(VLOOKUP(A54,ResBal,2,FALSE)),"",VLOOKUP(A54,ResBal,2,FALSE)) -> GASTOS PREOPERATIVOS | I54: =IF(ISTEXT(A54)=TRUE,G54,0) -> 0 | J54: =IF($B54="F",$G54,"") | K54: =IF($B54="V",$G54,"") | L54: =IF($B54="A",$G54,"") | M54: =IF($B54="G",$G54,"")
C55: =IF(ISERROR(VLOOKUP(A55,ResBal,2,FALSE)),"",VLOOKUP(A55,ResBal,2,FALSE)) -> 0 | I55: =IF(ISTEXT(A55)=TRUE,G55,0) -> 0 | J55: =IF($B55="F",$G55,"") | K55: =IF($B55="V",$G55,"") | L55: =IF($B55="A",$G55,"") | M55: =IF($B55="G",$G55,"")
A56: 01010085000000 | C56: =IF(ISERROR(VLOOKUP(A56,ResBal,2,FALSE)),"",VLOOKUP(A56,ResBal,2,FALSE)) -> NACIONALES | I56: =IF(ISTEXT(A56)=TRUE,G56,0) -> 0 | J56: =IF($B56="F",$G56,"") | K56: =IF($B56="V",$G56,"") | L56: =IF($B56="A",$G56,"") | M56: =IF($B56="G",$G56,"")
A57: 01010082000000 | C57: =IF(ISERROR(VLOOKUP(A57,ResBal,2,FALSE)),"",VLOOKUP(A57,ResBal,2,FALSE)) -> ACREEDORES NACIONALES | I57: =IF(ISTEXT(A57)=TRUE,G57,0) -> 0 | J57: =IF($B57="F",$G57,"") | K57: =IF($B57="V",$G57,"") | L57: =IF($B57="A",$G57,"") | M57: =IF($B57="G",$G57,"")
A58: 01010104000000 | C58: =IF(ISERROR(VLOOKUP(A58,ResBal,2,FALSE)),"",VLOOKUP(A58,ResBal,2,FALSE)) -> ANTICIPOS DE CLIENTES NACIONALES | I58: =IF(ISTEXT(A58)=TRUE,G58,0) -> 0 | J58: =IF($B58="F",$G58,"") | K58: =IF($B58="V",$G58,"") | L58: =IF($B58="A",$G58,"") | M58: =IF($B58="G",$G58,"")
A59: 01010104000000 | C59: =IF(ISERROR(VLOOKUP(A59,ResBal,2,FALSE)),"",VLOOKUP(A59,ResBal,2,FALSE)) -> ANTICIPOS DE CLIENTES NACIONALES | I59: =IF(ISTEXT(A59)=TRUE,G59,0) -> 0 | J59: =IF($B59="F",$G59,"") | K59: =IF($B59="V",$G59,"") | L59: =IF($B59="A",$G59,"") | M59: =IF($B59="G",$G59,"")
A60: 01010090000000 | C60: =IF(ISERROR(VLOOKUP(A60,ResBal,2,FALSE)),"",VLOOKUP(A60,ResBal,2,FALSE)) -> IMPUESTO AL VALOR AGREGADO | I60: =IF(ISTEXT(A60)=TRUE,G60,0) -> 0 | J60: =IF($B60="F",$G60,"") | K60: =IF($B60="V",$G60,"") | L60: =IF($B60="A",$G60,"") | M60: =IF($B60="G",$G60,"")
A61: 01010102000000 | C61: =IF(ISERROR(VLOOKUP(A61,ResBal,2,FALSE)),"",VLOOKUP(A61,ResBal,2,FALSE)) -> IMPUESTO AL VALOR AGREGADO NO COBRADO | I61: =IF(ISTEXT(A61)=TRUE,G61,0) -> 0 | J61: =IF($B61="F",$G61,"") | K61: =IF($B61="V",$G61,"") | L61: =IF($B61="A",$G61,"") | M61: =IF($B61="G",$G61,"")
A62: 01010113000000 | C62: =IF(ISERROR(VLOOKUP(A62,ResBal,2,FALSE)),"",VLOOKUP(A62,ResBal,2,FALSE)) -> DOCUMENTOS POR PAGAR NACIONALES | I62: =IF(ISTEXT(A62)=TRUE,G62,0) -> 0 | J62: =IF($B62="F",$G62,"") | K62: =IF($B62="V",$G62,"") | L62: =IF($B62="A",$G62,"") | M62: =IF($B62="G",$G62,"")
A63: 01010095000000 | C63: =IF(ISERROR(VLOOKUP(A63,ResBal,2,FALSE)),"",VLOOKUP(A63,ResBal,2,FALSE)) -> CUOTAS PATRONALES SEGURO SOCIAL | I63: =IF(ISTEXT(A63)=TRUE,G63,0) -> 0 | J63: =IF($B63="F",$G63,"") | K63: =IF($B63="V",$G63,"") | L63: =IF($B63="A",$G63,"") | M63: =IF($B63="G",$G63,"")
A64: 01010095000000 | C64: =IF(ISERROR(VLOOKUP(A64,ResBal,2,FALSE)),"",VLOOKUP(A64,ResBal,2,FALSE)) -> CUOTAS PATRONALES SEGURO SOCIAL | I64: =IF(ISTEXT(A64)=TRUE,G64,0) -> 0 | J64: =IF($B64="F",$G64,"") | K64: =IF($B64="V",$G64,"") | L64: =IF($B64="A",$G64,"") | M64: =IF($B64="G",$G64,"")
A65: 01010098000000 | C65: =IF(ISERROR(VLOOKUP(A65,ResBal,2,FALSE)),"",VLOOKUP(A65,ResBal,2,FALSE)) -> APORTACIONES AL SAR | I65: =IF(ISTEXT(A65)=TRUE,G65,0) -> 0 | J65: =IF($B65="F",$G65,"") | K65: =IF($B65="V",$G65,"") | L65: =IF($B65="A",$G65,"") | M65: =IF($B65="G",$G65,"")
A66: 01010100000100 | C66: =IF(ISERROR(VLOOKUP(A66,ResBal,2,FALSE)),"",VLOOKUP(A66,ResBal,2,FALSE)) -> APORTACIONES CyV | I66: =IF(ISTEXT(A66)=TRUE,G66,0) -> 0 | J66: =IF($B66="F",$G66,"") | K66: =IF($B66="V",$G66,"") | L66: =IF($B66="A",$G66,"") | M66: =IF($B66="G",$G66,"")
A67: 01010097000000 | C67: =IF(ISERROR(VLOOKUP(A67,ResBal,2,FALSE)),"",VLOOKUP(A67,ResBal,2,FALSE)) -> APORTACIONES AL INFONAVIT | I67: =IF(ISTEXT(A67)=TRUE,G67,0) -> 0 | J67: =IF($B67="F",$G67,"") | K67: =IF($B67="V",$G67,"") | L67: =IF($B67="A",$G67,"") | M67: =IF($B67="G",$G67,"")
C68: =IF(ISERROR(VLOOKUP(A68,ResBal,2,FALSE)),"",VLOOKUP(A68,ResBal,2,FALSE)) -> 0 | I68: =IF(ISTEXT(A68)=TRUE,G68,0) -> 0 | J68: =IF($B68="F",$G68,"") | K68: =IF($B68="V",$G68,"") | L68: =IF($B68="A",$G68,"") | M68: =IF($B68="G",$G68,"")
A69: 01010090000000 | C69: =IF(ISERROR(VLOOKUP(A69,ResBal,2,FALSE)),"",VLOOKUP(A69,ResBal,2,FALSE)) -> IMPUESTO AL VALOR AGREGADO | I69: =IF(ISTEXT(A69)=TRUE,G69,0) -> 0 | J69: =IF($B69="F",$G69,"") | K69: =IF($B69="V",$G69,"") | L69: =IF($B69="A",$G69,"") | M69: =IF($B69="G",$G69,"")
A70: 01010088000000 | C70: =IF(ISERROR(VLOOKUP(A70,ResBal,2,FALSE)),"",VLOOKUP(A70,ResBal,2,FALSE)) -> IMPUESTO SOBRE LA RENTA | I70: =IF(ISTEXT(A70)=TRUE,G70,0) -> 0 | J70: =IF($B70="F",$G70,"") | K70: =IF($B70="V",$G70,"") | L70: =IF($B70="A",$G70,"") | M70: =IF($B70="G",$G70,"")
A71: 01010094000000 | C71: =IF(ISERROR(VLOOKUP(A71,ResBal,2,FALSE)),"",VLOOKUP(A71,ResBal,2,FALSE)) -> IMPUESTOS LOCALES | I71: =IF(ISTEXT(A71)=TRUE,G71,0) -> 0 | J71: =IF($B71="F",$G71,"") | K71: =IF($B71="V",$G71,"") | L71: =IF($B71="A",$G71,"") | M71: =IF($B71="G",$G71,"")
A72: 01010094000000 | C72: =IF(ISERROR(VLOOKUP(A72,ResBal,2,FALSE)),"",VLOOKUP(A72,ResBal,2,FALSE)) -> IMPUESTOS LOCALES | I72: =IF(ISTEXT(A72)=TRUE,G72,0) -> 0 | J72: =IF($B72="F",$G72,"") | K72: =IF($B72="V",$G72,"") | L72: =IF($B72="A",$G72,"") | M72: =IF($B72="G",$G72,"")
A73: 01010088000000 | C73: =IF(ISERROR(VLOOKUP(A73,ResBal,2,FALSE)),"",VLOOKUP(A73,ResBal,2,FALSE)) -> IMPUESTO SOBRE LA RENTA | I73: =IF(ISTEXT(A73)=TRUE,G73,0) -> 0 | J73: =IF($B73="F",$G73,"") | K73: =IF($B73="V",$G73,"") | L73: =IF($B73="A",$G73,"") | M73: =IF($B73="G",$G73,"")
C74: =IF(ISERROR(VLOOKUP(A74,ResBal,2,FALSE)),"",VLOOKUP(A74,ResBal,2,FALSE)) -> 0 | I74: =IF(ISTEXT(A74)=TRUE,G74,0) -> 0 | J74: =IF($B74="F",$G74,"") | K74: =IF($B74="V",$G74,"") | L74: =IF($B74="A",$G74,"") | M74: =IF($B74="G",$G74,"")
A75: 01010096000000 | C75: =IF(ISERROR(VLOOKUP(A75,ResBal,2,FALSE)),"",VLOOKUP(A75,ResBal,2,FALSE)) -> CUOTAS OBRERAS SEGURO SOCIAL | I75: =IF(ISTEXT(A75)=TRUE,G75,0) -> 0 | J75: =IF($B75="F",$G75,"") | K75: =IF($B75="V",$G75,"") | L75: =IF($B75="A",$G75,"") | M75: =IF($B75="G",$G75,"")
A76: 01010099000000 | C76: =IF(ISERROR(VLOOKUP(A76,ResBal,2,FALSE)),"",VLOOKUP(A76,ResBal,2,FALSE)) -> IMPUESTOS RETENIDOS | I76: =IF(ISTEXT(A76)=TRUE,G76,0) -> 0 | J76: =IF($B76="F",$G76,"") | K76: =IF($B76="V",$G76,"") | L76: =IF($B76="A",$G76,"") | M76: =IF($B76="G",$G76,"")
A77: 01010099000000 | C77: =IF(ISERROR(VLOOKUP(A77,ResBal,2,FALSE)),"",VLOOKUP(A77,ResBal,2,FALSE)) -> IMPUESTOS RETENIDOS | I77: =IF(ISTEXT(A77)=TRUE,G77,0) -> 0 | J77: =IF($B77="F",$G77,"") | K77: =IF($B77="V",$G77,"") | L77: =IF($B77="A",$G77,"") | M77: =IF($B77="G",$G77,"")
...

Sheet Sumas
A1: =[0]!B_A_PERSONA_PER_NOM -> #REF! | C1: 2023 | H1: =IF(H2<>0,"Descuadre por:","Cuadre Correcto") -> Cuadre Correcto
A2: RESUMEN DE BALANZA DE COMPROBACION PARA SIPRED | C2: 2023 | H2: =H363 -> 0
A3: Indice | B3: Descripción | C3: Bal y Rdo | D3: Fabricación | E3: Venta | F3: Admon. | G3: Generales | H3: Total | I3: Partes Relacionadas
A5: ACTIVO
A6: EFECTIVO E INVERSIONES TEMPORALES
A7: 01010000000000 | B7: EFECTIVO EN CAJA Y BANCOS | C7: =ROUND(SUMIF(Indice,$A7,Balance),) -> 0 | H7: =SUM(C7:G7) -> 0 | I7: =ROUND(SUMIF(Indice,$A7,PartesRel),) -> 0
A8: 01010001000000 | B8: VALORES DE INMEDIATA REALIZACION | C8: =ROUND(SUMIF(Indice,$A8,Balance),) -> 0 | H8: =SUM(C8:G8) -> 0 | I8: =ROUND(SUMIF(Indice,$A8,PartesRel),) -> 0
A9: 01010002000000 | B9: INVERSIONES EN RENTA FIJA | C9: =ROUND(SUMIF(Indice,$A9,Balance),) -> 0 | H9: =SUM(C9:G9) -> 0 | I9: =ROUND(SUMIF(Indice,$A9,PartesRel),) -> 0
A10: 01010003000100 | B10: OTROS INSTRUMENTOS FINANCIEROS DEFINIR | C10: =ROUND(SUMIF(Indice,$A10,Balance),) -> 0 | H10: =SUM(C10:G10) -> 0 | I10: =ROUND(SUMIF(Indice,$A10,PartesRel),) -> 0
A11: CUENTAS POR COBRAR
A12: 01010005000000 | B12: CLIENTES | C12: =ROUND(SUMIF(Indice,$A12,Balance),) -> 0 | H12: =SUM(C12:G12) -> 0 | I12: =ROUND(SUMIF(Indice,$A12,PartesRel),) -> 0
A13: 01010006000000 | B13: DOCUMENTOS POR COBRAR | C13: =ROUND(SUMIF(Indice,$A13,Balance),) -> 0 | H13: =SUM(C13:G13) -> 0 | I13: =ROUND(SUMIF(Indice,$A13,PartesRel),) -> 0
A14: 01010007000000 | B14: PARTES RELACIONADAS | C14: =ROUND(SUMIF(Indice,$A14,Balance),) -> 0 | H14: =SUM(C14:G14) -> 0 | I14: =ROUND(SUMIF(Indice,$A14,PartesRel),) -> 0
A15: 01010008000000 | B15: IMPUESTO AL VALOR AGREGADO POR RECUPERAR | C15: =ROUND(SUMIF(Indice,$A15,Balance),) -> 0 | H15: =SUM(C15:G15) -> 0 | I15: =ROUND(SUMIF(Indice,$A15,PartesRel),) -> 0
A16: 01010009000000 | B16: IMPUESTO SOBRE LA RENTA POR RECUPERAR | C16: =ROUND(SUMIF(Indice,$A16,Balance),) -> 0 | H16: =SUM(C16:G16) -> 0 | I16: =ROUND(SUMIF(Indice,$A16,PartesRel),) -> 0
A17: 01010010000000 | B17: IMPUESTO EMPRESARIAL A LA TASA UNICA POR RECUPERAR | C17: =ROUND(SUMIF(Indice,$A17,Balance),) -> 0 | H17: =SUM(C17:G17) -> 0 | I17: =ROUND(SUMIF(Indice,$A17,PartesRel),) -> 0
A18: 01010011000000 | B18: IMPUESTO A LOS DEPOSITOS EN EFECTIVO POR RECUPERAR | C18: =ROUND(SUMIF(Indice,$A18,Balance),) -> 0 | H18: =SUM(C18:G18) -> 0 | I18: =ROUND(SUMIF(Indice,$A18,PartesRel),) -> 0
A19: 01010012000000 | B19: OTROS IMPUESTOS POR RECUPERAR | C19: =ROUND(SUMIF(Indice,$A19,Balance),) -> 0 | H19: =SUM(C19:G19) -> 0 | I19: =ROUND(SUMIF(Indice,$A19,PartesRel),) -> 0
A20: 01010013000000 | B20: DEUDORES DIVERSOS | C20: =ROUND(SUMIF(Indice,$A20,Balance),) -> 0 | H20: =SUM(C20:G20) -> 0 | I20: =ROUND(SUMIF(Indice,$A20,PartesRel),) -> 0
A21: 01010014000000 | B21: ESTIMACION DE CUENTAS INCOBRABLES | C21: =ROUND(SUMIF(Indice,$A21,Balance),) -> 0 | H21: =SUM(C21:G21) -> 0 | I21: =ROUND(SUMIF(Indice,$A21,PartesRel),) -> 0
A22: 01010015000100 | B22: OTRAS CUENTAS POR COBRAR DEFINIR | C22: =ROUND(SUMIF(Indice,$A22,Balance),) -> 0 | H22: =SUM(C22:G22) -> 0 | I22: =ROUND(SUMIF(Indice,$A22,PartesRel),) -> 0
A23: INVENTARIOS
A24: 01010017000000 | B24: PRODUCTOS TERMINADOS | C24: =ROUND(SUMIF(Indice,$A24,Balance),) -> 0 | H24: =SUM(C24:G24) -> 0 | I24: =ROUND(SUMIF(Indice,$A24,PartesRel),) -> 0
A25: 01010018000000 | B25: PRODUCCION EN PROCESO | C25: =ROUND(SUMIF(Indice,$A25,Balance),) -> 0 | H25: =SUM(C25:G25) -> 0 | I25: =ROUND(SUMIF(Indice,$A25,PartesRel),) -> 0
A26: 01010019000000 | B26: MATERIAS PRIMAS Y MATERIALES | C26: =ROUND(SUMIF(Indice,$A26,Balance),) -> 0 | H26: =SUM(C26:G26) -> 0 | I26: =ROUND(SUMIF(Indice,$A26,PartesRel),) -> 0
A27: 01010020000000 | B27: ESTIMACION DE OBSOLESCENCIA | C27: =ROUND(SUMIF(Indice,$A27,Balance),) -> 0 | H27: =SUM(C27:G27) -> 0 | I27: =ROUND(SUMIF(Indice,$A27,PartesRel),) -> 0
A28: 01010021000000 | B28: PERDIDA POR DETERIORO | C28: =ROUND(SUMIF(Indice,$A28,Balance),) -> 0 | H28: =SUM(C28:G28) -> 0 | I28: =ROUND(SUMIF(Indice,$A28,PartesRel),) -> 0
A29: 01010022000100 | B29: OTROS INVENTARIOS DEFINIR | C29: =ROUND(SUMIF(Indice,$A29,Balance),) -> 0 | H29: =SUM(C29:G29) -> 0 | I29: =ROUND(SUMIF(Indice,$A29,PartesRel),) -> 0
A30: PAGOS ANTICIPADOS
A31: 01010024000000 | B31: RENTAS PAGADAS POR ANTICIPADO | C31: =ROUND(SUMIF(Indice,$A31,Balance),) -> 0 | H31: =SUM(C31:G31) -> 0 | I31: =ROUND(SUMIF(Indice,$A31,PartesRel),) -> 0
A32: 01010025000000 | B32: ANTICIPO A PROVEEDORES | C32: =ROUND(SUMIF(Indice,$A32,Balance),) -> 0 | H32: =SUM(C32:G32) -> 0
A33: 01010026000000 | B33: PAGOS PROVISIONALES DE IMPUESTOS | C33: =ROUND(SUMIF(Indice,$A33,Balance),) -> 0 | H33: =SUM(C33:G33) -> 0 | I33: =ROUND(SUMIF(Indice,$A33,PartesRel),) -> 0
A34: 01010026000200 | B34: IVA RETENIDO NO DECLARADO | C34: =ROUND(SUMIF(Indice,$A34,Balance),) -> 0 | H34: =SUM(C34:G34) -> 0 | I34: =ROUND(SUMIF(Indice,$A34,PartesRel),) -> 0
A35: 01010027000000 | B35: PERDIDA POR DETERIORO DE PAGOS ANTICIPADOS | C35: =ROUND(SUMIF(Indice,$A35,Balance),) -> 0
A36: 01010029000100 | B36: OTROS ACTIVOS | C36: =ROUND(SUMIF(Indice,$A36,Balance),) -> 0 | H36: =SUM(C36:G36) -> 0 | I36: =ROUND(SUMIF(Indice,$A36,PartesRel),) -> 0
A37: 01010030000000 | B37: IMPUESTO AL VALOR AGREGADO NO PAGADO | C37: =ROUND(SUMIF(Indice,$A37,Balance),) -> 0 | H37: =SUM(C37:G37) -> 0 | I37: =ROUND(SUMIF(Indice,$A37,PartesRel),) -> 0
A38: CUENTAS POR COBRAR A LARGO PLAZO
A39: 01010032000000 | B39: CUENTAS POR COBRAR A LARGO PLAZO PARTES RELACIONADAS | C39: =ROUND(SUMIF(Indice,$A39,Balance),) -> 0 | H39: =SUM(C39:G39) -> 0 | I39: =ROUND(SUMIF(Indice,$A39,PartesRel),) -> 0
A40: 01010033000000 | B40: CUENTAS POR COBRAR A LARGO PLAZO PARTES NO RELACIONADAS | C40: =ROUND(SUMIF(Indice,$A40,Balance),) -> 0 | H40: =SUM(C40:G40) -> 0 | I40: =ROUND(SUMIF(Indice,$A40,PartesRel),) -> 0
A41: PAGOS ANTICIPADOS A LARGO PLAZO
...

Sheet Monitor
A1: MONITOR DE DIFERENCIAS
A3: INDICE | B3: CRUCES | C3: IMPORTES
A5: DEPRECIACIONES
A6: 01070031000000 | B6: EN GASTO CONTABILIDAD | C6: =VLOOKUP(A6,ResBal,8,FALSE) -> 0
A7: 01070033000000 | B7: EN GASTO AMORTIZACION | C7: =VLOOKUP(A7,ResBal,8,FALSE) -> 0
B8: SUMA DEPRECIACION Y AMORTIZACION | C8: =C6+C7 -> 0
A9: 01040002000000 | B9: DEPRECIACIONES Y AMORTIZACIONES | C9: ='ANEXO 4'!C15 -> 0
A10: 01190041000000 | B10: EN CONCILIACION DEPRECIACION | C10: =#REF! -> #REF!
A11: 01190047000000 | B11: EN CONCILIACION AMORTIZACION | C11: =#REF! -> #REF!
B12: SUMA DEPRECIACION Y AMORTIZACION | C12: =C10+C11 -> #REF!
B13: DIFERENCIA | C13: =+C8-C12 -> #REF!
A15: IMPUESTOS POR PAGAR
A16: 01010101000000 | B16: EN BALANCE | C16: ='ANEXO 1'!C170 -> 0
A17: 01180051000000 | B17: EN ANEXO 10 | C17: ='ANEXO - 10'!C227 -> 0
B18: DIFERENCIA | C18: =C17-C16 -> 0
A20: ADQUISICIÓN DE BIENES
A21: 01040022000000 | B21: EN ANEXO 4 | C21: =-'ANEXO 4'!C48 -> 0
A22: 01340013000000 | B22: EN ANEXO 34 | C22: =#REF!-#REF! -> #REF!
B23: DIFERENCIA | C23: =C22-C21 -> #REF!
B26: DIFERENCIA EN BALANCE 2025 | C26: ='ANEXO 1'!C241-'ANEXO 1'!C132 -> 0
B27: DIFERENCIA EN BALANCE 2024 | C27: ='ANEXO 1'!D241-'ANEXO 1'!D132 -> 0
B29: VARIACIONES EN EL CAPITAL | C29: =SUM('ANEXO 3'!C38:M38) -> 0
B31: DIFERENCIA EN FLUJO DE EFECTIVO | C31: =+'ANEXO 1'!C_225 -> 2025 | D31: =+'ANEXO 1'!C_1 -> 2024
B32: EFECTIVO EN CAJA Y BANCOS | C32: ='ANEXO 1'!C15 -> 0 | D32: ='ANEXO 1'!D15 -> 0
B33: EFECTIVO AL FINAL DEL PERIODO | C33: ='ANEXO 4'!C85 -> 0 | D33: ='ANEXO 4'!D85 -> 0
B34: DIFERENCIA | C34: =C32-C33 -> 0 | D34: =D32-D33 -> 0
B35: MITAD | C35: =C34/2 -> 0 | D35: =D34/2 -> 0
B36: DOBLE | C36: =C34*2 -> 0 | D36: =D34*2 -> 0

Sheet ANEXO 1
B1: 1.- ESTADO DE POSICION FINANCIERA
A2: INDICE | B2: CONCEPTO | C2: 2025 | D2: 2024
A3: 01010000000010
A4: 01010000000011 | B4: (CIFRAS EN PESOS)
A5: 01010000000012 | B5: ACTIVO
A6: 01010000000013
A7: 01010000000014 | B7: ACTIVO CIRCULANTE
A8: 01010000000015
A9: 01010000000016 | B9: EFECTIVO E INSTRUMENTOS FINANCIEROS
A10: 01010000000017
A11: 01010000000000 | B11: EFECTIVO EN CAJA Y BANCOS | C11: =VLOOKUP(A11,ResBal,8,FALSE) -> 0 | D11: 0
A12: 01010001000000 | B12: VALORES DE INMEDIATA REALIZACION | C12: =VLOOKUP(A12,ResBal,8,FALSE) -> 0 | D12: 0 | G12: =C12-D12 -> 0
A13: 01010002000000 | B13: INVERSIONES EN RENTA FIJA | C13: =VLOOKUP(A13,ResBal,8,FALSE) -> 0 | D13: 0
A14: 01010003000000 | B14: OTROS INSTRUMENTOS FINANCIEROS | C14: =Sumas!C10 -> 0 | D14: 0
A15: 01010004000000 | B15: TOTAL DE EFECTIVO E INSTRUMENTOS FINANCIEROS | C15: =TRUNC(SUM(C11:C13)+C14,0) -> 0 | D15: =TRUNC(SUM(D11:D13)+D14,0) -> 0
A16: 01010004000010
A17: 01010004000011 | B17: CUENTAS POR COBRAR
A18: 01010004000012
A19: 01010005000000 | B19: CLIENTES | C19: =VLOOKUP(A19,ResBal,8,FALSE) -> 0 | D19: 0
A20: 01010006000000 | B20: DOCUMENTOS POR COBRAR | C20: =VLOOKUP(A20,ResBal,8,FALSE) -> 0 | D20: 0
A21: 01010007000000 | B21: PARTES RELACIONADAS | C21: =VLOOKUP(A21,ResBal,8,FALSE) -> 0 | D21: 0
A22: 01010008000000 | B22: IMPUESTO AL VALOR AGREGADO POR RECUPERAR | C22: =VLOOKUP(A22,ResBal,8,FALSE) -> 0 | D22: 0
A23: 01010009000000 | B23: IMPUESTO SOBRE LA RENTA POR RECUPERAR | C23: =VLOOKUP(A23,ResBal,8,FALSE) -> 0 | D23: 0
A24: 01010010000000 | B24: IMPUESTO EMPRESARIAL A TASA UNICA POR RECUPERAR | C24: =VLOOKUP(A24,ResBal,8,FALSE) -> 0 | D24: 0
A25: 01010011000000 | B25: IMPUESTO A LOS DEPOSITOS EN EFECTIVO POR RECUPERAR | C25: =VLOOKUP(A25,ResBal,8,FALSE) -> 0 | D25: 0
A26: 01010012000000 | B26: OTROS IMPUESTOS POR RECUPERAR | C26: =VLOOKUP(A26,ResBal,8,FALSE) -> 0 | D26: 0
A27: 01010013000000 | B27: DEUDORES DIVERSOS | C27: =VLOOKUP(A27,ResBal,8,FALSE) -> 0 | D27: 0
A28: 01010014000000 | B28: ESTIMACION DE CUENTAS INCOBRABLES | C28: =VLOOKUP(A28,ResBal,8,FALSE) -> 0 | D28: 0
A29: 01010015000000 | B29: OTRAS CUENTAS POR COBRAR
A30: 01010016000000 | B30: TOTAL DE CUENTAS POR COBRAR | C30: =TRUNC(SUM(C19:C26)+C28+C27+C29,0) -> 0 | D30: =TRUNC(SUM(D19:D26)+D28+D27+D29,0) -> 0
A31: 01010016000010
A32: 01010016000011 | B32: INVENTARIOS
A33: 01010016000012
A34: 01060043000000 | B34: PRODUCTOS TERMINADOS | C34: =VLOOKUP(A34,ResBal,8,FALSE) -> 0 | D34: 0
A35: 01010018000000 | B35: PRODUCCION EN PROCESO | C35: =VLOOKUP(A35,ResBal,8,FALSE) -> 0 | D35: 0
A36: 01010019000000 | B36: MATERIAS PRIMAS Y MATERIALES | C36: =VLOOKUP(A36,ResBal,8,FALSE) -> 0 | D36: 0
A37: 01010020000000 | B37: ESTIMACION DE OBSOLESCENCIA | C37: =VLOOKUP(A37,ResBal,8,FALSE) -> 0 | D37: 0
A38: 01010021000000 | B38: PERDIDA POR DETERIORO | C38: =VLOOKUP(A38,ResBal,8,FALSE) -> 0 | D38: 0
A39: 01010022000000 | B39: OTROS
A40: 01010023000000 | B40: TOTAL DE INVENTARIOS | C40: =TRUNC(SUM(C34:C39),0) -> 0 | D40: =TRUNC(SUM(D34:D39),0) -> 0
...

Sheet ANEXO 2
B1: 2.- ESTADO DE RESULTADOS
A2: INDICE | B2: CONCEPTO | C2: 2025 | D2: 2024
A3: 01020000000010
A4: 01020000000011 | B4: (CIFRAS EN PESOS)
A5: 01020000000012 | B5: NOTA: PARA EL LLENADO DE ESTE ANEXO ES NECESARIO CAPTURAR PRIMERO LA INFORMACION DE LOS ANEXOS 5, 6 (CUANDO SE ESTE OBLIGADO AL LLENADO DE ESTE ANEXO), 7, 8 Y 9. | F5: INGRESOS | G5: DEDUCCIONES | I5: BALANZA | J5: DIFERENCIA
A6: 01020000000013
A7: 01020000000000 | B7: TOTAL DE VENTAS O INGRESOS NETOS PROPIOS DE LA ACTIVIDAD | C7: =TRUNC('ANEXO 5'!C43,0) -> 0 | D7: 0 | F7: =C7 -> 0 | I7: 8.0355416e+08 | J7: =+C7-I7 -> -8.0355416e+08 | L7: 69979440
A8: 01020000000010
A9: 01020000000011 | B9: MENOS:
A10: 01020000000012
A11: 01020001000000 | B11: COSTO DE VENTAS | C11: =TRUNC('ANEXO 6'!C49+'ANEXO 6'!C117+'ANEXO 6'!C142,0) -> 0 | D11: 0 | G11: =C11 -> 0 | I11: 7.0691713e+08 | J11: =+C11-I11 -> -7.0691713e+08
A12: 01020001000010
A13: 01020002000000 | B13: PERDIDA BRUTA | C13: =TRUNC(IF(C7-C11<0,-C7+C11, 0),0) -> 0 | D13: =TRUNC(IF(D7-D11<0,-D7+D11, 0),0) -> 0
A14: 01020003000000 | B14: UTILIDAD BRUTA | C14: =TRUNC(IF(C7-C11>0,C7-C11, 0),0) -> 0 | D14: =TRUNC(IF(D7-D11>0,D7-D11, 0),0) -> 0 | I14: =TRUNC(IF(I7-I11>0,I7-I11, 0),0) -> 96637025
A15: 01020003000010
A16: 01020003000011 | B16: MENOS:
A17: 01020003000012
A18: 01020003000013 | B18: GASTOS DE OPERACION
A19: 01020003000014
A20: 01020004000000 | B20: GASTOS GENERALES | C20: =TRUNC('ANEXO 7'!I116,0) -> 0 | D20: 0 | G20: =C20 -> 0 | I20: 4739246.8 | J20: =+C20-I20 -> -4739246.8
A21: 01020005000000 | B21: GASTOS DE ADMINISTRACION | C21: =TRUNC('ANEXO 7'!G116,0) -> 0 | D21: 0 | G21: =C21 -> 0
A22: 01020006000000 | B22: GASTOS DE VENTA | C22: =TRUNC('ANEXO 7'!E116,0) -> 0 | D22: 0 | G22: =C22 -> 0
A23: 01020007000000 | B23: TOTAL | C23: =TRUNC(SUM(C20:C22),0) -> 0 | D23: =TRUNC(SUM(D20:D22),0) -> 0 | I23: =TRUNC(SUM(I20:I22),0) -> 4739246
A24: 01020007000010
A25: 01020008000000 | B25: PERDIDA DE OPERACION | C25: =TRUNC(IF(C14-C13-C23<0,C13-C14+C23, 0),0) -> 0 | D25: =TRUNC(IF(D14-D13-D23<0,D13-D14+D23, 0),0) -> 0
A26: 01020009000000 | B26: UTILIDAD DE OPERACIÓN | C26: =TRUNC(IF(C14-C13-C23>0,-C13+C14-C23, 0),0) -> 0 | D26: =TRUNC(IF(D14-D13-D23>0,-D13+D14-D23, 0),0) -> 0 | I26: =TRUNC(IF(I14-I13-I23>0,-I13+I14-I23, 0),0) -> 91897779 | J26: =+C26-I26 -> -91897779
A27: 01020009000010
A28: 01020009000011 | B28: MAS (MENOS):
A29: 01020009000012
A30: 01020009000013 | B30: OTROS INGRESOS Y OTROS GASTOS
A31: 01020009000014
A32: 01020010000000 | B32: OTROS INGRESOS | C32: =TRUNC('ANEXO 5'!D43,0) -> 0 | D32: 0 | F32: =C32 -> 0 | I32: 0 | J32: =+C32-I32 -> 0
A33: 01020011000000 | B33: OTROS GASTOS | C33: =TRUNC('OTROS GASTOS'!C20,0) -> 0 | D33: 0 | G33: =C33 -> 0
A34: 01020012000000 | B34: TOTAL | C34: =TRUNC(C32-C33,0) -> 0 | D34: =TRUNC(D32-D33,0) -> 0 | I34: =TRUNC(I32-I33,0) -> 0
A35: 01020012000010
A36: 01020012000011 | B36: MAS (MENOS):
A37: 01020012000012
A38: 01020012000013 | B38: RESULTADO INTEGRAL DE FINANCIAMIENTO
A39: 01020012000014
A40: 01020013000000 | B40: INTERESES A FAVOR | C40: =TRUNC('ANEXO - 8'!C20,0) -> 0 | D40: 0 | F40: =C40 -> 0
...

Sheet ANEXO 3
B1: 3.- ESTADO DE VARIACIONES EN EL CAPITAL CONTABLE
A2: INDICE | B2: CONCEPTO | C2: CAPITAL SOCIAL NOMINAL | D2: CAPITAL SOCIAL ACTUALIZADO | E2: APORTACIONES PARA FUTUROS AUMENTOS DE CAPITAL | F2: PRIMA EN SUSCRIPCION DE ACCIONES | G2: RESERVA LEGAL | H2: UTILIDAD NETA | I2: PERDIDA NETA | J2: UTILIDADES RETENIDAS DE EJERCICIOS ANTERIORES | K2: PERDIDAS ACUMULADAS DE EJERCICIOS ANTERIORES | L2: EXCESO O INSUFICIENCIA | M2: OTRAS CUENTAS DE CAPITAL | N2: TOTAL
A3: 01030000000010
A4: 01030000000011 | B4: (CIFRAS EN PESOS)
A5: 01030000000012
A6: 01030000000000 | B6: SALDOS AL 31 DE DICIEMBRE DE 2021 | C6: 0 | E6: 0 | F6: 0 | G6: 0 | H6: 0 | M6: 0 | N6: =SUM(C6:M6) -> 0
A7: 01030001000000 | B7: APLICACION DE LA UTILIDAD DEL EJERCICIO 2021 | H7: 0 | K7: 0 | N7: 0
A8: 01030002000000 | B8: AUMENTO O DISMINUCION DEL CAPITAL SOCIAL | C8: 0 | E8: 0 | N8: =SUM(C8:M8) -> 0
A9: 01030003000000 | B9: DIVIDENDOS PAGADOS | N9: 0
A10: 01030004000000 | B10: UTILIDAD NETA DE 2022 | H10: =+'ANEXO 1'!D226 -> 0 | N10: =SUM(C10:M10) -> 0
A11: 01030005000000 | B11: PERDIDA NETA DE 2022 | N11: 0
A12: 01030006000000 | B12: RESULTADO POR TENENCIA DE ACTIVOS NO MONETARIOS | N12: 0
A13: 01030007000000 | B13: RECOMPRA DE ACCIONES | N13: 0
A14: 01030008000000 | B14: EFECTO DE VALUACION DE EJERCICIO DE INSTRUMENTOS FINANCIEROS | N14: 0
A15: 01030009000000 | B15: EFECTO DE CONVERSION DEL EJERCICIO DE OPERACIONES EXTRANJERAS | N15: 0
A16: 01030010000000 | B16: UTILIDAD (PERDIDA) CONTABLE POR ENAJENACION DE ACCIONES | N16: 0
A17: 01030011000000 | B17: OTROS | N17: 0
A18: 01030011000010 | Q18: ANEXO 1 | R18: DIFERENCIAS
A19: 01030012000000 | B19: SALDOS AL 31 DE DICIEMBRE DE 2022 | C19: =SUM(C6:C17) -> 0 | D19: =SUM(D6:D17) -> 0 | E19: =SUM(E6:E17) -> 0 | F19: =SUM(F6:F17) -> 0 | G19: =SUM(G6:G17) -> 0 | H19: =SUM(H6:H17) -> 0 | I19: =SUM(I6:I17) -> 0 | J19: =SUM(J6:J17) -> 0 | ... M19: =SUM(M6:M17) -> 0 | N19: =SUM(N6:N18) -> 0 | Q19: =+'ANEXO 1'!D239 -> 0 | R19: =+N19-Q19 -> 0
A20: 01030013000000 | B20: APLICACION DE LA UTILIDAD DEL EJERCICIO 2022 | H20: =-H19 -> 0 | J20: =+H19 -> 0 | N20: =SUM(C20:M20) -> 0
A21: 01030014000000 | B21: AUMENTO O DISMINUCION DEL CAPITAL SOCIAL | N21: =SUM(C21:M21) -> 0
A22: 01030015000000 | B22: DIVIDENDOS PAGADOS | N22: =SUM(C22:M22) -> 0
A23: 01030016000000 | B23: UTILIDAD NETA DE 2023 | H23: ='ANEXO 1'!C226 -> 0 | N23: =SUM(C23:M23) -> 0
A24: 01030017000000 | B24: PERDIDA NETA DE 2023 | N24: =SUM(C24:M24) -> 0
A25: 01030018000000 | B25: RESULTADO POR TENENCIA DE ACTIVOS NO MONETARIOS | N25: =SUM(C25:M25) -> 0
A26: 01030019000000 | B26: RECOMPRA DE ACCIONES | N26: =SUM(C26:M26) -> 0
A27: 01030020000000 | B27: EFECTO DE VALUACION DE EJERCICIO DE INSTRUMENTOS FINANCIEROS | N27: =SUM(C27:M27) -> 0
A28: 01030021000000 | B28: EFECTO DE CONVERSION DEL EJERCICIO DE OPERACIONES EXTRANJERAS | N28: =SUM(C28:M28) -> 0
A29: 01030022000000 | B29: UTILIDAD (PERDIDA) CONTABLE POR ENAJENACION DE ACCIONES | N29: =SUM(C29:M29) -> 0
A30: 01030023000000 | B30: OTROS | N30: =SUM(C30:M30) -> 0
A31: 01030023000010 | Q31: Anexo 1 | R31: DIFERENCIA
A32: 01030024000000 | B32: SALDOS AL 31 DE DICIEMBRE DE 2023 | C32: =SUM(C19:C30) -> 0 | D32: =SUM(D19:D30) -> 0 | E32: =SUM(E19:E30) -> 0 | F32: =SUM(F19:F30) -> 0 | G32: =SUM(G19:G30) -> 0 | H32: =SUM(H19:H30) -> 0 | I32: =SUM(I19:I30) -> 0 | J32: =SUM(J19:J30) -> 0 | ... N32: =SUM(N19:N30) -> 0 | Q32: =+'ANEXO 1'!C239 -> 0 | R32: =+N32-Q32 -> 0
A33: 01030024000010
A34: 01030024000011 | B34: LAS NOTAS ADJUNTAS SON PARTE INTEGRANTE DE ESTE ESTADO FINANCIERO
C37: ='ANEXO 1'!C221 -> 0 | E37: ='ANEXO 1'!C223 -> 0 | F37: ='ANEXO 1'!C224 -> 0 | G37: ='ANEXO 1'!C225 -> 0 | H37: ='ANEXO 1'!C226 -> 0 | I37: ='ANEXO 1'!C227 -> 0 | J37: ='ANEXO 1'!C228 -> 0 | K37: ='ANEXO 1'!C229 -> 0 | L37: ='ANEXO 1'!C230-'ANEXO 1'!C231 -> 0 | M37: ='ANEXO 1'!C236-'ANEXO 1'!C237 -> 0
C38: =C32+D32+G32-C37 -> 0 | E38: =E32-E37 -> 0 | F38: =F32-F37 -> 0 | G38: =G32-G37 -> 0 | H38: =H32-H37 -> 0 | I38: =I32-I37 -> 0 | J38: =J32-J37 -> 0 | K38: =K32-K37 -> 0 | L38: =L32+L37 -> 0 | M38: =M32-M37 -> 0

Sheet ANEXO 4
B1: 4.- ESTADO DE FLUJOS DE EFECTIVO
A2: INDICE | B2: CONCEPTO | C2: 205 | D2: 2024
A3: 01040000000010
A4: 01040000000011 | B4: (CIFRAS EN PESOS)
A5: 01040000000012
A6: 01040000000013 | B6: CONFORME AL METODO INDIRECTO
A7: 01040000000014 | B7: ACTIVIDADES DE OPERACION
A8: 01040000000015
A9: 01040000000000 | B9: UTILIDAD ANTES DE IMPUESTOS A LA UTILIDAD | C9: =IF(Generales!C36="SI",TRUNC('ANEXO 2'!C61,0),0) -> 0 | D9: 0
A10: 01040001000000 | B10: PERDIDA ANTES DE IMPUESTOS A LA UTILIDAD | C10: =IF(Generales!C36="SI",TRUNC('ANEXO 2'!C60,0),0) -> 0 | D10: 0
A11: 01040001000010
A12: 01040001000011 | B12: PARTIDAS RELACIONADAS CON
A13: 01040001000012 | B13: ACTIVIDADES DE INVERSION
A14: 01040001000013
A15: 01040002000000 | B15: DEPRECIACIONES Y AMORTIZACIONES | C15: ='ANEXO 7'!I60+'ANEXO 7'!I64 -> 0 | D15: 0
A16: 01040003000000 | B16: PERDIDA POR DETERIORO DE ACTIVOS | C16: 0 | D16: 0
A17: 01040004000000 | B17: UTILIDAD POR VENTA DE ACTIVO FIJO Y TERRENO | C17: 0 | D17: 0
A18: 01040005000000 | B18: INTERESES A FAVOR | C18: =IF(Generales!C36="SI",-TRUNC('ANEXO - 8'!C20,0),0) -> 0 | D18: 0
A19: 01040006000000 | B19: DIVIDENDOS COBRADOS | C19: =IF(Generales!C36="SI",-TRUNC('ANEXO 5'!G33+'ANEXO 5'!G34,0),0) -> 0 | D19: 0
A20: 01040007000000 | B20: OTRAS PARTIDAS RELACIONADAS CON ACTIVIDADES DE INVERSION
A21: 01040007000010
A22: 01040008000000 | B22: SUMA DE PARTIDAS RELACIONADAS CON ACTIVIDADES DE INVERSION | C22: =TRUNC(SUM(C15:C19)+C20,0) -> 0 | D22: =TRUNC(SUM(D15:D19)+D20,0) -> 0
A23: 01040008000010
A24: 01040008000011 | B24: PARTIDAS RELACIONADAS CON ACTIVIDADES DE FINANCIAMIENTO
A25: 01040008000012
A26: 01040009000000 | B26: INTERESES A CARGO | C26: =IF(Generales!C36="SI",TRUNC('ANEXO - 8'!C36,0),0)*-1 -> 0 | D26: 0
A27: 01040010000000 | B27: OTRAS PARTIDAS RELACIONADAS CON ACTIVIDADES DE FINANCIAMIENTO | C27: =+'ANEXO 1'!H146+'ANEXO 1'!H154 -> 0 | D27: 0
A28: 01040010000010
A29: 01040011000000 | B29: SUMA DE PARTIDAS RELACIONADAS CON ACTIVIDADES DE FINANCIAMIENTO | C29: =TRUNC(SUM(C26:C27),0) -> 0 | D29: =TRUNC(SUM(D26:D27),0) -> 0
A30: 01040011000010
A31: 01040011000011 | B31: MAS (MENOS):
A32: 01040011000012
A33: 01040012000000 | B33: INCREMENTO EN CUENTAS POR COBRAR Y OTROS | C33: =IF(Generales!C36="SI",TRUNC('ANEXO 1'!D30-'ANEXO 1'!C30+'ANEXO 1'!D48-'ANEXO 1'!C48+'ANEXO 1'!D50-'ANEXO 1'!C50+'ANEXO 1'!D52-'ANEXO 1'!C52+'ANEXO 1'!D62-'ANEXO 1'!C62+'ANEXO 1'!D68-'ANEXO 1'!C68+'ANEXO 1'!D73-'ANEXO 1'!C73,0),0) -> 0 | D33: 0
A34: 01040013000000 | B34: DISMINUCION EN INVENTARIOS | C34: =IF(Generales!C36="SI",TRUNC('ANEXO 1'!D40-'ANEXO 1'!C40,0),0) -> 0 | D34: 0
A35: 01040014000000 | B35: DISMINUCION EN PROVEEDORES | C35: =IF(Generales!C36="SI",TRUNC('ANEXO 1'!C154-'ANEXO 1'!D154,0),0) -> 0 | D35: 0
A36: 01040015000000 | B36: IMPUESTO SOBRE LA RENTA PAGADO | C36: =IF(Generales!C36="SI",TRUNC('ANEXO 2'!C67,0),0)*-1 -> 0 | D36: 0
A37: 01040016000000 | B37: IMPUESTO EMPRESARIAL A TASA UNICA PAGADO | C37: =IF(Generales!C36="SI",TRUNC('ANEXO 2'!C68,0),0) -> 0 | D37: 0
A38: 01040017000000 | B38: OTRAS PARTIDAS | C38: =SUM(C39:C39) -> 0 | D38: =SUM(D39:D39) -> 0
A39: 01040017000100 | B39: OTRAS DEUDAS POR PAGAR | C39: ='ANEXO 1'!C142-'ANEXO 1'!D142+'ANEXO 1'!C148-'ANEXO 1'!D148+'ANEXO 1'!C170-'ANEXO 1'!D170+'ANEXO 1'!C182-'ANEXO 1'!D182+'ANEXO 1'!C184-'ANEXO 1'!D184+'ANEXO 1'!C216-'ANEXO 1'!D216 -> 0 | D39: 0
A40: 01040017000010
...

Sheet ANEXO 5
B1: 5.- INTEGRACION ANALITICA DE VENTAS O INGRESOS NETOS
A2: INDICE | B2: CONCEPTO | C2: 2025 OPERATIVOS O PROPIOS DE LA_x000D_ ACTIVIDAD | D2: 2025 NO OPERATIVOS_x000D_ (OTROS INGRESOS) | E2: 2024 OPERATIVOS O PROPIOS DE LA ACTIVIDAD | F2: 2024 NO OPERATIVOS (OTROS INGRESOS) | G2: 2025 TOTAL | H2: 2024 TOTAL
A3: 01050000000010
A4: 01050000000011 | B4: (CIFRAS EN PESOS)
A5: 01050000000012
A6: 01050000000000 | B6: VENTAS TOTALES A NACIONALES DE INVENTARIOS PRODUCIDOS | C6: =-VLOOKUP(A6,ResBal,8,FALSE)-D6 -> 0 | G6: =C6+D6 -> 0
A7: 01050001000000 | B7: VENTAS TOTALES AL EXTRANJERO DE INVENTARIOS PRODUCIDOS | C7: =-VLOOKUP(A7,ResBal,8,FALSE)-D7 -> 0 | E7: 0 | G7: =C7+D7 -> 0 | H7: 0
A8: 01050002000000 | B8: TOTAL DE VENTAS DE INVENTARIOS PRODUCIDOS | C8: =TRUNC(SUM(C6:C7),0) -> 0 | D8: =TRUNC(SUM(D6:D7),0) -> 0 | F8: 0 | G8: =C8+E8 -> 0
A9: 01050002000010
A10: 01050003000000 | B10: VENTAS TOTALES A NACIONALES DE INVENTARIOS ADQUIRIDOS PARA SU DISTRIBUCION | C10: =-VLOOKUP(A10,ResBal,8,FALSE)-D10 -> 0 | E10: 0 | G10: =C10+D10 -> 0 | H10: 0
A11: 01050004000000 | B11: VENTAS TOTALES AL EXTRANJERO DE INVENTARIOS ADQUIRIDOS PARA SU DISTRIBUCION | C11: =-VLOOKUP(A11,ResBal,8,FALSE)-D11 -> 0 | E11: 0 | G11: =C11+D11 -> 0 | H11: 0
A12: 01050005000000 | B12: TOTAL DE VENTAS DE INVENTARIOS PARA SU DISTRIBUCION | C12: =TRUNC(SUM(C10:C11),0) -> 0 | D12: =TRUNC(SUM(D10:D11),0) -> 0 | E12: 0 | F12: 0 | G12: =C12+D12 -> 0 | H12: 0
A13: 01050005000010
A14: 01050006000000 | B14: DEVOLUCIONES, REBAJAS Y BONIFICACIONES SOBRE VENTAS NACIONALES | C14: =VLOOKUP(A14,ResBal,8,FALSE)-D14 -> 0 | G14: =C14+D14 -> 0
A15: 01050007000000 | B15: DEVOLUCIONES, REBAJAS Y BONIFICACIONES SOBRE VENTAS AL EXTRANJERO | C15: =VLOOKUP(A15,ResBal,8,FALSE)-D15 -> 0 | E15: 0 | G15: =C15+D15 -> 0 | H15: 0
A16: 01050007000010 | G16: =C16+D16 -> 0
A17: 01050008000000 | B17: VENTAS NETAS | C17: =TRUNC(C8+C12-C14-C15,0) -> 0 | D17: =TRUNC(D8+D12-D14-D15,0) -> 0 | F17: 0 | G17: =C17+D17 -> 0
A18: 01050008000010 | G18: =C18+D18 -> 0
A19: 01050008000011 | B19: INGRESOS NETOS POR: | G19: =C19+D19 -> 0
A20: 01050008000012 | G20: =C20+D20 -> 0
A21: 01050009000000 | B21: SERVICIOS EN GENERAL | C21: =-VLOOKUP(A21,ResBal,8,FALSE)-D21 -> 0 | E21: 0 | G21: =C21+D21 -> 0 | H21: 0
A22: 01050010000000 | B22: MAQUILA | C22: =-VLOOKUP(A22,ResBal,8,FALSE)-D22 -> 0 | E22: 0 | G22: =C22+D22 -> 0 | H22: 0
A23: 01050011000000 | B23: SERVICIOS ADMINISTRATIVOS | C23: =-VLOOKUP(A23,ResBal,8,FALSE)-D23 -> 0 | E23: 0 | G23: =C23+D23 -> 0 | H23: 0
A24: 01050012000000 | B24: SEGUROS Y REASEGUROS | C24: =-VLOOKUP(A24,ResBal,8,FALSE)-D24 -> 0 | E24: 0 | G24: =C24+D24 -> 0 | H24: 0
A25: 01050013000000 | B25: COMISIONES | C25: =-VLOOKUP(A25,ResBal,8,FALSE)-D25 -> 0 | E25: 0 | G25: =C25+D25 -> 0 | H25: 0
A26: 01050014000000 | B26: REGALIAS | C26: =-VLOOKUP(A26,ResBal,8,FALSE)-D26 -> 0 | E26: 0 | G26: =C26+D26 -> 0 | H26: 0
A27: 01050015000000 | B27: ASISTENCIA TECNICA | C27: =-VLOOKUP(A27,ResBal,8,FALSE)-D27 -> 0 | E27: 0 | G27: =C27+D27 -> 0 | H27: 0
A28: 01050016000000 | B28: ARRENDAMIENTO | C28: =-VLOOKUP(A28,ResBal,8,FALSE)-D28 -> 0 | E28: 0 | G28: =C28+D28 -> 0 | H28: 0
A29: 01050017000000 | B29: GANANCIA EN ENAJENACION DE ACCIONES | C29: =-VLOOKUP(A29,ResBal,8,FALSE)-D29 -> 0 | E29: 0 | G29: =C29+D29 -> 0 | H29: 0
A30: 01050018000000 | B30: UTILIDAD EN VENTA DE ACTIVO FIJO | C30: =-VLOOKUP(A30,ResBal,8,FALSE)-D30 -> 0 | E30: 0 | G30: =C30+D30 -> 0 | H30: 0
A31: 01050019000000 | B31: RECUPERACION DE CUENTAS INCOBRABLES | C31: =-VLOOKUP(A31,ResBal,8,FALSE)-D31 -> 0 | E31: 0 | G31: =C31+D31 -> 0 | H31: 0
A32: 01050020000000 | B32: RECUPERACION POR SEGUROS | C32: =-VLOOKUP(A32,ResBal,8,FALSE)-D32 -> 0 | E32: 0 | G32: =C32+D32 -> 0 | H32: 0
... A34: 01050022000000 | B34: DIVIDENDOS PROVENIENTES DE RESIDENTES EN EL EXTRANJERO | C34: =-VLOOKUP(A34,ResBal,8,FALSE)-D34 -> 0 | E34: 0 | G34: =C34+D34 -> 0 | H34: 0
A35: 01050023000000 | B35: OTROS | C35: =SUM(C36:C36) -> 0 | D35: =SUM(D36:D36) -> 0 | E35: 1 | G35: =C35+D35 -> 0
A36: 01050023000100 | B36: OTROS | C36: =-VLOOKUP(A36,ResBal,8,FALSE) -> 0 | D36: 0 | E36: 1 | G36: =C36+D36 -> 0
A37: 01050024000000 | B37: TOTAL DE INGRESOS NETOS | C37: =TRUNC(SUM(C21:C34)+C35,0) -> 0 | D37: =TRUNC(SUM(D21:D34)+D35,0) -> 0 | E37: 1 | G37: =C37+D37 -> 0
A38: 01050024000010
A39: 01050025000000 | B39: TOTAL DE VENTAS E INGRESOS NETOS | C39: =TRUNC(C17+C37,0) -> 0 | D39: =TRUNC(D17+D37,0) -> 0 | G39: =C39+D39 -> 0
A40: 01050025000010
A41: 01050026000000 | B41: AJUSTE POR ACTUALIZACION
...

Sheet ANEXO 6
B1: 6.- DETERMINACION DEL COSTO DE LO VENDIDO PARA EFECTOS CONTABLES Y DEL IMPUESTO SOBRE LA RENTA
A2: INDICE | B2: CONCEPTO | C2: =+'ANEXO 2'!C_85 -> 2025 | D2: =+'ANEXO 2'!C_1 -> 2024
A3: 01060000000010
A4: 01060000000011 | B4: (CIFRAS EN PESOS)
A5: 01060000000012 | B5: NOTA: SOLAMENTE SE CAPTURA LA INFORMACIÓN DE ESTE ANEXO CUANDO SE HAYA ELEGIDO ALGUN TIPO DE COSTO EN EL INDICE "01D017000" DEL ANEXO DE DATOS GENERALES
A6: 01060000000013
A7: 01060000000014 | B7: CONFORME AL SISTEMA DE COSTEO DIRECTO, PARA EFECTOS FISCALES, SOBRE LA BASE DE COSTOS HISTORICOS
A8: 01060000000015
A9: 01060000000000 | B9: INVENTARIO INICIAL DE MATERIA PRIMA | C9: 0 | D9: 0
A10: 01060000000010
A11: 01060000000011 | B11: MAS:
A12: 01060000000012
A13: 01060001000000 | B13: COMPRAS DE MATERIA PRIMA | C13: 0 | D13: 0
A14: 01060001000010
A15: 01060001000011 | B15: MENOS:
A16: 01060001000012
A17: 01060002000000 | B17: INVENTARIO FINAL DE MATERIA PRIMA | C17: 0 | D17: 0
A18: 01060003000000 | B18: MATERIA PRIMA UTILIZADA PARA LA PRODUCCION | C18: =TRUNC(C9+C13-C17,0) -> 0 | D18: 0
A19: 01060003000010
A20: 01060003000011 | B20: MAS:
A21: 01060003000012
A22: 01060004000000 | B22: MANO DE OBRA | C22: =VLOOKUP(A22,ResBal,8,FALSE) -> 0 | D22: 0
A23: 01060005000000 | B23: GASTOS DE FABRICACION | C23: =IF(Generales!C29="SI",TRUNC('ANEXO 7'!C116,0),0) -> 0 | D23: 0
A24: 01060005000010
A25: 01060006000000 | B25: COSTO DE PRODUCCION | C25: =TRUNC(C18+C22+C23,0) -> 0 | D25: 0
A26: 01060006000010
A27: 01060006000011 | B27: MAS:
A28: 01060006000012
A29: 01060007000000 | B29: INVENTARIO INICIAL DE PRODUCCION EN PROCESO | C29: =VLOOKUP(A29,ResBal,8,FALSE) -> 0 | D29: 0
A30: 01060008000000 | B30: COMPRAS DE PRODUCCION EN PROCESO | C30: =VLOOKUP(A30,ResBal,8,FALSE) -> 0 | D30: 0
A31: 01060008000010
A32: 01060008000011 | B32: MENOS:
A33: 01060008000012
A34: 01060009000000 | B34: INVENTARIO FINAL DE PRODUCCION EN PROCESO | C34: =-VLOOKUP(A34,ResBal,8,FALSE) -> 0 | D34: 0
A35: 01060009000010
A36: 01060010000000 | B36: COSTO DE PRODUCCION TERMINADA | C36: =TRUNC(C25+C29+C30-C34,0) -> 0 | D36: 0
A37: 01060010000010
A38: 01060010000011 | B38: MAS:
A39: 01060010000012
A40: 01060011000000 | B40: INVENTARIO INICIAL DE PRODUCTOS TERMINADOS | C40: =VLOOKUP(A40,ResBal,8,FALSE) -> 0 | D40: 0
...

Sheet ANEXO 7
B1: 7.- ANALISIS COMPARATIVO DE LAS SUBCUENTAS DE GASTOS
A2: INDICE | B2: CONCEPTO | C2: GASTOS DE FABRICACION 2025 | D2: GASTOS DE FABRICACION 2024 | E2: GASTOS DE VENTA 2025 | F2: GASTOS DE VENTA 2024 | G2: GASTOS DE ADMINISTRACION 2025 | H2: GASTOS DE ADMINISTRACION 2024 | I2: GASTOS GENERALES 2025 | J2: GASTOS GENERALES 2024 | K2: TOTAL 2025 | L2: TOTAL 2024 | M2: TOTAL DEDUCIBLES_x000D_ PARA ISR 2025 | N2: TOTAL DEDUCIBLES PARA ISR 2024 | O2: TOTAL NO_x000D_ DEDUCIBLES_x000D_ PARA ISR 2025 | P2: TOTAL NO DEDUCIBLES PARA ISR 2025
A3: 01070000000010
A4: 01070000000011 | B4: (CIFRAS EN PESOS)
A5: 01070000000012
A6: 01070000000013 | B6: REMUNERACIONES
A7: 01070000000014
A8: 01070000000000 | B8: SUELDOS Y SALARIOS | C8: =VLOOKUP($A8,ResBal,4,FALSE) -> 0 | D8: 0 | E8: =VLOOKUP($A8,ResBal,5,FALSE) -> 0 | F8: 0 | G8: =VLOOKUP($A8,ResBal,6,FALSE) -> 0 | H8: 0 | I8: =VLOOKUP($A8,ResBal,7,FALSE) -> 0 | J8: 0 | K8: =TRUNC(C8+E8+G8+I8,0) -> 0 | L8: =+F8+H8+J8 -> 0 | M8: =K8-O8 -> 0 | N8: =+L8 -> 0
A9: 01070001000000 | B9: COMPENSACIONES | C9: =VLOOKUP($A9,ResBal,4,FALSE) -> 0 | E9: =VLOOKUP($A9,ResBal,5,FALSE) -> 0 | G9: =VLOOKUP($A9,ResBal,6,FALSE) -> 0 | H9: 0 | I9: =VLOOKUP($A9,ResBal,7,FALSE) -> 0 | J9: 0 | K9: =TRUNC(C9+E9+G9+I9,0) -> 0 | L9: =+F9+H9+J9 -> 0 | M9: =K9-O9 -> 0 | N9: =+L9 -> 0
A10: 01070002000000 | B10: HORAS EXTRAS | C10: =VLOOKUP($A10,ResBal,4,FALSE) -> 0 | E10: =VLOOKUP($A10,ResBal,5,FALSE) -> 0 | G10: =VLOOKUP($A10,ResBal,6,FALSE) -> 0 | H10: 0 | I10: =VLOOKUP($A10,ResBal,7,FALSE) -> 0 | J10: 0 | K10: =TRUNC(C10+E10+G10+I10,0) -> 0 | L10: =+F10+H10+J10 -> 0 | M10: =K10-O10 -> 0 | N10: =+L10 -> 0
A11: 01070003000000 | B11: VACACIONES | C11: =VLOOKUP($A11,ResBal,4,FALSE) -> 0 | E11: =VLOOKUP($A11,ResBal,5,FALSE) -> 0 | G11: =VLOOKUP($A11,ResBal,6,FALSE) -> 0 | H11: 0 | I11: =VLOOKUP($A11,ResBal,7,FALSE) -> 0 | J11: 0 | K11: =TRUNC(C11+E11+G11+I11,0) -> 0 | L11: =+F11+H11+J11 -> 0 | M11: =K11-O11 -> 0 | N11: =+L11 -> 0
A12: 01070004000000 | B12: PRIMA VACACIONAL | C12: =VLOOKUP($A12,ResBal,4,FALSE) -> 0 | E12: =VLOOKUP($A12,ResBal,5,FALSE) -> 0 | G12: =VLOOKUP($A12,ResBal,6,FALSE) -> 0 | H12: 0 | I12: =VLOOKUP($A12,ResBal,7,FALSE) -> 0 | J12: 0 | K12: =TRUNC(C12+E12+G12+I12,0) -> 0 | L12: =+F12+H12+J12 -> 0 | M12: =K12-O12 -> 0 | N12: =+L12 -> 0
A13: 01070005000000 | B13: GRATIFICACIONES | C13: =VLOOKUP($A13,ResBal,4,FALSE) -> 0 | E13: =VLOOKUP($A13,ResBal,5,FALSE) -> 0 | G13: =VLOOKUP($A13,ResBal,6,FALSE) -> 0 | H13: 0 | I13: =VLOOKUP($A13,ResBal,7,FALSE) -> 0 | J13: 0 | K13: =TRUNC(C13+E13+G13+I13,0) -> 0 | L13: =+F13+H13+J13 -> 0 | M13: =K13-O13 -> 0 | N13: =+L13 -> 0
A14: 01070006000000 | B14: INDEMNIZACIONES | C14: =VLOOKUP($A14,ResBal,4,FALSE) -> 0 | E14: =VLOOKUP($A14,ResBal,5,FALSE) -> 0 | G14: =VLOOKUP($A14,ResBal,6,FALSE) -> 0 | H14: 0 | I14: =VLOOKUP($A14,ResBal,7,FALSE) -> 0 | J14: 0 | K14: =TRUNC(C14+E14+G14+I14,0) -> 0 | L14: =+F14+H14+J14 -> 0 | M14: =K14-O14 -> 0 | N14: =+L14 -> 0 | O14: 0 | P14: 0
A15: 01070007000000 | B15: OTRAS REMUNERACIONES (PTU causada) | G15: =VLOOKUP($A15,ResBal,6,FALSE) -> 0 | I15: =VLOOKUP($A15,ResBal,7,FALSE) -> 0 | K15: =TRUNC(C15+E15+G15+I15,0) -> 0 | L15: =+F15+H15+J15 -> 0 | M15: =TRUNC(E15+G15+I15+K15,0) -> 0 | N15: =+L15 -> 0
A16: 01070007000010
A17: 01070008000000 | B17: TOTAL DE REMUNERACIONES | C17: =TRUNC(SUM(C8:C14)+C15,0) -> 0 | D17: =TRUNC(SUM(D8:D14)+D15,0) -> 0 | E17: =TRUNC(SUM(E8:E14)+E15,0) -> 0 | F17: =TRUNC(SUM(F8:F14)+F15,0) -> 0 | G17: =TRUNC(SUM(G8:G14)+G15,0) -> 0 | H17: =TRUNC(SUM(H8:H14)+H15,0) -> 0 | I17: =TRUNC(SUM(I8:I14)+I15,0) -> 0 | K17: =TRUNC(SUM(K8:K14)+K15,0) -> 0 | L17: =TRUNC(SUM(L8:L14)+L15,0) -> 0 | M17: =TRUNC(SUM(M8:M14)+M15,0) -> 0 | N17: =TRUNC(SUM(N8:N14)+N15,0) -> 0 | O17: =TRUNC(SUM(O8:O14)+O15,0) -> 0 | P17: =TRUNC(SUM(P8:P14)+P15,0) -> 0
A18: 01070008000010
A19: 01070008000011 | B19: PRESTACIONES AL PERSONAL
A20: 01070008000012
A21: 01070009000000 | B21: PRESTACIONES DE RETIRO | C21: =VLOOKUP($A21,ResBal,4,FALSE) -> 0 | D21: 0 | E21: =VLOOKUP($A21,ResBal,5,FALSE) -> 0 | F21: 0 | G21: =VLOOKUP($A21,ResBal,6,FALSE) -> 0 | H21: 0 | I21: =VLOOKUP($A21,ResBal,7,FALSE) -> 0 | K21: =TRUNC(C21+E21+G21+I21,0) -> 0 | L21: =+F21+H21+J21 -> 0 | M21: =K21-O21 -> 0 | N21: =+L21 -> 0
A22: 01070010000000 | B22: ESTIMULOS AL PERSONAL | C22: =VLOOKUP($A22,ResBal,4,FALSE) -> 0 | E22: =VLOOKUP($A22,ResBal,5,FALSE) -> 0 | G22: =VLOOKUP($A22,ResBal,6,FALSE) -> 0 | I22: =VLOOKUP($A22,ResBal,7,FALSE) -> 0 | K22: =TRUNC(C22+E22+G22+I22,0) -> 0 | L22: =+F22+H22+J22 -> 0 | M22: =K22-O22 -> 0 | N22: =+L22 -> 0
A23: 01070011000000 | B23: PREVISION SOCIAL | C23: =VLOOKUP($A23,ResBal,4,FALSE) -> 0 | E23: =VLOOKUP($A23,ResBal,5,FALSE) -> 0 | G23: =VLOOKUP($A23,ResBal,6,FALSE) -> 0 | I23: =VLOOKUP($A23,ResBal,7,FALSE) -> 0 | K23: =TRUNC(C23+E23+G23+I23,0) -> 0 | L23: =+F23+H23+J23 -> 0 | M23: =K23-O23 -> 0 | N23: =+L23 -> 0
A24: 01070012000000 | B24: APORTACIONES PARA PLAN DE JUBILACION | C24: =VLOOKUP($A24,ResBal,4,FALSE) -> 0 | E24: =VLOOKUP($A24,ResBal,5,FALSE) -> 0 | G24: =VLOOKUP($A24,ResBal,6,FALSE) -> 0 | I24: =VLOOKUP($A24,ResBal,7,FALSE) -> 0 | K24: =TRUNC(C24+E24+G24+I24,0) -> 0 | L24: =+F24+H24+J24 -> 0 | M24: =K24-O24 -> 0 | N24: =+L24 -> 0
A25: 01070019000100 | B25: OTROS IMPUESTOS Y APORTACIONES DEFINIR | C25: =VLOOKUP($A25,ResBal,4,FALSE) -> 0 | E25: =VLOOKUP($A25,ResBal,5,FALSE) -> 0 | G25: =VLOOKUP($A25,ResBal,6,FALSE) -> 0 | I25: =VLOOKUP($A25,ResBal,7,FALSE) -> 0 | K25: =TRUNC(C25+E25+G25+I25,0) -> 0 | L25: =+F25+H25+J25 -> 0 | M25: =K25-O25 -> 0 | N25: =+L25 -> 0
A26: 01070013000000 | B26: OTRAS PRESTACIONES | G26: 0
A27: 01070013000010
A28: 01070014000000 | B28: TOTAL DE PRESTACIONES AL PERSONAL | C28: =TRUNC(SUM(C21:C24)+C26,0) -> 0 | D28: =TRUNC(SUM(D21:D24)+D26,0) -> 0 | E28: =TRUNC(SUM(E21:E24)+E26,0) -> 0 | F28: =TRUNC(SUM(F21:F24)+F26,0) -> 0 | G28: =TRUNC(SUM(G21:G24)+G26,0) -> 0 | H28: =TRUNC(SUM(H21:H24)+H26,0) -> 0 | I28: =TRUNC(SUM(I21:I25)+I26,0) -> 0 | K28: =TRUNC(SUM(K21:K25)+K26,0) -> 0 | M28: =TRUNC(SUM(M21:M25)+M26,0) -> 0 | N28: =+L28 -> 0 | O28: =TRUNC(SUM(O21:O24)+O26,0) -> 0 | P28: 0
A29: 01070014000010
A30: 01070014000011 | B30: IMPUESTOS Y APORTACIONES SOBRE SUELDOS Y SALARIOS
A31: 01070014000012
A32: 01070015000000 | B32: CUOTAS AL I.M.S.S. | C32: =VLOOKUP($A32,ResBal,4,FALSE) -> 0 | D32: 0 | E32: =VLOOKUP($A32,ResBal,5,FALSE) -> 0 | F32: 0 | G32: =VLOOKUP($A32,ResBal,6,FALSE) -> 0 | I32: =VLOOKUP($A32,ResBal,7,FALSE) -> 0 | K32: =TRUNC(C32+E32+G32+I32,0) -> 0 | L32: =+F32+H32+J32 -> 0 | M32: =K32-O32 -> 0 | N32: =+L32 -> 0
A33: 01070016000000 | B33: APORTACIONES AL INFONAVIT | C33: =VLOOKUP($A33,ResBal,4,FALSE) -> 0 | E33: =VLOOKUP($A33,ResBal,5,FALSE) -> 0 | G33: =VLOOKUP($A33,ResBal,6,FALSE) -> 0 | I33: =VLOOKUP($A33,ResBal,7,FALSE) -> 0 | K33: =TRUNC(C33+E33+G33+I33,0) -> 0 | L33: =+F33+H33+J33 -> 0 | M33: =K33-O33 -> 0 | N33: =+L33 -> 0
A34: 01070017000000 | B34: IMPUESTO SOBRE NOMINAS | C34: =VLOOKUP($A34,ResBal,4,FALSE) -> 0 | E34: =VLOOKUP($A34,ResBal,5,FALSE) -> 0 | G34: =VLOOKUP($A34,ResBal,6,FALSE) -> 0 | I34: =VLOOKUP($A34,ResBal,7,FALSE) -> 0 | K34: =TRUNC(C34+E34+G34+I34,0) -> 0 | L34: =+F34+H34+J34 -> 0 | M34: =K34-O34 -> 0 | N34: =+L34 -> 0
A35: 01070018000000 | B35: SEGURO DE RETIRO | C35: =VLOOKUP($A35,ResBal,4,FALSE) -> 0 | E35: =VLOOKUP($A35,ResBal,5,FALSE) -> 0 | G35: =VLOOKUP($A35,ResBal,6,FALSE) -> 0 | I35: =VLOOKUP($A35,ResBal,7,FALSE) -> 0 | K35: =TRUNC(C35+E35+G35+I35,0) -> 0 | L35: =+F35+H35+J35 -> 0 | M35: =K35-O35 -> 0 | N35: =+L35 -> 0
A36: 01070019000000 | B36: OTROS IMPUESTOS Y APORTACIONES
A37: 01070019000010
A38: 01070020000000 | B38: TOTAL DE IMPUESTOS Y APORTACIONES SOBRE SUELDOS Y SALARIOS | C38: =TRUNC(SUM(C32:C35)+C36,0) -> 0 | D38: =TRUNC(SUM(D32:D35)+D36,0) -> 0 | E38: =TRUNC(SUM(E32:E35)+E36,0) -> 0 | F38: =TRUNC(SUM(F32:F35)+F36,0) -> 0 | G38: =TRUNC(SUM(G32:G35)+G36,0) -> 0 | H38: =TRUNC(SUM(H32:H35)+H36,0) -> 0 | I38: =TRUNC(SUM(I32:I35)+I36,0) -> 0 | K38: =TRUNC(SUM(K32:K35)+K36,0) -> 0 | L38: =TRUNC(SUM(L32:L35)+L36,0) -> 0 | M38: =TRUNC(SUM(M32:M35)+M36,0) -> 0 | N38: =TRUNC(SUM(N32:N35)+N36,0) -> 0 | O38: =TRUNC(SUM(O32:O35)+O36,0) -> 0 | P38: =TRUNC(SUM(P32:P35)+P36,0) -> 0
A39: 01070020000010
A40: 01070020000011 | B40: HONORARIOS
...

Sheet prueba imss
I1: R
C2: INSTITUTO MEXICANO DEL SEGURO SOCIAL
C3: DELEGACION REGIONAL ESTADO DE MEXICO PONIENTE
C4: SUBDELEGACIÓN TLALNEPANTLA DE BAZ
C6: NOMBRE O RAZON SOCIAL | D6: , S.A. DE C.V.
C7: FOLIO DE CORRECCIÓN: | D7: 0
C8: PERIODO QUE REGULARIZA: | D8: EJERCICIO | E8: 2007 | F8: PERIODO DEL: | G8: 39234 | H8: AL: | I8: 39447
C9: REGISTRO(S) PATRONAL(ES): | D9: 0
C10: 0 | L10: SUELDOS, SALARIOS Y PRESTACIONES
C11: DETERMINACION DE LA BASE DE COTIZACIÓN OMITIDA
C12: CONCEPTO | H12: IMPORTE | I12: IMPORTE | L12: 6200-01 | M12: SUELDO GTES ADMON | N12: 3148092
C13: SUELDOS Y SALARIOS REGISTRADOS EN BALANZA DE COMPROBACIÓN O AUXILIAR DE NÓMINA | H13: =+'ANEXO 7'!K17+'ANEXO 7'!K28 -> 0 | L13: 6200-02 | M13: SUELDO GTE DE DISTRITO | N13: 541633
C14: SUELDOS Y SALARIOS MANIFESTADOS EN LA DECLARACIÓN ANUAL DE ISR | L14: 6200-05 | M14: SUELDOS EJECUTIVOS | N14: 1132667
C15: BASE MAYOR | I15: =H13 -> 0 | L15: 6200-06 | M15: SUELDO GERENTE DE TIENDA | N15: 1270098
L16: 6200-07 | M16: SUELDO SUPERVISORES | N16: 771910
C17: MAS | L17: 6200-09 | M17: SUELDOS EMPLEADOS GENERALES | N17: 4488054
C18: VARIABLES DEL 6o. BIMESTRE DEL EJERCICIO INMEDIATO ANTERIOR | L18: 6200-10 | M18: SUELDOS ADMINISTRATIVOS | N18: 4207734
L19: 6200-13 | M19: DIA FESTIVO | N19: 228907
L20: 6200-14 | M20: AGUINALDO | N20: 720545
L21: 6200-17 | M21: PRIMA DOMINICAL | N21: 170564
C22: MENOS | I22: =SUM(H23:H40) -> 0 | L22: 6200-28 | M22: SUELDO SUBGERENTES DE TIENDA | N22: 218933
C23: VARIABLES DEL 6o. BIMESTRE DEL EJERCICIO O DEL ULTIMO BIMESTRE DEL PERIODO ADICIONAL | L23: 6200-11 | M23: COMPENSACIONES | N23: 1829767
C24: TIEMPO EXTRA DOBLE | L24: 6200-15 | M24: VACACIONES | N24: 520869
C25: FONDO DE AHORRO | L25: 6200-16 | M25: PRIMA VACACIONAL | N25: 151854
C26: DESPENSA (40% SOBRE SMGDF) | L26: 6200-18 | M26: GRATIFICACIONES | N26: 159127
C27: ALIMENTACION | L27: 7502-04 | M27: PTU | N27: 221375
C28: HABITACION | L28: 6200-21 | M28: PRIMAS DE ANTIGUEDAD | N28: 4108
C29: PTU | L29: 6200-12 | M29: BONO DE PRODUCTIVIDAD | N29: 1191209
C30: VACACIONES | H30: 0 | L30: 6200-29 | M30: SUELDO ADMINISTRATIVO TIENDA | N30: 828166
C31: DIA FESTIVO
C32: PREMIO DE ASISTENCIA | M32: TOTAL SUELDOS Y SALARIOS | N32: =SUM(N12:N31) -> 21805612
C33: PREMIO DE PUNTUALIDAD
C34: PREVISION SOCIAL | N34: =I42-N32 -> -21805612
C35: HONORARIOS PERSONAS FISICAS
C36: HONORARIOS ASIMILABLES A SALARIOS | H36: 0
C37: MAQUILAS (PERSONAS MORALES) | H37: 0
C39: EXCEDENTES DE SALARIOS TOPADO Y FINIQUITOS
C42: IGUAL A: BASE DE COTIZACION AUTODETERMINADA | I42: =+I15-I22 -> 0
C44: MENOS: BASE DE COTIZACION PAGADA | I44: =+#REF! -> #REF!
C46: IGUAL A: BASE DE COTIZACION OMITIDA | I46: =+I42-I44 -> #REF!
...

Sheet OTROS GASTOS
B1: 8.- ANALISIS COMPARATIVO DE LAS SUBCUENTAS DE OTROS GASTOS
A2: INDICE | B2: CONCEPTO | C2: 2023 | D2: 2022 | E2: DEDUCIBLES PARA ISR 2023 | F2: DEDUCIBLES PARA ISR 2022 | G2: NO DEDUCIBLES PARA ISR 2023 | H2: NO DEDUCIBLES PARA ISR 2022
A3: 01080000000010
A4: 01080000000011 | B4: (CIFRAS EN PESOS)
A5: 01080000000012
A6: 01080000000000 | B6: PERDIDA EN VENTA DE TERRENOS | C6: =TRUNC(E6+G6,0) -> 0 | D6: 0 | E6: =VLOOKUP($A6,ResBal,8,FALSE)-G6 -> 0 | F6: 0
A7: 01080001000000 | B7: PERDIDA EN VENTA DE EDIFICIOS Y CONSTRUCCIONES | C7: =TRUNC(E7+G7,0) -> 0 | D7: 0 | E7: =VLOOKUP($A7,ResBal,8,FALSE)-G7 -> 0 | F7: 0
A8: 01080002000000 | B8: PERDIDA EN VENTA DE MAQUINARIA | C8: =TRUNC(E8+G8,0) -> 0 | D8: 0 | E8: =VLOOKUP($A8,ResBal,8,FALSE)-G8 -> 0 | F8: 0
A9: 01080003000000 | B9: PERDIDA EN VENTA DE EQUIPO DE TRANSPORTE | C9: =TRUNC(E9+G9,0) -> 0 | D9: 0 | E9: =VLOOKUP($A9,ResBal,8,FALSE)-G9 -> 0 | F9: 0
A10: 01080004000000 | B10: PERDIDA EN VENTA DE MOBILIARIO Y EQUIPO | C10: =TRUNC(E10+G10,0) -> 0 | D10: 0 | E10: =VLOOKUP($A10,ResBal,8,FALSE)-G10 -> 0 | F10: 0
A11: 01080005000000 | B11: PERDIDA EN VENTA DE EQUIPO DE COMPUTO | C11: =TRUNC(E11+G11,0) -> 0 | D11: 0 | E11: =VLOOKUP($A11,ResBal,8,FALSE)-G11 -> 0 | F11: 0
A12: 01080006000000 | B12: PERDIDA EN ENAJENACION DE ACCIONES | C12: =TRUNC(E12+G12,0) -> 0 | D12: 0 | E12: =VLOOKUP($A12,ResBal,8,FALSE)-G12 -> 0 | F12: 0
A13: 01080007000000 | B13: PARTICIPACION DE LOS TRABAJADORES EN LAS UTILIDADES DETERMINADA | C13: =TRUNC(E13+G13,0) -> 0 | D13: 0 | E13: =VLOOKUP($A13,ResBal,8,FALSE)-G13 -> 0 | F13: 0
A14: 01080008000000 | B14: PARTICIPACION DE LOS TRABAJADORES EN LAS UTILIDADES DIFERIDA | C14: =TRUNC(E14+G14,0) -> 0 | D14: 0 | E14: =VLOOKUP($A14,ResBal,8,FALSE)-G14 -> 0 | F14: 0
A15: 01080009000000 | B15: PERDIDA POR DETERIORO DE ACTIVOS | C15: =TRUNC(E15+G15,0) -> 0 | D15: 0 | E15: =VLOOKUP($A15,ResBal,8,FALSE)-G15 -> 0 | F15: 0
A16: 01080010000000 | B16: OTROS
A17: 01080010000010
A18: 01080011000000 | B18: EFECTO DE REEXPRESION | C18: =TRUNC(E18+G18,0) -> 0 | D18: 0 | E18: 0 | F18: 0
A19: 01080011000010
