Workbook

Sheet Hoja1
A1: LA FCA SA DE CV
A2: DETERMINACIÓN DEL IVA EJERCICIO 2024
D4: 45292 | G4: 45323 | J4: Variación | K4: 45352 | N4: Variación | O4: 45383 | R4: Variación | S4: 45413 | V4: Variación
B5: Art. 1 | C5: Actos o actividades gravados cobrados al 16% | D5: 500000 | E5: =D5/D9 -> 0.75757576 | F5: =E5+E6 -> 0.8030303 | G5: 550000 | H5: =G5/G9 -> 0.79442803 | I5: =H5+H6 -> 0.81511493 | J5: =F5-I5 -> -0.012084629 | K5: 600000 | L5: =K5/K9 -> 0.79628401 | M5: =L5+L6 -> 0.82946251 | N5: =F5-M5 -> -0.026432205 | O5: 388809 | P5: =O5/O9 -> 0.73525413 | Q5: =P5+P6 -> 0.76929288 | R5: =Q5-F5 -> -0.03373742 | S5: 432330 | T5: =S5/S9 -> 0.85514565 | U5: =T5+T6 -> 0.89470551 | V5: =U5-F5 -> 0.091675204
A6: ( + ) | B6: Art. 2-A | C6: Actos o actividades gravados cobrados al 0% | D6: 30000 | E6: =D6/D9 -> 0.045454545 | G6: 14322 | H6: =G6/G9 -> 0.020686906 | K6: 25000 | L6: =K6/K9 -> 0.0331785 | O6: 18000 | P6: =O6/O9 -> 0.034038755 | S6: 20000 | T6: =S6/S9 -> 0.039559857
A7: ( + ) | B7: Art. 9, 15, 20,25 | C7: Actos o actividades exentas cobradas | D7: 120000 | E7: =D7/D9 -> 0.18181818 | F7: =E7+E8 -> 0.1969697 | G7: 120000 | H7: =G7/G9 -> 0.17332975 | I7: =H7+H8 -> 0.18488507 | K7: 122000 | L7: =K7/K9 -> 0.16191108 | M7: =L7+L8 -> 0.17053749 | O7: 120000 | P7: =O7/O9 -> 0.22692503 | Q7: =P7+P8 -> 0.23070712 | S7: 50000 | T7: =S7/S9 -> 0.098899643 | U7: =T7+T8 -> 0.10529449
A8: ( + ) | B8: Art. 4-A | C8: Actos no objeto | D8: 10000 | E8: =D8/D9 -> 0.015151515 | G8: 8000 | H8: =G8/G9 -> 0.011555317 | K8: 6500 | L8: =K8/K9 -> 0.0086264101 | O8: 2000 | P8: =O8/O9 -> 0.0037820839 | S8: 3233 | T8: =S8/S9 -> 0.0063948509
A9: ( =) | C9: Total de actos o actividades | D9: =SUM(D5:D8) -> 660000 | E9: =SUM(E5:E8) -> 1 | F9: =SUM(F5:F8) -> 1 | G9: =SUM(G5:G8) -> 692322 | H9: =SUM(H5:H8) -> 1 | I9: =SUM(I5:I8) -> 1 | K9: =SUM(K5:K8) -> 753500 | L9: =SUM(L5:L8) -> 1 | M9: =SUM(M5:M8) -> 1 | O9: =SUM(O5:O8) -> 528809 | P9: =SUM(P5:P8) -> 1 | Q9: =SUM(Q5:Q8) -> 1 | S9: =SUM(S5:S8) -> 505563 | T9: =SUM(T5:T8) -> 1 | U9: =SUM(U5:U8) -> 1
A10: ( * ) | B10: Art. 1 | C10: Tasa 16% | D10: =D5*0.16 -> 80000 | G10: =G5*0.16 -> 88000 | K10: =K5*0.16 -> 96000 | O10: =O5*0.16 -> 62209.44 | S10: =S5*0.16 -> 69172.8
A11: ( * ) | B11: Art. 2-A | C11: Tasa al 0% | D11: =D6*0 -> 0 | G11: =G6*0 -> 0 | K11: =K6*0 -> 0 | O11: =O6*0 -> 0 | S11: =S6*0 -> 0
A12: ( = ) A. | C12: Iva trasladado | D12: =D10+D11 -> 80000 | G12: =G10+G11 -> 88000 | K12: =K10+K11 -> 96000 | O12: =O10+O11 -> 62209.44 | S12: =S10+S11 -> 69172.8
A14: ( - ). B | B14: Art. 1-A, 5-D | C14: Iva retenido al contribuyemte | D14: 0 | G14: 0 | K14: 0 | O14: 0 | S14: 0
C16: Actos o actividades pagados al 16% | D16: 400000 | G16: 340000 | K16: 410000 | O16: 200000 | S16: 170000
A17: ( + ) | C17: Actos o actividades pagados al 0% | D17: 35000 | G17: 10000 | K17: 7655 | O17: 8029 | S17: 8200
A18: ( + ) | C18: Actos o actividades pagados exentos | D18: 110000 | G18: 75000 | K18: 65433 | O18: 40000 | S18: 3000
A19: ( + ) | C19: Actos no objeto | D19: 0 | G19: 0 | K19: 0 | O19: 0 | S19: 0
A20: ( + ) | C20: Total de actos o actividades pagados | D20: =SUM(D16:D19) -> 545000 | G20: =SUM(G16:G19) -> 425000 | K20: =SUM(K16:K19) -> 483088 | O20: =SUM(O16:O19) -> 248029 | S20: =SUM(S16:S19) -> 181200
A21: ( * ) | B21: Art. 4 | C21: Iva Acreditable al 16% | D21: =D16*0.16 -> 64000 | G21: =G16*0.16 -> 54400 | K21: =K16*0.16 -> 65600 | O21: =O16*0.16 -> 32000 | S21: =S16*0.16 -> 27200
A22: ( * ) | B22: Art. 4 | C22: Iva Acreditable al 0% | D22: =D17*0 -> 0 | G22: =G17*0 -> 0 | K22: =K17*0 -> 0 | O22: =O17*0 -> 0 | S22: =S17*0 -> 0
A23: ( - ) | B23: Art. 5, IV | C23: Iva retenido del mes | D23: =Hoja2!E7 -> 1198.2933 | G23: 1000 | K23: 1871 | O23: 1500 | S23: 1654
A24: ( + ) | B24: Art. 5, IV | C24: Iva retenido pagado en el mes anterior | D24: =Hoja2!D7 -> 1066.6667 | G24: 1200 | K24: =D23 -> 1198.2933 | O24: =G23 -> 1000 | S24: =K23 -> 1871
A25: ( =) | C25: Total IVA Acreditable | D25: =D21+D22-D23+D24 -> 63868.373 | G25: =G21+G22-G23+G24 -> 54600 | K25: =K21+K22-K23+K24 -> 64927.293 | O25: =O21+O22-O23+O24 -> 31500 | S25: =S21+S22-S23+S24 -> 27417
A26: ( * ) | C26: Proporción IVA acreditable | D26: =F5 -> 0.8030303 | G26: =I5 -> 0.81511493 | K26: =M5 -> 0.82946251 | O26: =Q5 -> 0.76929288 | S26: =U5 -> 0.89470551
A27: ( = ) | C27: Iva Acreditable determinado | D27: =D25*D26 -> 51288.239 | G27: =G25*G26 -> 44505.275 | K27: =K25*K26 -> 53854.756 | O27: =O25*O26 -> 24232.726 | S27: =S25*S26 -> 24530.141
A28: ( + ) | B28: Art. 5-A, II | C28: Iva adicionado por ajuste sobre inversiones | S28: =Hoja2!G48 -> 18.377211
A29: ( - ) | B29: Art. 5-A, I. | C29: Iva a reitegrar por ajuste sobre inversiones | O29: =Hoja2!G30 -> 6.7630033 | S29: =Hoja2!K30 -> 0
A30: ( = ) C. | C30: Iva efectivamenente acreditable | D30: =D27+D28-D29 -> 51288.239 | G30: =G27+G28-G29 -> 44505.275 | K30: =K27+K28-K29 -> 53854.756 | O30: =O27+O28-O29 -> 24225.963 | S30: =S27+S28-S29 -> 24548.518
A32: ( = ) D. (A- B-C) | C32: Iva determinado | D32: =D12-D14-D30 -> 28711.761 | G32: =G12-G14-G30 -> 43494.725 | K32: =K12-K14-K30 -> 42145.244 | O32: =O12-O14-O30 -> 37983.477 | S32: =S12-S14-S30 -> 44624.282
A34: ( - ) | B34: Art. 6 | C34: Acreditamiento de saldo a favor de periodos anteriores | D34: 12000 | G34: 0 | K34: 0 | O34: 0 | S34: 0
A36: ( = ) | B36: Art. 5-D | C36: Iva a pagar al SAT | D36: =D32-D34 -> 16711.761 | G36: =G32-G34 -> 43494.725 | K36: =K32-K34 -> 42145.244 | O36: =O32-O34 -> 37983.477 | S36: =S32-S34 -> 44624.282

Sheet Hoja2
D2: 45231 | E2: 45292
C3: HONORARIOS | D3: 10000 | E3: 11234
C4: IVA | D4: =D3*0.16 -> 1600 | E4: =E3*0.16 -> 1797.44
C5: SUBTOTAL | D5: =D3+D4 -> 11600 | E5: =E3+E4 -> 13031.44
C6: RET. 10% ISR | D6: =D3*0.1 -> 1000 | E6: =E3*0.1 -> 1123.4
C7: RET. 2/3 IVA | D7: =D4/3*2 -> 1066.6667 | E7: =E4/3*2 -> 1198.2933
C8: NETO A PAGAR | D8: =D5-D6-D7 -> 9533.3333 | E8: =E5-E6-E7 -> 10709.747
C11: COMPUTADORAS | E11: 50000
C12: IVA | E12: =E11*0.16 -> 8000
C13: TOTAL | E13: =E11+E12 -> 58000
C15: IVA PAGADO POR ADQUISICIÓN DE LAS COMPUTADORAS | G15: =E12 -> 8000
A16: ( * ) | C16: % AUTORIZADO | G16: 0.3
A17: ( = ) | B17: a) | C17: RESULADO | G17: =G15*G16 -> 2400
A18: ( / ) | C18: ENTRE | G18: 12
A19: ( = ) | B19: b) | C19: RESULTADO | G19: =G17/G18 -> 200
A20: ( * ) | C20: PROPORCIÓN ACREDITABLE MES DE ORIGEN | G20: =Hoja1!D26 -> 0.8030303
A21: ( = ) | B21: c) | C21: RESULTADO | G21: =G19*G20 -> 160.60606
A23: ( * ) | C23: PROPORCIÓN ACREDITABLE MES DEL AJUSTE | G23: =Hoja1!O26 -> 0.76929288
A24: ( = ) | B24: d) | C24: RESULTADO | G24: =G23*G19 -> 153.85858
A26: ( =) | B26: e) (c-d) | C26: MONTO DEL AJUSTE A REINTEGRAR HISTORICO | G26: =G21-G24 -> 6.7474841
A28: ( * ) | C28: FACTOR DE AJUSTE (INPC ABRIL 24/INPC ENERO 24) | G28: 1.0023
A30: ( = ) | C30: MONTO DEL AJUSTE A REINTEGRAR ACTUALIZADO | G30: =G26*G28 -> 6.7630033
C33: IVA PAGADO POR ADQUISICIÓN DE LAS COMPUTADORAS | G33: =E12 -> 8000
A34: ( * ) | C34: % AUTORIZADO | G34: 0.3
A35: ( = ) | B35: a) | C35: RESULADO | G35: =G33*G34 -> 2400
A36: ( / ) | C36: ENTRE | G36: 12
A37: ( = ) | B37: b) | C37: RESULTADO | G37: =G35/G36 -> 200
A38: ( * ) | C38: PROPORCIÓN ACREDITABLE MES DE ORIGEN (ENERO 24) | G38: =Hoja1!D26 -> 0.8030303
A39: ( = ) | B39: c) | C39: RESULTADO | G39: =G37*G38 -> 160.60606
A41: ( * ) | C41: PROPORCIÓN ACREDITABLE MES DEL AJUSTE | G41: =Hoja1!S26 -> 0.89470551
A42: ( = ) | B42: d) | C42: RESULTADO | G42: =G41*G37 -> 178.9411
A44: ( =) | B44: e) (d-c) | C44: MONTO DEL AJUSTE A ADICIONAR HISTORICO | G44: =G42-G39 -> 18.335041
A46: ( * ) | C46: FACTOR DE AJUSTE (INPC MAYO 24/INPC ENERO 24) | G46: 1.0023
A48: ( = ) | C48: MONTO DEL AJUSTE A ADICIONAR ACTUALIZADO | G48: =G44*G46 -> 18.377211
